Workbook

Sheet 填写说明
A1: 1、不同数据分类说明： 指令信息：触发设备动作的信息，比如开关机、故障复位、芯片复位等； 参考值：主要是设置电压、电流、功率等参考值 状态信息：设备运行过程中自身的状态，包括电压电流、运行模式、温度、程序执行位置等 基本参数：用于约束设备运行模式的一些参数，比如定时开关机时间、节能模式使能、CT位置等信息，这些信息会影响设备运行，但是不会直接触发设备动作； 环路控制参数：闭环控制的参数，多为浮点类型数据，主要影响设备性能，比如PID、谐振参数等，也包括限幅值参数； 保护阈值参数：用于触发保护动作的参数，比如过压过流参数等 故障数据：实际属于设备的状态信息，但是由于需要按位解析，在此单独列出来 2、更改说明 每次修改之后必须要填写修改记录，并更新地址表版本号，详见修改记录sheet
A15: 默认值、上下限支持多地址设置，例：
A16: {0, 0, 1} | E16: 两边使用花括号（英文） 值中间使用", "（英文逗号+空格）间隔
A17: 默认值、上下限支持不同设备宏定义方式，例：
A18: SVG50:{0, 1, 2}; SVG100:{3, 4, 5} | E18: 多地址复用 | F18: 不同设备使用";\n"（英文分号+回车（ALT+回车））间隔 设备名与值之间使用":"（英文冒号）间隔 设备名需是工程宏定义，且在生成工具config文件中
A19: SVG50:10; SVG100:12 | E19: 单地址复用
A21: 地址表版本管理：
A22: 1、在修改记录中填写修改信息，并填写版本号
A23: 2、使用脚本生成程序代码及APP地址表，地址表版本号显示在《通信地址表》sheet页第一行
A24: 3、使用地址表查询设备中的ARM及DSP协议版本号，位于“设备状态”-“通用信息”中

Sheet 版本号
A1: 协议号 | B1: 设备类型 | C1: 是否展示 | D1: 更新内容 | E1: 升级说明 | F1: 升级码
A2: 1.0 | B2: 7 | C2: Y | D2: 123 | E2: 配电/交采升级文件：升级配电模块 功率升级文件：升级功率模块 直流载波芯片升级文件：V1.01.10及以后ARM版本支持 交流&中继载波芯片升级：暂不支持 4G模块升级：使用4G模式登录，蓝牙登录无法升级 | F2: 106-主控部分-主控程序版本-212^213-版本号 106-功率部分-功率程序版本-4599^4600-版本号 106-载波部分-交流载波版本-250^252-版本号 106-载波部分-直流载波版本-253^255-版本号 401-4G棒部分-4G棒版本-1030^1031-版本号

Sheet 4G棒地址表
A1: 地址域 | B1: Modbus功能码 | C1: 是否多地址 | D1: 寄存器地址 | E1: 一类标题 | F1: 二类标题 | G1: 数据名 | H1: 读 | I1: 写 | J1: 数据类型 | K1: 小数位 | L1: 单位 | M1: 解析方式 | N1: 解析规则 | O1: 是否记录 | P1: 超级用户权限 | Q1: 3761FN | R1: 两两翻转 | S1: 大端模式
A2: 77 | B2: 03 | C2: Y | D2: 41219-41234 | E2: 4G棒 | F2: 运行数据 | G2: 软件版本号 | H2: Y | I2: N | J2: ASCII | K2: 0 | M2: 显示数值 | O2: N | P2: N
A3: 77 | B3: 03 | C3: Y | D3: 41547-41562 | E3: 4G棒 | F3: 运行数据 | G3: 设备型号信息 | H3: Y | I3: N | J3: ASCII | K3: 0 | M3: 显示数值 | O3: N | P3: N
A4: 77 | B4: 03 | C4: Y | D4: 41217-41218 | E4: 4G棒 | F4: 运行数据 | G4: 启动时长 | H4: Y | I4: N | J4: UINT32 | K4: 0 | L4: min | M4: 显示数值 | O4: N | P4: N
A5: 77 | B5: 03 | C5: Y | D5: 41235-41250 | E5: 4G棒 | F5: 运行数据 | G5: MES码 | H5: Y | I5: N | J5: BCD | K5: 0 | M5: 显示数值 | O5: N | P5: N
A6: 77 | B6: 03 | C6: Y | D6: 41251-41253 | E6: 4G棒 | F6: 运行数据 | G6: 当前时间 | H6: Y | I6: N | J6: STRING | K6: 0 | M6: 日期时间 | O6: N | P6: N
A7: 77 | B7: 03 | C7: N | D7: 41267 | E7: 4G棒 | F7: 运行数据 | G7: 拨号状态 | H7: Y | I7: N | J7: UINT16 | K7: 0 | M7: 枚举解析 | N7: 0-模块开机 1-模块关机 2-串口波特率探测 3-串口波特率设置 4-网络去激活 5-获取固件版本信息 6-SIM卡检查 7-获取CCID 8-获取IMEI 9-获取IMSI 10-获取MSISDN 11-获取信号强度 12-检查ps业务是否注册成功 13-参数设置 14-网络激活 15-检查拨号是否成功 16-拨号成功 17-等待重新拨号 | O7: N | P7: N
A8: 77 | B8: 03 | C8: N | D8: 41268 | E8: 4G棒 | F8: 运行数据 | G8: 信号强度 | H8: Y | I8: N | J8: UINT16 | K8: 0 | M8: 显示数值 | O8: N | P8: N
A9: 77 | B9: 03 | C9: Y | D9: 41302-41333 | E9: 4G棒 | F9: 运行数据 | G9: 模组版本号 | H9: Y | I9: N | J9: ASCII | K9: 0 | M9: 显示数值 | O9: N | P9: N
A10: 77 | B10: 03 | C10: Y | D10: 41334-41365 | E10: 4G棒 | F10: 运行数据 | G10: 模组IMEI | H10: Y | I10: N | J10: ASCII | K10: 0 | M10: 显示数值 | O10: N | P10: N
A11: 77 | B11: 03 | C11: Y | D11: 41366-41397 | E11: 4G棒 | F11: 运行数据 | G11: SIM卡号 | H11: Y | I11: N | J11: ASCII | K11: 0 | M11: 显示数值 | O11: N | P11: N
A12: 77 | B12: 03 | C12: Y | D12: 41398-41429 | E12: 4G棒 | F12: 运行数据 | G12: SIM卡ICCID | H12: Y | I12: N | J12: ASCII | K12: 0 | M12: 显示数值 | O12: N | P12: N
A13: 77 | B13: 03 | C13: Y | D13: 41430-41461 | E13: 4G棒 | F13: 运行数据 | G13: SIM卡IMSI | H13: Y | I13: N | J13: ASCII | K13: 0 | M13: 显示数值 | O13: N | P13: N
A14: 77 | B14: 03 | C14: Y | D14: 41462-41469 | E14: 4G棒 | F14: 运行数据 | G14: 无线IP地址 | H14: Y | I14: N | J14: ASCII | K14: 0 | M14: 显示数值 | O14: N | P14: N
A15: 77 | B15: 03 | C15: N | D15: 41470 | E15: 4G棒 | F15: 运行数据 | G15: 网络制式 | H15: Y | I15: N | J15: UINT16 | K15: 0 | M15: 显示数值 | O15: N | P15: N
A16: 77 | B16: 03 | C16: N | D16: 41471 | E16: 4G棒 | F16: 运行数据 | G16: MQTT1连接状态 | H16: Y | I16: N | J16: UINT16 | K16: 0 | M16: 枚举解析 | N16: 0-空闲 1-通道初始化 2-配置通道 3-网络连接 4-建立应用连接 5-数据交互 6-通道异常 | O16: N | P16: N
A17: 77 | B17: 03 | C17: Y | D17: 41472-41473 | E17: 4G棒 | F17: 运行数据 | G17: MQTT1重连次数 | H17: Y | I17: N | J17: UINT32 | K17: 0 | M17: 显示数值 | O17: N | P17: N
A18: 77 | B18: 03 | C18: Y | D18: 41474-41489 | E18: 4G棒 | F18: 运行数据 | G18: MQTT1最后连接时间 | H18: Y | I18: N | J18: ASCII | K18: 0 | M18: 显示数值 | O18: N | P18: N
A19: 77 | B19: 03 | C19: N | D19: 41490 | E19: 4G棒 | F19: 运行数据 | G19: MQTT2连接状态 | H19: Y | I19: N | J19: UINT16 | K19: 0 | M19: 枚举解析 | N19: 0-空闲 1-通道初始化 2-配置通道 3-网络连接 4-建立应用连接 5-数据交互 6-通道异常 | O19: N | P19: N
A20: 77 | B20: 03 | C20: Y | D20: 41491-41492 | E20: 4G棒 | F20: 运行数据 | G20: MQTT2重连次数 | H20: Y | I20: N | J20: UINT32 | K20: 0 | M20: 显示数值 | O20: N | P20: N
A21: 77 | B21: 03 | C21: Y | D21: 41493-41508 | E21: 4G棒 | F21: 运行数据 | G21: MQTT2最后连接时间 | H21: Y | I21: N | J21: ASCII | K21: 0 | M21: 显示数值 | O21: N | P21: N
A22: 77 | B22: 03 | C22: N | D22: 41509 | E22: 4G棒 | F22: 运行数据 | G22: TCP连接状态 | H22: Y | I22: N | J22: UINT16 | K22: 0 | M22: 枚举解析 | N22: 0-空闲 1-通道初始化 2-配置通道 3-网络连接 4-建立应用连接 5-数据交互 6-通道异常 | O22: N | P22: N
A23: 77 | B23: 03 | C23: Y | D23: 41510-41511 | E23: 4G棒 | F23: 运行数据 | G23: TCP重连次数 | H23: Y | I23: N | J23: UINT32 | K23: 0 | M23: 显示数值 | O23: N | P23: N
A24: 77 | B24: 03 | C24: Y | D24: 41512-41527 | E24: 4G棒 | F24: 运行数据 | G24: TCP最后连接时间 | H24: Y | I24: N | J24: ASCII | K24: 0 | M24: 显示数值 | O24: N | P24: N
A25: 77 | B25: 03 | C25: Y | D25: 41528-41530 | E25: 4G棒 | F25: 运行数据 | G25: 设备地址 | H25: Y | I25: Y | J25: BCD | K25: 0 | M25: 显示数值 | O25: N | P25: N
A26: 77 | B26: 03 | C26: Y | D26: 41531-41533 | E26: 4G棒 | F26: 运行数据 | G26: 4G蓝牙MAC地址 | H26: Y | I26: Y | J26: BCD | K26: 0 | M26: 显示数值 | O26: N | P26: N
A27: 77 | B27: 03 | C27: N | D27: 41729 | E27: 4G棒 | F27: 运行数据 | G27: 环境温度 | H27: Y | I27: Y | J27: INT16 | K27: 0 | M27: 显示数值 | O27: N | P27: N
A28: 77 | B28: 03 | C28: N | D28: 42753 | E28: 4G棒 | F28: 参数读写 | G28: 日志级别 | H28: Y | I28: Y | J28: UINT16 | K28: 0 | M28: 显示数值 | O28: N | P28: N
A29: 77 | B29: 03 | C29: N | D29: 42754 | E29: 4G棒 | F29: 参数读写 | G29: 日志输出方式 | H29: Y | I29: Y | J29: UINT16 | K29: 0 | M29: 显示数值 | O29: N | P29: N
A30: 77 | B30: 03 | C30: N | D30: 42755 | E30: 4G棒 | F30: 参数读写 | G30: 日志网络输出方式 | H30: Y | I30: Y | J30: UINT16 | K30: 0 | M30: 显示数值 | O30: N | P30: N
A31: 77 | B31: 03 | C31: Y | D31: 42756-42763 | E31: 4G棒 | F31: 参数读写 | G31: 网络日志输出IP | H31: Y | I31: Y | J31: ASCII | K31: 0 | M31: 显示数值 | O31: N | P31: N
A32: 77 | B32: 03 | C32: N | D32: 42764 | E32: 4G棒 | F32: 参数读写 | G32: 网络日志输出Port | H32: Y | I32: Y | J32: INT16 | K32: 0 | M32: 显示数值 | O32: N | P32: N
A33: 77 | B33: 03 | C33: N | D33: 42765 | E33: 4G棒 | F33: 参数读写 | G33: 报文监控通道 | H33: Y | I33: Y | J33: INT16 | K33: 0 | M33: 显示数值 | O33: N | P33: N
A34: 77 | B34: 03 | C34: N | D34: 42766 | E34: 4G棒 | F34: 参数读写 | G34: 报文监控方向 | H34: Y | I34: Y | J34: INT16 | K34: 0 | M34: 显示数值 | O34: N | P34: N
... A88: 77 | B88: 03 | C88: N | D88: 43606 | E88: 4G棒 | F88: 参数读写 | G88: 报文控制字 | H88: Y | I88: Y | J88: UINT16 | K88: 0 | M88: 显示数值 | O88: N | P88: N
A89: 77 | B89: 03 | C89: N | D89: 43607 | E89: 4G棒 | F89: 参数读写 | G89: 主站NTP对时周期 | H89: Y | I89: Y | J89: UINT16 | K89: 0 | M89: 显示数值 | O89: N | P89: N
A90: 77 | B90: 06 | C90: N | D90: 43777 | E90: 4G棒 | F90: 控制命令 | G90: 模块重启 | H90: N | I90: Y | J90: UINT16 | K90: 0 | M90: 按钮开关 | O90: N | P90: N
A91: 77 | B91: 06 | C91: N | D91: 43778 | E91: 4G棒 | F91: 控制命令 | G91: 重新拨号 | H91: N | I91: Y | J91: UINT16 | K91: 0 | M91: 按钮开关 | O91: N | P91: N
A92: 77 | B92: 06 | C92: N | D92: 43779 | E92: 4G棒 | F92: 控制命令 | G92: 清空模块日志 | H92: N | I92: Y | J92: UINT16 | K92: 0 | M92: 按钮开关 | O92: N | P92: N
A93: 77 | B93: 06 | C93: N | D93: 43780 | E93: 4G棒 | F93: 控制命令 | G93: 清空模块报文 | H93: N | I93: Y | J93: UINT16 | K93: 0 | M93: 按钮开关 | O93: N | P93: N
...

Sheet 修改记录
A1: 修改人 | B1: 修改日期 | C1: 修改sheet | D1: 修改内容 | E1: 版本
A2: 侯孝振 | C2: all | D2: 由SVG30新架构迁移 | E2: 0
A3: 侯孝振 | D3: 删除电容相关数据 | E3: 0
A4: 张羽 | B4: 45465 | C4: dsp_arm地址表 | D4: 修改变量命名 | E4: 0
A5: 宋武健 | B5: 45465 | C5: dsp故障码 | D5: 填充2.1故障码 | E5: 0
A6: 张羽 | B6: 45475 | C6: dsp地址表 | D6: 增加176~178地址变量 | E6: 0
A7: 张羽 | B7: 45476 | C7: dsp地址表 | D7: 调整上下限 | E7: 0
A8: 侯孝振 | B8: 45481 | C8: dsp_arm地址表 | D8: 添加和删改有效值 | E8: 0
A9: 宋武健 | B9: 45484 | C9: dsp地址表/DSP故障码 | D9: 融合最新算法部程序，修改故障阈值相关（地址：241-246） | E9: 0
A10: 张羽 | B10: 45489 | C10: dsp地址表 | D10: 调整参数默认值，上下限 | E10: 0
A11: 宋振飞 | B11: 45489 | C11: dsp地址表 | D11: 增加179~182地址变量，增加四路boost电流参考值 | E11: 0
A12: 张羽 | B12: 45492 | C12: dsp地址表 | D12: 调整参数默认值，上下限 | E12: 0
A13: 郑伟 | B13: 45492 | C13: arm地址表 | D13: 添加115 ，116 ，117 us_freeze_save_period us_record_frame_en us_record_err_log_en | E13: 0
A14: 宋武健 | B14: 45496 | C14: dsp地址表 | D14: 修改地址202（直流输入过压阈值）、地址216（电压过压阈值）、地址217（电压欠压阈值）、地址234（滤波电容电流阈值） | E14: 0
A15: 侯孝振 | B15: 45496 | C15: app地址表 | D15: 更新arm和ds全部故障码 | E15: 0
... A63: 孙幸超 | B63: 45591 | C63: ARM地址表、APP地址表、ARM故障码 | D63: ARM地址表：修改预留地址195,199：突变电流相关保护阈值，修改地址198变量名称 ARM故障码：arm_fault_code1 新增bit9，bit10故障码，修改bit8故障码名称 对应修改APP地址表 | E63: 33

Sheet 录波数据
A1: 数据项 | B1: 字节数 | C1: 数据类型 | D1: 系数 | E1: 偏移 | F1: 小数点
A2: A相电网电压 | B2: 2 | C2: INT16 | D2: 1 | E2: 0 | F2: 1 | G2: 1
A3: B相电网电压 | B3: 2 | C3: INT16 | D3: 1 | E3: 0 | F3: 1 | G3: 2
A4: C相电网电压 | B4: 2 | C4: INT16 | D4: 1 | E4: 0 | F4: 1 | G4: 3 | J4: 录波数据项修改
A5: A相滤波电容电压 | B5: 2 | C5: INT16 | D5: 1 | E5: 0 | F5: 1 | G5: 4
A6: B相滤波电容电压 | B6: 2 | C6: INT16 | D6: 1 | E6: 0 | F6: 1 | G6: 5
A7: C相滤波电容电压 | B7: 2 | C7: INT16 | D7: 1 | E7: 0 | F7: 1 | G7: 6
A8: 上母线电压 | B8: 2 | C8: INT16 | D8: 1 | E8: 0 | F8: 1 | G8: 7
A9: 下母线电压 | B9: 2 | C9: INT16 | D9: 1 | E9: 0 | F9: 1 | G9: 8
A10: A相逆变电流 | B10: 2 | C10: INT16 | D10: 1 | E10: 0 | F10: 1 | G10: 9
A11: B相逆变电流 | B11: 2 | C11: INT16 | D11: 1 | E11: 0 | F11: 1 | G11: 10
A12: C相逆变电流 | B12: 2 | C12: INT16 | D12: 1 | E12: 0 | F12: 1 | G12: 11
A13: boost1输入电压 | B13: 2 | C13: INT16 | D13: 1 | E13: 0 | F13: 1 | G13: 12
A14: boost2输入电压 | B14: 2 | C14: INT16 | D14: 1 | E14: 0 | F14: 1 | G14: 13
A15: boost3输入电压 | B15: 2 | C15: INT16 | D15: 1 | E15: 0 | F15: 1 | G15: 14 | H15: 用于判断是否记录
A16: boost4输入电压 | B16: 2 | C16: INT16 | D16: 1 | E16: 0 | F16: 1 | G16: 15
A17: boost1电感电流 | B17: 2 | C17: INT16 | D17: 1 | E17: 0 | F17: 1 | G17: 16
A18: boost2电感电流 | B18: 2 | C18: INT16 | D18: 1 | E18: 0 | F18: 1 | G18: 17
A19: boost3电感电流 | B19: 2 | C19: INT16 | D19: 1 | E19: 0 | F19: 1 | G19: 18
A20: boost4电感电流 | B20: 2 | C20: INT16 | D20: 1 | E20: 0 | F20: 1 | G20: 19
A21: A相调制比 | B21: 2 | C21: INT16 | D21: 1 | E21: 0 | F21: 2 | G21: 20
A22: B相调制比 | B22: 2 | C22: INT16 | D22: 1 | E22: 0 | F22: 2 | G22: 21
A23: C相调制比 | B23: 2 | C23: INT16 | D23: 1 | E23: 0 | F23: 2 | G23: 22
A24: 状态标签 | B24: 2 | C24: INT16 | D24: 1 | E24: 0 | F24: 0 | G24: 23
A25: 相角 | B25: 2 | C25: INT16 | D25: 1 | E25: 0 | F25: 0 | G25: 24
A26: A相前馈 | B26: 2 | C26: INT16 | D26: 1 | E26: 0 | F26: 1 | G26: 25
A27: B相前馈 | B27: 2 | C27: INT16 | D27: 1 | E27: 0 | F27: 1 | G27: 26
... A34: 零序电压 | B34: 2 | C34: INT16 | D34: 1 | E34: 0 | F34: 1 | G34: 33
A35: 数据由DSP发给arm，通过PWM中断触发DMA，使用spi通信发送

Sheet DSP地址表
A1: 地址HEX | B1: 协议结构名称 | C1: 数据大类 | D1: 变量名 | E1: 数据项名称 | F1: 地址 | G1: 小数点 | H1: 数据长度 | I1: 数据类型 | J1: 单位 | K1: 数据分类 | L1: 数据说明 | M1: 作用范围 | N1: 默认值 | O1: 上限 | P1: 下限 | Q1: 645协议参数
A2: 0 | B2: dsp_unrecovery_param_t | C2: 不可还原 | D2: us_grd_A_volt_calib_coff | E2: A相采样校准a（网侧交流电压采样） | F2: 0 | G2: 0 | H2: 1 | I2: UINT16 | J2: - | K2: 不可还原 | N2: 10000 | O2: 13000 | P2: 7000
A3: 1 | C3: 不可还原 | D3: us_grd_A_volt_calib_bias | E3: A相采样校准b（网侧交流电压采样） | F3: 1 | G3: 0 | H3: 1 | I3: INT16 | J3: - | K3: 不可还原 | N3: 0 | O3: 32767 | P3: -32768
A4: 2 | C4: 不可还原 | D4: us_grd_B_volt_calib_coff | E4: B相采样校准a（网侧交流电压采样） | F4: 2 | G4: 0 | H4: 1 | I4: UINT16 | J4: - | K4: 不可还原 | N4: 10000 | O4: 13000 | P4: 7000
A5: 3 | C5: 不可还原 | D5: us_grd_B_volt_calib_bias | E5: B相采样校准b（网侧交流电压采样） | F5: 3 | G5: 0 | H5: 1 | I5: INT16 | J5: - | K5: 不可还原 | N5: 0 | O5: 32767 | P5: -32768
A6: 4 | C6: 不可还原 | D6: us_grd_C_volt_calib_coff | E6: C相采样校准a（网侧交流电压采样） | F6: 4 | G6: 0 | H6: 1 | I6: UINT16 | J6: - | K6: 不可还原 | N6: 10000 | O6: 13000 | P6: 7000
A7: 5 | C7: 不可还原 | D7: us_grd_C_volt_calib_bias | E7: C相采样校准b（网侧交流电压采样） | F7: 5 | G7: 0 | H7: 1 | I7: INT16 | J7: - | K7: 不可还原 | N7: 0 | O7: 32767 | P7: -32768
A8: 6 | C8: 不可还原 | D8: us_inv_A_cur_calib_coff | E8: A相采样校准a(逆变侧电感电流) | F8: 6 | G8: 0 | H8: 1 | I8: UINT16 | J8: - | K8: 不可还原 | N8: 10000 | O8: 13000 | P8: 7000
A9: 7 | C9: 不可还原 | D9: us_inv_A_cur_calib_bias | E9: A相采样校准b(逆变侧电感电流) | F9: 7 | G9: 0 | H9: 1 | I9: INT16 | J9: - | K9: 不可还原 | N9: 0 | O9: 32767 | P9: -32768
A10: 8 | C10: 不可还原 | D10: us_inv_A_cur_phase_offset | E10: A相逆变电流相位偏移量 | F10: 8 | G10: 0 | H10: 1 | I10: INT16 | J10: - | K10: 不可还原 | N10: 0 | O10: 32767 | P10: -32768
A11: 9 | C11: 不可还原 | D11: us_inv_B_cur_calib_coff | E11: B相采样校准a(逆变侧电感电流) | F11: 9 | G11: 0 | H11: 1 | I11: UINT16 | J11: - | K11: 不可还原 | N11: 10000 | O11: 13000 | P11: 7000
A12: 10 | C12: 不可还原 | D12: us_inv_B_cur_calib_bias | E12: B相采样校准b(逆变侧电感电流) | F12: 10 | G12: 0 | H12: 1 | I12: INT16 | J12: - | K12: 不可还原 | N12: 0 | O12: 32767 | P12: -32768
A13: 11 | C13: 不可还原 | D13: us_inv_B_cur_phase_offset | E13: B相逆变电流相位偏移量 | F13: 11 | G13: 0 | H13: 1 | I13: INT16 | J13: - | K13: 不可还原 | N13: 0 | O13: 32767 | P13: -32768
A14: 12 | C14: 不可还原 | D14: us_inv_C_cur_calib_coff | E14: C相采样校准a(逆变侧电感电流) | F14: 12 | G14: 0 | H14: 1 | I14: UINT16 | J14: - | K14: 不可还原 | N14: 10000 | O14: 13000 | P14: 7000
... A40: 38 | C40: 不可还原 | D40: us_tmpr_calib_bias | E40: 采样校准b(温度补偿） | F40: 38 | G40: 0 | H40: 1 | I40: INT16 | J40: - | K40: 不可还原 | N40: 0 | O40: 32767 | P40: -32768
A41: 39 | C41: 不可还原 | E41: 预留 | F41: 39 | G41: 0 | H41: 12 | I41: UINT16 | J41: - | K41: 不可还原
A42: ==DEC2HEX(F42) | B42: dsp_command_t | C42: 指令 | D42: us_start | E42: 开机 | F42: 51 | G42: 0 | H42: 1 | I42: UINT16 | J42: - | K42: 指令数据 | L42: 1：指令有效 0：指令无效 | N42: 0 | O42: 1 | P42: 0
A43: ==DEC2HEX(F43) | C43: 指令 | D43: us_stop | E43: 关机 | F43: 52 | G43: 0 | H43: 1 | I43: UINT16 | J43: - | K43: 指令数据 | L43: 1：指令有效 0：指令无效 | N43: 0 | O43: 1 | P43: 0
A44: ==DEC2HEX(F44) | C44: 指令 | D44: us_rst | E44: 故障复位 | F44: 53 | G44: 0 | H44: 1 | I44: UINT16 | J44: - | K44: 指令数据 | L44: 1：指令有效 0：指令无效 | N44: 0 | O44: 1 | P44: 0
A45: ==DEC2HEX(F45) | C45: 指令 | D45: us_reboot | E45: 芯片复位重启 | F45: 54 | G45: 0 | H45: 1 | I45: UINT16 | J45: - | K45: 指令数据 | L45: 1：指令有效 0：指令无效 | N45: 0 | O45: 1 | P45: 0
A46: ==DEC2HEX(F46) | C46: 指令 | D46: us_slf_chk | E46: 功率单元自检（调试） | F46: 55 | G46: 0 | H46: 1 | I46: UINT16 | J46: - | K46: 指令数据 | L46: 1：指令有效 0：指令无效 | N46: 0 | O46: 1 | P46: 0
A47: ==DEC2HEX(F47) | C47: 指令 | D47: us_resume_config | E47: 参数还原 | F47: 56 | G47: 0 | H47: 1 | I47: UINT16 | J47: - | K47: 指令数据 | L47: 1：指令有效 0：指令无效 | N47: 0 | O47: 1 | P47: 0
A48: ==DEC2HEX(F48) | C48: 指令 | D48: us_over_temp_flag | E48: 过温限功率标志 | F48: 57 | G48: 0 | H48: 1 | I48: UINT16 | J48: - | K48: 指令数据 | L48: 1：指令有效 0：指令无效 | N48: 0 | O48: 1 | P48: 0
A49: ==DEC2HEX(F49) | C49: 指令 | E49: 预留 | F49: 58 | H49: 43
A50: ==DEC2HEX(F50) | B50: dsp_devices_set_t | C50: 参数 | D50: us_work_en | E50: 工作使能 | F50: 101 | G50: 0 | H50: 1 | I50: UINT16 | J50: - | K50: 基本设置 | L50: 0-不使能 1-使能 | N50: 1 | O50: 1 | P50: 0
A51: ==DEC2HEX(F51) | C51: 参数 | D51: us_anti_islanding_en | E51: 孤岛检测使能 | F51: 102 | G51: 0 | H51: 1 | I51: UINT16 | J51: - | K51: 基本设置 | L51: 0-不使能 1-使能 | N51: 1 | O51: 1 | P51: 0
A52: ==DEC2HEX(F52) | C52: 参数 | D52: us_lvrt_en | E52: LVRT使能 | F52: 103 | G52: 0 | H52: 1 | I52: UINT16 | J52: - | K52: 基本设置 | L52: 0-不使能 1-使能 | N52: 0 | O52: 1 | P52: 0
A53: ==DEC2HEX(F53) | C53: 参数 | D53: us_hvrt_en | E53: HVRT使能 | F53: 104 | G53: 0 | H53: 1 | I53: UINT16 | J53: - | K53: 基本设置 | L53: 0-不使能 1-使能 | N53: 0 | O53: 1 | P53: 0
A54: ==DEC2HEX(F54) | C54: 参数 | D54: us_mppt_en | E54: MPPT使能 | F54: 105 | G54: 0 | H54: 1 | I54: UINT16 | J54: - | K54: 基本设置 | L54: 0-不使能 1-使能 | N54: 1 | O54: 1 | P54: 0
A55: ==DEC2HEX(F55) | C55: 参数 | D55: us_insult_rstr_en | E55: 老化测试使能 | F55: 106 | G55: 0 | H55: 1 | I55: UINT16 | J55: - | K55: 基本设置 | L55: 0-不使能 1-使能 | N55: 0 | O55: 1 | P55: 0
A56: ==DEC2HEX(F56) | C56: 参数 | D56: us_neg_seq_run_en | E56: 相序异常运行使能 | F56: 107 | G56: 0 | H56: 1 | I56: UINT16 | J56: - | K56: 基本设置 | L56: 0-不使能 1-使能 | N56: 1 | O56: 1 | P56: 0
A57: ==DEC2HEX(F57) | C57: 参数 | D57: us_reserve_param1_3 | E57: 预留参数1_3 | F57: 108 | G57: 0 | H57: 1 | I57: UINT16 | J57: - | K57: 基本设置 | L57: 0-不使能 1-使能 | N57: 1 | O57: 1 | P57: 0
A58: ==DEC2HEX(F58) | C58: 参数 | D58: us_dc_start_TH | E58: 直流输入电压开机阈值 | F58: 109 | G58: 1 | H58: 1 | I58: UINT16 | J58: V | K58: 基本设置 | N58: 180 | O58: 300 | P58: 100
A59: ==DEC2HEX(F59) | C59: 参数 | D59: us_dc_stop_TH | E59: 直流输入电压关机阈值 | F59: 110 | G59: 1 | H59: 1 | I59: UINT16 | J59: V | K59: 基本设置 | N59: 160 | O59: 200 | P59: 0
A60: ==DEC2HEX(F60) | C60: 参数 | D60: us_pwr_output_lmt | E60: 最大输出功率限值 | F60: 111 | G60: 1 | H60: 1 | I60: UINT16 | J60: kW | K60: 基本设置 | N60: PV_INV30:33; PV_INV40:44; PV_INV50:55 | O60: 60 | P60: 0 | Q60: Y
A61: ==DEC2HEX(F61) | C61: 参数 | D61: us_pwr_rate_lmt | E61: 功率变化率上限 | F61: 112 | G61: 1 | H61: 1 | I61: UINT16 | J61: 10%Pn/min | K61: 基本设置 | N61: 10 | O61: 6553.5 | P61: 0
A62: ==DEC2HEX(F62) | C62: 参数 | D62: us_rctv_pwr_ctr_mode | E62: 无功生成模式 | F62: 113 | G62: 0 | H62: 1 | I62: UINT16 | J62: - | K62: 基本设置 | L62: 0-关闭 1-恒无功功率模式 2-恒功率因数模式 3-恒电压控制 | N62: 0 | O62: 3 | P62: 0
A63: ==DEC2HEX(F63) | C63: 参数 | D63: sh_rctv_pwr_ref | E63: 恒无功控制给定所需的无功功率 | F63: 114 | G63: 3 | H63: 1 | I63: INT16 | J63: kvar | K63: 基本设置 | N63: 0 | O63: 32.767 | P63: -32.768 | Q63: Y
A64: ==DEC2HEX(F64) | C64: 参数 | D64: sh_pf_ref | E64: 恒功率因数控制给定所需的功率因数 | F64: 115 | G64: 3 | H64: 1 | I64: INT16 | J64: - | K64: 基本设置 | N64: 1 | O64: 32.767 | P64: -32.768
A65: ==DEC2HEX(F65) | C65: 参数 | D65: us_grd_volt_ref | E65: 恒电网电压控制给定目标电网电压 | F65: 116 | G65: 1 | H65: 1 | I65: UINT16 | J65: V | K65: 基本设置 | N65: 220 | O65: 230 | P65: 210
...

Sheet ARM地址表
A1: 地址HEX | B1: 协议结构名称 | C1: 数据大类 | D1: 变量名 | E1: 数据项名称 | F1: 地址 | G1: 小数点 | H1: 数据长度 | I1: 数据类型 | J1: 单位 | K1: 数据分类 | L1: 数据说明 | M1: 作用范围 | N1: 默认值 | O1: 上限 | P1: 下限 | Q1: 可读 | R1: 可写
A2: ==DEC2HEX(F2) | B2: arm_unrecovery_param_t | C2: 不可还原 | E2: 预留 | F2: 0 | H2: 1
A3: ==DEC2HEX(F3) | C3: 不可还原 | D3: us_mes_code | E3: 设备MES码 | F3: 1 | G3: 0 | H3: 4 | I3: BCD | J3: - | K3: 不可还原 | L3: 只生产检测写 | N3: {0, 0, 0, 0} | O3: {65535, 65535, 65535, 65535} | P3: {0, 0, 0, 0}
C4: 不可还原 | D4: us_product_id | E4: 12位出厂编号 | F4: 5 | G4: 0 | H4: 3 | I4: BCD | J4: - | K4: 不可还原 | L4: BCD | N4: {0, 0, 1} | O4: {65535, 65535, 65535} | P4: {0, 0, 0} | Q4: Y | R4: Y
A5: ==DEC2HEX(F5) | C5: 不可还原 | D5: us_hb_test_result | E5: 板级生产检测结果 | F5: 8 | G5: 0 | H5: 1 | I5: UINT16 | J5: - | K5: 不可还原 | L5: 只生产检测写 | N5: 0 | O5: 65535 | P5: 0 | Q5: Y | R5: Y
A6: ==DEC2HEX(F6) | C6: 不可还原 | D6: us_sys_test_result | E6: 工厂整机测试结果 | F6: 9 | G6: 0 | H6: 1 | I6: UINT16 | J6: - | K6: 不可还原 | L6: 只生产检测写 | N6: 0 | O6: 1 | P6: 0 | Q6: Y | R6: Y
A7: ==DEC2HEX(F7) | C7: 不可还原 | D7: us_hw_cmpnt_num | E7: 硬件组件号 | F7: 10 | G7: 0 | H7: 3 | I7: BCD | J7: - | K7: 不可还原 | L7: 只生产检测写 | N7: {0, 0, 0} | O7: {65535, 65535, 65535} | P7: {0, 0, 0}
A8: ==DEC2HEX(F8) | C8: 不可还原 | D8: us_region_code | E8: 行政区域码 | F8: 13 | G8: 0 | H8: 1 | I8: BCD | J8: - | K8: 不可还原 | N8: 0 | O8: 65535 | P8: 0 | Q8: Y | R8: Y
A9: ==DEC2HEX(F9) | C9: 不可还原 | D9: us_term_addr | E9: 终端地址 | F9: 14 | G9: 0 | H9: 1 | I9: BCD | J9: - | K9: 不可还原 | N9: 0 | O9: 65535 | P9: 0 | Q9: Y | R9: Y
A10: ==DEC2HEX(F10) | C10: 不可还原 | D10: us_sci_baudrate | E10: 对外串口波特率 | F10: 15 | G10: 0 | H10: 1 | I10: UINT16 | J10: - | K10: 不可还原 | L10: 0-115200 1-38400 2-19200 3-9600 | N10: 0 | O10: 3 | P10: 0 | Q10: Y | R10: Y
A11: ==DEC2HEX(F11) | C11: 不可还原 | D11: us_ac_proto_type | E11: 载波协议类型 | F11: 16 | G11: 0 | H11: 1 | I11: UINT16 | J11: - | K11: 不可还原 | L11: 0-645协议 1-698协议 | N11: 0 | O11: 1 | P11: 0 | Q11: Y | R11: Y
A12: ==DEC2HEX(F12) | C12: 不可还原 | D12: us_prot645_type | E12: 645协议版本 | F12: 17 | G12: 0 | H12: 1 | I12: UINT16 | J12: - | K12: 不可还原 | L12: 0-鼎信私有协议 1-陕西协议 | N12: 0 | O12: 1 | P12: 0 | Q12: Y | R12: Y
A13: ==DEC2HEX(F13) | C13: 不可还原 | D13: us_level_0_cipher | E13: 0级密码 | F13: 18 | G13: 0 | H13: 2 | I13: BCD | J13: - | K13: 不可还原 | L13: 陕西645用 | N13: {0, 0} | O13: {65535, 65535} | P13: {0, 0} | Q13: Y | R13: Y
A14: ==DEC2HEX(F14) | C14: 不可还原 | D14: us_level_1_cipher | E14: 1级密码 | F14: 20 | G14: 0 | H14: 2 | I14: BCD | J14: - | K14: 不可还原 | L14: 陕西645用 | N14: {0, 0} | O14: {65535, 65535} | P14: {0, 0} | Q14: Y | R14: Y
A15: ==DEC2HEX(F15) | C15: 不可还原 | D15: us_level_2_cipher | E15: 2级密码 | F15: 22 | G15: 0 | H15: 2 | I15: BCD | J15: - | K15: 不可还原 | L15: 陕西645用 | N15: {0, 0} | O15: {65535, 65535} | P15: {0, 0} | Q15: Y | R15: Y
A16: ==DEC2HEX(F16) | C16: 不可还原 | D16: us_account_num | E16: 户号 | F16: 24 | G16: 0 | H16: 3 | I16: BCD | J16: - | K16: 不可还原 | L16: 陕西645用 | N16: {0, 0, 0} | O16: {65535, 65535, 65535} | P16: {0, 0, 0} | Q16: Y | R16: Y
A17: ==DEC2HEX(F17) | C17: 不可还原 | D17: us_virtual_plant_num | E17: 虚拟电厂编号 | F17: 27 | G17: 0 | H17: 3 | I17: BCD | J17: - | K17: 不可还原 | L17: 陕西645用 | N17: {0, 0, 0} | O17: {65535, 65535, 65535} | P17: {0, 0, 0} | Q17: Y | R17: Y
A18: ==DEC2HEX(F18) | C18: 不可还原 | D18: us_leak_current_dc_estimate | E18: 漏电流直流偏置AD值 | F18: 30 | G18: 0 | H18: 1 | I18: UINT16 | J18: - | K18: 不可还原 | N18: 2028 | O18: 2200 | P18: 1800 | Q18: Y | R18: Y
A19: ==DEC2HEX(F19) | C19: 不可还原 | D19: us_leak_current_factor | E19: 漏电流校准系数 | F19: 31 | G19: 0 | H19: 1 | I19: UINT16 | J19: - | K19: 不可还原 | N19: 6250 | O19: 65535 | P19: 1 | Q19: Y | R19: Y
A20: ==DEC2HEX(F20) | C20: 不可还原 | D20: us_state_grid_addr | E20: 国网地址 | F20: 32 | G20: 0 | H20: 6 | I20: BCD | J20: - | K20: 不可还原 | N20: {0, 0, 0, 0, 0, 0} | O20: {65535, 65535, 65535, 65535, 65535, 65535} | P20: {0, 0, 0, 0, 0, 0} | Q20: Y | R20: Y
A21: ==DEC2HEX(F21) | C21: 不可还原 | D21: us_meter_code_num | E21: 表号（ESAM用） | F21: 38 | G21: 0 | H21: 6 | I21: BCD | J21: - | K21: 不可还原 | N21: {0, 0, 0, 0, 0, 0} | O21: {65535, 65535, 65535, 65535, 65535, 65535} | P21: {0, 0, 0, 0, 0, 0} | Q21: Y | R21: Y
A22: ==DEC2HEX(F22) | C22: 不可还原 | D22: us_leak_current_inter_refer_mA | E22: 漏电流内部参考值 | F22: 44 | G22: 0 | H22: 1 | I22: UINT16 | J22: mA | K22: 不可还原 | N22: PV_INV30:50; PV_INV40:65; PV_INV50:65 | O22: 300 | P22: 0
A23: ==DEC2HEX(F23) | C23: 不可还原 | E23: 预留 | F23: 45 | H23: 5
A24: ==DEC2HEX(F24) | B24: arm_comm_cmd_t | C24: 指令 | D24: us_start | E24: 设备开机 | F24: 50 | G24: 0 | H24: 1 | I24: UINT16 | J24: - | K24: 指令数据 | L24: 1：指令有效 0：指令无效 | N24: 0 | O24: 1 | P24: 0 | Q24: N | R24: Y
A25: ==DEC2HEX(F25) | C25: 指令 | D25: us_stop | E25: 设备关机 | F25: 51 | G25: 0 | H25: 1 | I25: UINT16 | J25: - | K25: 指令数据 | L25: 1：指令有效 0：指令无效 | N25: 0 | O25: 1 | P25: 0 | Q25: N | R25: Y
A26: ==DEC2HEX(F26) | C26: 指令 | D26: us_fault_rst | E26: 故障复位 | F26: 52 | G26: 0 | H26: 1 | I26: UINT16 | J26: - | K26: 指令数据 | L26: 1：指令有效 0：指令无效 | N26: 0 | O26: 1 | P26: 0 | Q26: N | R26: Y
A27: ==DEC2HEX(F27) | C27: 指令 | D27: us_unlock_set | E27: 解锁特殊操作 | F27: 53 | G27: 0 | H27: 1 | I27: UINT16 | J27: - | K27: 指令数据 | L27: 1：指令有效 0：指令无效 | N27: 0 | O27: 1 | P27: 0 | Q27: N | R27: Y
A28: ==DEC2HEX(F28) | C28: 指令 | D28: us_device_rst | E28: 设备重启 | F28: 54 | G28: 0 | H28: 1 | I28: UINT16 | J28: - | K28: 指令数据 | L28: 1：指令有效 0：指令无效 | N28: 0 | O28: 1 | P28: 0 | Q28: N | R28: Y
A29: ==DEC2HEX(F29) | C29: 指令 | D29: us_dsp_selfcheck | E29: 功率单元自检(调试) | F29: 55 | G29: 0 | H29: 1 | I29: UINT16 | J29: - | K29: 指令数据 | L29: 1：指令有效 0：指令无效 | N29: 0 | O29: 1 | P29: 0 | Q29: N | R29: Y
A30: ==DEC2HEX(F30) | C30: 指令 | D30: us_dsp_rst_by_comm | E30: 功率单元重启 | F30: 56 | G30: 0 | H30: 1 | I30: UINT16 | J30: - | K30: 指令数据 | L30: 1：指令有效 0：指令无效 | N30: 0 | O30: 1 | P30: 0 | Q30: N | R30: Y
A31: ==DEC2HEX(F31) | C31: 指令 | D31: us_dsp_reboot | E31: 功率单元强制复位 | F31: 57 | G31: 0 | H31: 1 | I31: UINT16 | J31: - | K31: 指令数据 | L31: 1：指令有效 0：指令无效 | N31: 0 | O31: 1 | P31: 0 | Q31: N | R31: Y
A32: ==DEC2HEX(F32) | C32: 指令 | D32: us_resume_config | E32: 参数还原 | F32: 58 | G32: 0 | H32: 1 | I32: UINT16 | J32: - | K32: 指令数据 | L32: 1：指令有效 0：指令无效 | N32: 0 | O32: 1 | P32: 0
A33: ==DEC2HEX(F33) | C33: 指令 | D33: us_4g_rst | E33: 复位4G | F33: 59 | G33: 0 | H33: 1 | I33: UINT16 | J33: - | K33: 指令数据 | L33: 1：指令有效 0：指令无效 | N33: 0 | O33: 1 | P33: 0
C34: 指令 | D34: us_dc_carrier_rst | E34: 直流载波复位 | F34: 60 | G34: 0 | H34: 1 | I34: UINT16 | J34: - | K34: 指令数据 | L34: 1：指令有效 0：指令无效 | N34: 0 | O34: 1 | P34: 0
C35: 指令 | D35: us_ac_carrier_rst | E35: 交流载波复位 | F35: 61 | G35: 0 | H35: 1 | I35: UINT16 | J35: - | K35: 指令数据 | L35: 1：指令有效 0：指令无效 | N35: 0 | O35: 1 | P35: 0
A36: ==DEC2HEX(F36) | C36: 指令 | D36: us_fault_record_manual | E36: 手动录波 | F36: 62 | G36: 0 | H36: 1 | I36: UINT16 | J36: - | K36: 指令数据 | L36: 1：指令有效 0：指令无效 | N36: 0 | O36: 1 | P36: 0
A37: ==DEC2HEX(F37) | C37: 指令 | D37: us_data_restore_all | E37: 所有记录数据擦除 | F37: 63 | G37: 0 | H37: 1 | I37: UINT16 | J37: - | K37: 指令数据 | L37: 1：指令有效 0：指令无效 | N37: 0 | O37: 1 | P37: 0
A38: ==DEC2HEX(F38) | C38: 指令 | D38: us_wave_record_restore | E38: 录波擦除 | F38: 64 | G38: 0 | H38: 1 | I38: UINT16 | J38: - | K38: 指令数据 | L38: 1：指令有效 0：指令无效 | N38: 0 | O38: 1 | P38: 0
A39: ==DEC2HEX(F39) | C39: 指令 | D39: us_event_restore | E39: 事件擦除 | F39: 65 | G39: 0 | H39: 1 | I39: UINT16 | J39: - | K39: 指令数据 | L39: 1：指令有效 0：指令无效 | N39: 0 | O39: 1 | P39: 0
A40: ==DEC2HEX(F40) | C40: 指令 | D40: us_error_log_restore | E40: 日志记录擦除 | F40: 66 | G40: 0 | H40: 1 | I40: UINT16 | J40: - | K40: 指令数据 | L40: 1：指令有效 0：指令无效 | N40: 0 | O40: 1 | P40: 0
...

Sheet APP地址表
A1: 地址HEX | B1: 地址 | C1: DSP地址 | D1: ARM地址 | E1: 数据类型 | F1: 小数位 | G1: 数据长度 | H1: 一类标题 | I1: 二类标题 | J1: 数据名 | K1: 读 | L1: 写 | M1: 单位 | N1: 解析方式 | O1: 解析规则 | P1: 数据从属设备 | Q1: 备注
A2: ==DEC2HEX(B2) | B2: ==IF(C2="Y",4096+VLOOKUP(J2,DSP地址表!E:F,2,0),VLOOKUP(J2,ARM地址表!E:F,2,0)) | C2: N | D2: Y | E2: ==IF(C2="Y",VLOOKUP(J2,DSP地址表!E:I,5,0),VLOOKUP(J2,ARM地址表!E:I,5,0)) | F2: ==IF(C2="Y",VLOOKUP(J2,DSP地址表!E:I,3,0),VLOOKUP(J2,ARM地址表!E:I,3,0)) | G2: ==IF(C2="Y",VLOOKUP(J2,DSP地址表!E:I,4,0),VLOOKUP(J2,ARM地址表!E:I,4,0)) | H2: 设备状态 | I2: 通用信息 | J2: 设备类型 | K2: Y | L2: N | M2: ==IF(C2="Y",VLOOKUP(J2,DSP地址表!E:J,6,0),VLOOKUP(J2,ARM地址表!E:J,6,0)) | N2: 枚举解析 | O2: 0-FVR 1-MVR 2-SVG30 3-AUC30 4-SVG10C 5-智能电容器 6-SVG50/100 7-光伏逆变器2.1 8-PCS105
A3: ==DEC2HEX(B3) | B3: ==IF(C3="Y",4096+VLOOKUP(J3,DSP地址表!E:F,2,0),VLOOKUP(J3,ARM地址表!E:F,2,0)) | C3: N | D3: Y | E3: ==IF(C3="Y",VLOOKUP(J3,DSP地址表!E:I,5,0),VLOOKUP(J3,ARM地址表!E:I,5,0)) | F3: ==IF(C3="Y",VLOOKUP(J3,DSP地址表!E:I,3,0),VLOOKUP(J3,ARM地址表!E:I,3,0)) | G3: ==IF(C3="Y",VLOOKUP(J3,DSP地址表!E:I,4,0),VLOOKUP(J3,ARM地址表!E:I,4,0)) | H3: 设备状态 | I3: 通用信息 | J3: 行政区域码 | K3: Y | L3: Y | M3: ==IF(C3="Y",VLOOKUP(J3,DSP地址表!E:J,6,0),VLOOKUP(J3,ARM地址表!E:J,6,0)) | N3: 显示数值 | O3: -
A4: ==DEC2HEX(B4) | B4: ==IF(C4="Y",4096+VLOOKUP(J4,DSP地址表!E:F,2,0),VLOOKUP(J4,ARM地址表!E:F,2,0)) | C4: N | D4: Y | E4: ==IF(C4="Y",VLOOKUP(J4,DSP地址表!E:I,5,0),VLOOKUP(J4,ARM地址表!E:I,5,0)) | F4: ==IF(C4="Y",VLOOKUP(J4,DSP地址表!E:I,3,0),VLOOKUP(J4,ARM地址表!E:I,3,0)) | G4: ==IF(C4="Y",VLOOKUP(J4,DSP地址表!E:I,4,0),VLOOKUP(J4,ARM地址表!E:I,4,0)) | H4: 设备状态 | I4: 通用信息 | J4: 终端地址 | K4: Y | L4: Y | M4: ==IF(C4="Y",VLOOKUP(J4,DSP地址表!E:J,6,0),VLOOKUP(J4,ARM地址表!E:J,6,0)) | N4: 显示数值 | O4: -
A5: ==DEC2HEX(B5) | B5: ==IF(C5="Y",4096+VLOOKUP(J5,DSP地址表!E:F,2,0),VLOOKUP(J5,ARM地址表!E:F,2,0)) | C5: N | D5: Y | E5: ==IF(C5="Y",VLOOKUP(J5,DSP地址表!E:I,5,0),VLOOKUP(J5,ARM地址表!E:I,5,0)) | F5: ==IF(C5="Y",VLOOKUP(J5,DSP地址表!E:I,3,0),VLOOKUP(J5,ARM地址表!E:I,3,0)) | G5: ==IF(C5="Y",VLOOKUP(J5,DSP地址表!E:I,4,0),VLOOKUP(J5,ARM地址表!E:I,4,0)) | H5: 设备状态 | I5: 通用信息 | J5: 对外串口波特率 | K5: Y | L5: Y | M5: ==IF(C5="Y",VLOOKUP(J5,DSP地址表!E:J,6,0),VLOOKUP(J5,ARM地址表!E:J,6,0)) | N5: 枚举解析 | O5: 0-115200 1-38400 2-19200 3-9600 4-4800 5-2400
A6: ==DEC2HEX(B6) | B6: ==IF(C6="Y",4096+VLOOKUP(J6,DSP地址表!E:F,2,0),VLOOKUP(J6,ARM地址表!E:F,2,0)) | C6: N | D6: Y | E6: ==IF(C6="Y",VLOOKUP(J6,DSP地址表!E:I,5,0),VLOOKUP(J6,ARM地址表!E:I,5,0)) | F6: ==IF(C6="Y",VLOOKUP(J6,DSP地址表!E:I,3,0),VLOOKUP(J6,ARM地址表!E:I,3,0)) | G6: ==IF(C6="Y",VLOOKUP(J6,DSP地址表!E:I,4,0),VLOOKUP(J6,ARM地址表!E:I,4,0)) | H6: 设备状态 | I6: 通用信息 | J6: 载波协议类型 | K6: Y | L6: Y | M6: ==IF(C6="Y",VLOOKUP(J6,DSP地址表!E:J,6,0),VLOOKUP(J6,ARM地址表!E:J,6,0)) | N6: 枚举解析 | O6: 0-645协议 1-698协议
A7: ==DEC2HEX(B7) | B7: ==IF(C7="Y",4096+VLOOKUP(J7,DSP地址表!E:F,2,0),VLOOKUP(J7,ARM地址表!E:F,2,0)) | C7: N | D7: Y | E7: ==IF(C7="Y",VLOOKUP(J7,DSP地址表!E:I,5,0),VLOOKUP(J7,ARM地址表!E:I,5,0)) | F7: ==IF(C7="Y",VLOOKUP(J7,DSP地址表!E:I,3,0),VLOOKUP(J7,ARM地址表!E:I,3,0)) | G7: ==IF(C7="Y",VLOOKUP(J7,DSP地址表!E:I,4,0),VLOOKUP(J7,ARM地址表!E:I,4,0)) | H7: 设备状态 | I7: 通用信息 | J7: 645协议版本 | K7: Y | L7: Y | M7: ==IF(C7="Y",VLOOKUP(J7,DSP地址表!E:J,6,0),VLOOKUP(J7,ARM地址表!E:J,6,0)) | N7: 枚举解析 | O7: 0-鼎信私有协议 1-陕西协议
A8: ==DEC2HEX(B8) | B8: ==IF(C8="Y",4096+VLOOKUP(J8,DSP地址表!E:F,2,0),VLOOKUP(J8,ARM地址表!E:F,2,0)) | C8: N | D8: Y | E8: ==IF(C8="Y",VLOOKUP(J8,DSP地址表!E:I,5,0),VLOOKUP(J8,ARM地址表!E:I,5,0)) | F8: ==IF(C8="Y",VLOOKUP(J8,DSP地址表!E:I,3,0),VLOOKUP(J8,ARM地址表!E:I,3,0)) | G8: ==IF(C8="Y",VLOOKUP(J8,DSP地址表!E:I,4,0),VLOOKUP(J8,ARM地址表!E:I,4,0)) | H8: 设备状态 | I8: 通用信息 | J8: 0级密码 | K8: Y | L8: Y | M8: ==IF(C8="Y",VLOOKUP(J8,DSP地址表!E:J,6,0),VLOOKUP(J8,ARM地址表!E:J,6,0)) | N8: 显示数值
A9: ==DEC2HEX(B9) | B9: ==IF(C9="Y",4096+VLOOKUP(J9,DSP地址表!E:F,2,0),VLOOKUP(J9,ARM地址表!E:F,2,0)) | C9: N | D9: Y | E9: ==IF(C9="Y",VLOOKUP(J9,DSP地址表!E:I,5,0),VLOOKUP(J9,ARM地址表!E:I,5,0)) | F9: ==IF(C9="Y",VLOOKUP(J9,DSP地址表!E:I,3,0),VLOOKUP(J9,ARM地址表!E:I,3,0)) | G9: ==IF(C9="Y",VLOOKUP(J9,DSP地址表!E:I,4,0),VLOOKUP(J9,ARM地址表!E:I,4,0)) | H9: 设备状态 | I9: 通用信息 | J9: 1级密码 | K9: Y | L9: Y | M9: ==IF(C9="Y",VLOOKUP(J9,DSP地址表!E:J,6,0),VLOOKUP(J9,ARM地址表!E:J,6,0)) | N9: 显示数值
A10: ==DEC2HEX(B10) | B10: ==IF(C10="Y",4096+VLOOKUP(J10,DSP地址表!E:F,2,0),VLOOKUP(J10,ARM地址表!E:F,2,0)) | C10: N | D10: Y | E10: ==IF(C10="Y",VLOOKUP(J10,DSP地址表!E:I,5,0),VLOOKUP(J10,ARM地址表!E:I,5,0)) | F10: ==IF(C10="Y",VLOOKUP(J10,DSP地址表!E:I,3,0),VLOOKUP(J10,ARM地址表!E:I,3,0)) | G10: ==IF(C10="Y",VLOOKUP(J10,DSP地址表!E:I,4,0),VLOOKUP(J10,ARM地址表!E:I,4,0)) | H10: 设备状态 | I10: 通用信息 | J10: 2级密码 | K10: Y | L10: Y | M10: ==IF(C10="Y",VLOOKUP(J10,DSP地址表!E:J,6,0),VLOOKUP(J10,ARM地址表!E:J,6,0)) | N10: 显示数值
A11: ==DEC2HEX(B11) | B11: ==IF(C11="Y",4096+VLOOKUP(J11,DSP地址表!E:F,2,0),VLOOKUP(J11,ARM地址表!E:F,2,0)) | C11: N | D11: Y | E11: ==IF(C11="Y",VLOOKUP(J11,DSP地址表!E:I,5,0),VLOOKUP(J11,ARM地址表!E:I,5,0)) | F11: ==IF(C11="Y",VLOOKUP(J11,DSP地址表!E:I,3,0),VLOOKUP(J11,ARM地址表!E:I,3,0)) | G11: ==IF(C11="Y",VLOOKUP(J11,DSP地址表!E:I,4,0),VLOOKUP(J11,ARM地址表!E:I,4,0)) | H11: 设备状态 | I11: 通用信息 | J11: 户号 | K11: Y | L11: Y | M11: ==IF(C11="Y",VLOOKUP(J11,DSP地址表!E:J,6,0),VLOOKUP(J11,ARM地址表!E:J,6,0)) | N11: 显示数值
A12: ==DEC2HEX(B12) | B12: ==IF(C12="Y",4096+VLOOKUP(J12,DSP地址表!E:F,2,0),VLOOKUP(J12,ARM地址表!E:F,2,0)) | C12: N | D12: Y | E12: ==IF(C12="Y",VLOOKUP(J12,DSP地址表!E:I,5,0),VLOOKUP(J12,ARM地址表!E:I,5,0)) | F12: ==IF(C12="Y",VLOOKUP(J12,DSP地址表!E:I,3,0),VLOOKUP(J12,ARM地址表!E:I,3,0)) | G12: ==IF(C12="Y",VLOOKUP(J12,DSP地址表!E:I,4,0),VLOOKUP(J12,ARM地址表!E:I,4,0)) | H12: 设备状态 | I12: 通用信息 | J12: 虚拟电厂编号 | K12: Y | L12: Y | M12: ==IF(C12="Y",VLOOKUP(J12,DSP地址表!E:J,6,0),VLOOKUP(J12,ARM地址表!E:J,6,0)) | N12: 显示数值
A13: ==DEC2HEX(B13) | B13: ==IF(C13="Y",4096+VLOOKUP(J13,DSP地址表!E:F,2,0),VLOOKUP(J13,ARM地址表!E:F,2,0)) | C13: N | D13: Y | E13: ==IF(C13="Y",VLOOKUP(J13,DSP地址表!E:I,5,0),VLOOKUP(J13,ARM地址表!E:I,5,0)) | F13: ==IF(C13="Y",VLOOKUP(J13,DSP地址表!E:I,3,0),VLOOKUP(J13,ARM地址表!E:I,3,0)) | G13: ==IF(C13="Y",VLOOKUP(J13,DSP地址表!E:I,4,0),VLOOKUP(J13,ARM地址表!E:I,4,0)) | H13: 设备状态 | I13: 通用信息 | J13: 漏电流直流偏置AD值 | K13: Y | L13: Y | M13: ==IF(C13="Y",VLOOKUP(J13,DSP地址表!E:J,6,0),VLOOKUP(J13,ARM地址表!E:J,6,0)) | N13: 显示数值
A14: ==DEC2HEX(B14) | B14: ==IF(C14="Y",4096+VLOOKUP(J14,DSP地址表!E:F,2,0),VLOOKUP(J14,ARM地址表!E:F,2,0)) | C14: N | D14: Y | E14: ==IF(C14="Y",VLOOKUP(J14,DSP地址表!E:I,5,0),VLOOKUP(J14,ARM地址表!E:I,5,0)) | F14: ==IF(C14="Y",VLOOKUP(J14,DSP地址表!E:I,3,0),VLOOKUP(J14,ARM地址表!E:I,3,0)) | G14: ==IF(C14="Y",VLOOKUP(J14,DSP地址表!E:I,4,0),VLOOKUP(J14,ARM地址表!E:I,4,0)) | H14: 设备状态 | I14: 通用信息 | J14: 漏电流校准系数 | K14: Y | L14: Y | M14: ==IF(C14="Y",VLOOKUP(J14,DSP地址表!E:J,6,0),VLOOKUP(J14,ARM地址表!E:J,6,0)) | N14: 显示数值
A15: ==DEC2HEX(B15) | B15: ==IF(C15="Y",4096+VLOOKUP(J15,DSP地址表!E:F,2,0),VLOOKUP(J15,ARM地址表!E:F,2,0)) | C15: N | D15: Y | E15: ==IF(C15="Y",VLOOKUP(J15,DSP地址表!E:I,5,0),VLOOKUP(J15,ARM地址表!E:I,5,0)) | F15: ==IF(C15="Y",VLOOKUP(J15,DSP地址表!E:I,3,0),VLOOKUP(J15,ARM地址表!E:I,3,0)) | G15: ==IF(C15="Y",VLOOKUP(J15,DSP地址表!E:I,4,0),VLOOKUP(J15,ARM地址表!E:I,4,0)) | H15: 设备状态 | I15: 通用信息 | J15: 漏电流内部参考值 | K15: Y | L15: Y | N15: 显示数值
A16: ==DEC2HEX(B16) | B16: ==IF(C16="Y",4096+VLOOKUP(J16,DSP地址表!E:F,2,0),VLOOKUP(J16,ARM地址表!E:F,2,0)) | C16: N | D16: Y | E16: ==IF(C16="Y",VLOOKUP(J16,DSP地址表!E:I,5,0),VLOOKUP(J16,ARM地址表!E:I,5,0)) | F16: ==IF(C16="Y",VLOOKUP(J16,DSP地址表!E:I,3,0),VLOOKUP(J16,ARM地址表!E:I,3,0)) | G16: ==IF(C16="Y",VLOOKUP(J16,DSP地址表!E:I,4,0),VLOOKUP(J16,ARM地址表!E:I,4,0)) | H16: 设备状态 | I16: 通用信息 | J16: 国网地址 | K16: Y | L16: Y | M16: ==IF(C16="Y",VLOOKUP(J16,DSP地址表!E:J,6,0),VLOOKUP(J16,ARM地址表!E:J,6,0)) | N16: 显示数值
A17: ==DEC2HEX(B17) | B17: ==IF(C17="Y",4096+VLOOKUP(J17,DSP地址表!E:F,2,0),VLOOKUP(J17,ARM地址表!E:F,2,0)) | C17: N | D17: Y | E17: ==IF(C17="Y",VLOOKUP(J17,DSP地址表!E:I,5,0),VLOOKUP(J17,ARM地址表!E:I,5,0)) | F17: ==IF(C17="Y",VLOOKUP(J17,DSP地址表!E:I,3,0),VLOOKUP(J17,ARM地址表!E:I,3,0)) | G17: ==IF(C17="Y",VLOOKUP(J17,DSP地址表!E:I,4,0),VLOOKUP(J17,ARM地址表!E:I,4,0)) | H17: 设备状态 | I17: 通用信息 | J17: 表号（ESAM用） | K17: Y | L17: Y | M17: ==IF(C17="Y",VLOOKUP(J17,DSP地址表!E:J,6,0),VLOOKUP(J17,ARM地址表!E:J,6,0)) | N17: 显示数值
A18: ==DEC2HEX(B18) | B18: ==IF(C18="Y",4096+VLOOKUP(J18,DSP地址表!E:F,2,0),VLOOKUP(J18,ARM地址表!E:F,2,0)) | C18: N | D18: Y | E18: ==IF(C18="Y",VLOOKUP(J18,DSP地址表!E:I,5,0),VLOOKUP(J18,ARM地址表!E:I,5,0)) | F18: ==IF(C18="Y",VLOOKUP(J18,DSP地址表!E:I,3,0),VLOOKUP(J18,ARM地址表!E:I,3,0)) | G18: ==IF(C18="Y",VLOOKUP(J18,DSP地址表!E:I,4,0),VLOOKUP(J18,ARM地址表!E:I,4,0)) | H18: 设备状态 | I18: 通用信息 | J18: 设备状态 | K18: Y | L18: N | M18: ==IF(C18="Y",VLOOKUP(J18,DSP地址表!E:J,6,0),VLOOKUP(J18,ARM地址表!E:J,6,0)) | N18: 枚举解析 | O18: 0-离线 1-停机 2-自检 3-准备 4-运行 5-故障 6-关机
A19: ==DEC2HEX(B19) | B19: ==IF(C19="Y",4096+VLOOKUP(J19,DSP地址表!E:F,2,0),VLOOKUP(J19,ARM地址表!E:F,2,0)) | C19: N | D19: Y | E19: ==IF(C19="Y",VLOOKUP(J19,DSP地址表!E:I,5,0),VLOOKUP(J19,ARM地址表!E:I,5,0)) | F19: ==IF(C19="Y",VLOOKUP(J19,DSP地址表!E:I,3,0),VLOOKUP(J19,ARM地址表!E:I,3,0)) | G19: ==IF(C19="Y",VLOOKUP(J19,DSP地址表!E:I,4,0),VLOOKUP(J19,ARM地址表!E:I,4,0)) | H19: 设备状态 | I19: 通用信息 | J19: ARM地址表协议版本号 | K19: Y | L19: N | M19: ==IF(C19="Y",VLOOKUP(J19,DSP地址表!E:J,6,0),VLOOKUP(J19,ARM地址表!E:J,6,0)) | N19: 显示数值 | O19: - | Q19: ARM中的“DSP-ARM 串口通信”版本
A20: ==DEC2HEX(B20) | B20: ==IF(C20="Y",4096+VLOOKUP(J20,DSP地址表!E:F,2,0),VLOOKUP(J20,ARM地址表!E:F,2,0)) | C20: N | D20: Y | E20: ==IF(C20="Y",VLOOKUP(J20,DSP地址表!E:I,5,0),VLOOKUP(J20,ARM地址表!E:I,5,0)) | F20: ==IF(C20="Y",VLOOKUP(J20,DSP地址表!E:I,3,0),VLOOKUP(J20,ARM地址表!E:I,3,0)) | G20: ==IF(C20="Y",VLOOKUP(J20,DSP地址表!E:I,4,0),VLOOKUP(J20,ARM地址表!E:I,4,0)) | H20: 设备状态 | I20: 通用信息 | J20: CAN并机状态 | K20: Y | L20: N | M20: ==IF(C20="Y",VLOOKUP(J20,DSP地址表!E:J,6,0),VLOOKUP(J20,ARM地址表!E:J,6,0)) | N20: 显示数值 | O20: -
A21: ==DEC2HEX(B21) | B21: ==IF(C21="Y",4096+VLOOKUP(J21,DSP地址表!E:F,2,0),VLOOKUP(J21,ARM地址表!E:F,2,0)) | C21: N | D21: Y | E21: ==IF(C21="Y",VLOOKUP(J21,DSP地址表!E:I,5,0),VLOOKUP(J21,ARM地址表!E:I,5,0)) | F21: ==IF(C21="Y",VLOOKUP(J21,DSP地址表!E:I,3,0),VLOOKUP(J21,ARM地址表!E:I,3,0)) | G21: ==IF(C21="Y",VLOOKUP(J21,DSP地址表!E:I,4,0),VLOOKUP(J21,ARM地址表!E:I,4,0)) | H21: 设备状态 | I21: 通用信息 | J21: CAN并机检测数量 | K21: Y | L21: N | M21: ==IF(C21="Y",VLOOKUP(J21,DSP地址表!E:J,6,0),VLOOKUP(J21,ARM地址表!E:J,6,0)) | N21: 显示数值 | O21: -
A22: ==DEC2HEX(B22) | B22: ==IF(C22="Y",4096+VLOOKUP(J22,DSP地址表!E:F,2,0),VLOOKUP(J22,ARM地址表!E:F,2,0)) | C22: Y | D22: N | E22: ==IF(C22="Y",VLOOKUP(J22,DSP地址表!E:I,5,0),VLOOKUP(J22,ARM地址表!E:I,5,0)) | F22: ==IF(C22="Y",VLOOKUP(J22,DSP地址表!E:I,3,0),VLOOKUP(J22,ARM地址表!E:I,3,0)) | G22: ==IF(C22="Y",VLOOKUP(J22,DSP地址表!E:I,4,0),VLOOKUP(J22,ARM地址表!E:I,4,0)) | H22: 设备状态 | I22: 通用信息 | J22: 电压相序显示 | K22: Y | L22: N | M22: ==IF(C22="Y",VLOOKUP(J22,DSP地址表!E:J,6,0),VLOOKUP(J22,ARM地址表!E:J,6,0)) | N22: 枚举解析 | O22: 0-正相序 1-逆相序 2-无相序
A23: ==DEC2HEX(B23) | B23: ==IF(C23="Y",4096+VLOOKUP(J23,DSP地址表!E:F,2,0),VLOOKUP(J23,ARM地址表!E:F,2,0)) | C23: Y | D23: N | E23: ==IF(C23="Y",VLOOKUP(J23,DSP地址表!E:I,5,0),VLOOKUP(J23,ARM地址表!E:I,5,0)) | F23: ==IF(C23="Y",VLOOKUP(J23,DSP地址表!E:I,3,0),VLOOKUP(J23,ARM地址表!E:I,3,0)) | G23: ==IF(C23="Y",VLOOKUP(J23,DSP地址表!E:I,4,0),VLOOKUP(J23,ARM地址表!E:I,4,0)) | H23: 设备状态 | I23: 通用信息 | J23: 装置额定有功功率（设备容量） | K23: Y | L23: N | M23: ==IF(C23="Y",VLOOKUP(J23,DSP地址表!E:J,6,0),VLOOKUP(J23,ARM地址表!E:J,6,0)) | N23: 显示数值 | O23: -
A24: ==DEC2HEX(B24) | B24: ==IF(C24="Y",4096+VLOOKUP(J24,DSP地址表!E:F,2,0),VLOOKUP(J24,ARM地址表!E:F,2,0)) | C24: Y | D24: N | E24: ==IF(C24="Y",VLOOKUP(J24,DSP地址表!E:I,5,0),VLOOKUP(J24,ARM地址表!E:I,5,0)) | F24: ==IF(C24="Y",VLOOKUP(J24,DSP地址表!E:I,3,0),VLOOKUP(J24,ARM地址表!E:I,3,0)) | G24: ==IF(C24="Y",VLOOKUP(J24,DSP地址表!E:I,4,0),VLOOKUP(J24,ARM地址表!E:I,4,0)) | H24: 设备状态 | I24: 通用信息 | J24: 装置额定无功功率 | K24: Y | L24: N | M24: ==IF(C24="Y",VLOOKUP(J24,DSP地址表!E:J,6,0),VLOOKUP(J24,ARM地址表!E:J,6,0)) | N24: 显示数值 | O24: -
A25: ==DEC2HEX(B25) | B25: ==IF(C25="Y",4096+VLOOKUP(J25,DSP地址表!E:F,2,0),VLOOKUP(J25,ARM地址表!E:F,2,0)) | C25: Y | D25: N | E25: ==IF(C25="Y",VLOOKUP(J25,DSP地址表!E:I,5,0),VLOOKUP(J25,ARM地址表!E:I,5,0)) | F25: ==IF(C25="Y",VLOOKUP(J25,DSP地址表!E:I,3,0),VLOOKUP(J25,ARM地址表!E:I,3,0)) | G25: ==IF(C25="Y",VLOOKUP(J25,DSP地址表!E:I,4,0),VLOOKUP(J25,ARM地址表!E:I,4,0)) | H25: 设备状态 | I25: 通用信息 | J25: DSP使用地址表协议版本号 | K25: Y | L25: N | M25: ==IF(C25="Y",VLOOKUP(J25,DSP地址表!E:J,6,0),VLOOKUP(J25,ARM地址表!E:J,6,0)) | N25: 显示数值 | O25: - | Q25: DSP中的“DSP-ARM 串口通信”版本
A26: ==DEC2HEX(B26) | B26: ==IF(C26="Y",4096+VLOOKUP(J26,DSP地址表!E:F,2,0),VLOOKUP(J26,ARM地址表!E:F,2,0)) | C26: Y | D26: N | E26: ==IF(C26="Y",VLOOKUP(J26,DSP地址表!E:I,5,0),VLOOKUP(J26,ARM地址表!E:I,5,0)) | F26: ==IF(C26="Y",VLOOKUP(J26,DSP地址表!E:I,3,0),VLOOKUP(J26,ARM地址表!E:I,3,0)) | G26: ==IF(C26="Y",VLOOKUP(J26,DSP地址表!E:I,4,0),VLOOKUP(J26,ARM地址表!E:I,4,0)) | H26: 设备状态 | I26: 通用信息 | J26: 相数 | K26: Y | L26: N | M26: ==IF(C26="Y",VLOOKUP(J26,DSP地址表!E:J,6,0),VLOOKUP(J26,ARM地址表!E:J,6,0)) | N26: 枚举解析 | O26: 0-单相 1-三相
B27: ==IF(C27="Y",4096+VLOOKUP(J27,DSP地址表!E:F,2,0),VLOOKUP(J27,ARM地址表!E:F,2,0)) | E27: ==IF(C27="Y",VLOOKUP(J27,DSP地址表!E:I,5,0),VLOOKUP(J27,ARM地址表!E:I,5,0)) | F27: ==IF(C27="Y",VLOOKUP(J27,DSP地址表!E:I,3,0),VLOOKUP(J27,ARM地址表!E:I,3,0)) | G27: ==IF(C27="Y",VLOOKUP(J27,DSP地址表!E:I,4,0),VLOOKUP(J27,ARM地址表!E:I,4,0)) | J27: 预留
A28: ==DEC2HEX(B28) | B28: ==IF(C28="Y",4096+VLOOKUP(J28,DSP地址表!E:F,2,0),VLOOKUP(J28,ARM地址表!E:F,2,0)) | C28: Y | D28: N | E28: ==IF(C28="Y",VLOOKUP(J28,DSP地址表!E:I,5,0),VLOOKUP(J28,ARM地址表!E:I,5,0)) | F28: ==IF(C28="Y",VLOOKUP(J28,DSP地址表!E:I,3,0),VLOOKUP(J28,ARM地址表!E:I,3,0)) | G28: ==IF(C28="Y",VLOOKUP(J28,DSP地址表!E:I,4,0),VLOOKUP(J28,ARM地址表!E:I,4,0)) | H28: 设备状态 | I28: 状态标签 | J28: MPPT1状态 | K28: Y | L28: N | M28: ==IF(C28="Y",VLOOKUP(J28,DSP地址表!E:J,6,0),VLOOKUP(J28,ARM地址表!E:J,6,0)) | N28: 枚举解析 | O28: 0-待机 1-曲线扫描 2-BST功率追踪 3-旁路 4-稳压 5-恒流
A29: ==DEC2HEX(B29) | B29: ==IF(C29="Y",4096+VLOOKUP(J29,DSP地址表!E:F,2,0),VLOOKUP(J29,ARM地址表!E:F,2,0)) | C29: Y | D29: N | E29: ==IF(C29="Y",VLOOKUP(J29,DSP地址表!E:I,5,0),VLOOKUP(J29,ARM地址表!E:I,5,0)) | F29: ==IF(C29="Y",VLOOKUP(J29,DSP地址表!E:I,3,0),VLOOKUP(J29,ARM地址表!E:I,3,0)) | G29: ==IF(C29="Y",VLOOKUP(J29,DSP地址表!E:I,4,0),VLOOKUP(J29,ARM地址表!E:I,4,0)) | H29: 设备状态 | I29: 状态标签 | J29: MPPT2状态 | K29: Y | L29: N | M29: ==IF(C29="Y",VLOOKUP(J29,DSP地址表!E:J,6,0),VLOOKUP(J29,ARM地址表!E:J,6,0)) | N29: 枚举解析 | O29: 0-待机 1-曲线扫描 2-BST功率追踪 3-旁路 4-稳压 5-恒流
A30: ==DEC2HEX(B30) | B30: ==IF(C30="Y",4096+VLOOKUP(J30,DSP地址表!E:F,2,0),VLOOKUP(J30,ARM地址表!E:F,2,0)) | C30: Y | D30: N | E30: ==IF(C30="Y",VLOOKUP(J30,DSP地址表!E:I,5,0),VLOOKUP(J30,ARM地址表!E:I,5,0)) | F30: ==IF(C30="Y",VLOOKUP(J30,DSP地址表!E:I,3,0),VLOOKUP(J30,ARM地址表!E:I,3,0)) | G30: ==IF(C30="Y",VLOOKUP(J30,DSP地址表!E:I,4,0),VLOOKUP(J30,ARM地址表!E:I,4,0)) | H30: 设备状态 | I30: 状态标签 | J30: 显示运行模式 | K30: Y | L30: N | M30: ==IF(C30="Y",VLOOKUP(J30,DSP地址表!E:J,6,0),VLOOKUP(J30,ARM地址表!E:J,6,0)) | N30: 枚举解析 | O30: 0-模式预留
A31: ==DEC2HEX(B31) | B31: ==IF(C31="Y",4096+VLOOKUP(J31,DSP地址表!E:F,2,0),VLOOKUP(J31,ARM地址表!E:F,2,0)) | C31: Y | D31: N | E31: ==IF(C31="Y",VLOOKUP(J31,DSP地址表!E:I,5,0),VLOOKUP(J31,ARM地址表!E:I,5,0)) | F31: ==IF(C31="Y",VLOOKUP(J31,DSP地址表!E:I,3,0),VLOOKUP(J31,ARM地址表!E:I,3,0)) | G31: ==IF(C31="Y",VLOOKUP(J31,DSP地址表!E:I,4,0),VLOOKUP(J31,ARM地址表!E:I,4,0)) | H31: 设备状态 | I31: 状态标签 | J31: 故障状态标志 | K31: Y | L31: N | M31: ==IF(C31="Y",VLOOKUP(J31,DSP地址表!E:J,6,0),VLOOKUP(J31,ARM地址表!E:J,6,0)) | N31: 枚举解析 | O31: 0-非严重故障 1-严重故障
A32: ==DEC2HEX(B32) | B32: ==IF(C32="Y",4096+VLOOKUP(J32,DSP地址表!E:F,2,0),VLOOKUP(J32,ARM地址表!E:F,2,0)) | C32: Y | D32: N | E32: ==IF(C32="Y",VLOOKUP(J32,DSP地址表!E:I,5,0),VLOOKUP(J32,ARM地址表!E:I,5,0)) | F32: ==IF(C32="Y",VLOOKUP(J32,DSP地址表!E:I,3,0),VLOOKUP(J32,ARM地址表!E:I,3,0)) | G32: ==IF(C32="Y",VLOOKUP(J32,DSP地址表!E:I,4,0),VLOOKUP(J32,ARM地址表!E:I,4,0)) | H32: 设备状态 | I32: 状态标签 | J32: 逻辑状态标签 | K32: Y | L32: N | M32: ==IF(C32="Y",VLOOKUP(J32,DSP地址表!E:J,6,0),VLOOKUP(J32,ARM地址表!E:J,6,0)) | N32: 显示数值 | O32: -
A33: ==DEC2HEX(B33) | B33: ==IF(C33="Y",4096+VLOOKUP(J33,DSP地址表!E:F,2,0),VLOOKUP(J33,ARM地址表!E:F,2,0)) | C33: Y | D33: N | E33: ==IF(C33="Y",VLOOKUP(J33,DSP地址表!E:I,5,0),VLOOKUP(J33,ARM地址表!E:I,5,0)) | F33: ==IF(C33="Y",VLOOKUP(J33,DSP地址表!E:I,3,0),VLOOKUP(J33,ARM地址表!E:I,3,0)) | G33: ==IF(C33="Y",VLOOKUP(J33,DSP地址表!E:I,4,0),VLOOKUP(J33,ARM地址表!E:I,4,0)) | H33: 设备状态 | I33: 状态标签 | J33: 节能状态标签 | K33: Y | L33: N | M33: ==IF(C33="Y",VLOOKUP(J33,DSP地址表!E:J,6,0),VLOOKUP(J33,ARM地址表!E:J,6,0)) | N33: 显示数值 | O33: -
A34: ==DEC2HEX(B34) | B34: ==IF(C34="Y",4096+VLOOKUP(J34,DSP地址表!E:F,2,0),VLOOKUP(J34,ARM地址表!E:F,2,0)) | C34: Y | D34: N | E34: ==IF(C34="Y",VLOOKUP(J34,DSP地址表!E:I,5,0),VLOOKUP(J34,ARM地址表!E:I,5,0)) | F34: ==IF(C34="Y",VLOOKUP(J34,DSP地址表!E:I,3,0),VLOOKUP(J34,ARM地址表!E:I,3,0)) | G34: ==IF(C34="Y",VLOOKUP(J34,DSP地址表!E:I,4,0),VLOOKUP(J34,ARM地址表!E:I,4,0)) | H34: 设备状态 | I34: 状态标签 | J34: 锁相状态标签 | K34: Y | L34: N | M34: ==IF(C34="Y",VLOOKUP(J34,DSP地址表!E:J,6,0),VLOOKUP(J34,ARM地址表!E:J,6,0)) | N34: 显示数值 | O34: -
A35: ==DEC2HEX(B35) | B35: ==IF(C35="Y",4096+VLOOKUP(J35,DSP地址表!E:F,2,0),VLOOKUP(J35,ARM地址表!E:F,2,0)) | C35: Y | D35: N | E35: ==IF(C35="Y",VLOOKUP(J35,DSP地址表!E:I,5,0),VLOOKUP(J35,ARM地址表!E:I,5,0)) | F35: ==IF(C35="Y",VLOOKUP(J35,DSP地址表!E:I,3,0),VLOOKUP(J35,ARM地址表!E:I,3,0)) | G35: ==IF(C35="Y",VLOOKUP(J35,DSP地址表!E:I,4,0),VLOOKUP(J35,ARM地址表!E:I,4,0)) | H35: 设备状态 | I35: 状态标签 | J35: 辅助状态标签 | K35: Y | L35: N | M35: ==IF(C35="Y",VLOOKUP(J35,DSP地址表!E:J,6,0),VLOOKUP(J35,ARM地址表!E:J,6,0)) | N35: 显示数值 | O35: -
A36: ==DEC2HEX(B36) | B36: ==IF(C36="Y",4096+VLOOKUP(J36,DSP地址表!E:F,2,0),VLOOKUP(J36,ARM地址表!E:F,2,0)) | C36: Y | D36: N | E36: ==IF(C36="Y",VLOOKUP(J36,DSP地址表!E:I,5,0),VLOOKUP(J36,ARM地址表!E:I,5,0)) | F36: ==IF(C36="Y",VLOOKUP(J36,DSP地址表!E:I,3,0),VLOOKUP(J36,ARM地址表!E:I,3,0)) | G36: ==IF(C36="Y",VLOOKUP(J36,DSP地址表!E:I,4,0),VLOOKUP(J36,ARM地址表!E:I,4,0)) | H36: 设备状态 | I36: 状态标签 | J36: 过温半载运行标签 | K36: Y | L36: N | M36: ==IF(C36="Y",VLOOKUP(J36,DSP地址表!E:J,6,0),VLOOKUP(J36,ARM地址表!E:J,6,0)) | N36: 显示数值 | O36: -
A37: ==DEC2HEX(B37) | B37: ==IF(C37="Y",4096+VLOOKUP(J37,DSP地址表!E:F,2,0),VLOOKUP(J37,ARM地址表!E:F,2,0)) | C37: Y | D37: N | E37: ==IF(C37="Y",VLOOKUP(J37,DSP地址表!E:I,5,0),VLOOKUP(J37,ARM地址表!E:I,5,0)) | F37: ==IF(C37="Y",VLOOKUP(J37,DSP地址表!E:I,3,0),VLOOKUP(J37,ARM地址表!E:I,3,0)) | G37: ==IF(C37="Y",VLOOKUP(J37,DSP地址表!E:I,4,0),VLOOKUP(J37,ARM地址表!E:I,4,0)) | H37: 设备状态 | I37: 状态标签 | J37: DSP直流灯状态指示 | K37: Y | L37: N | M37: ==IF(C37="Y",VLOOKUP(J37,DSP地址表!E:J,6,0),VLOOKUP(J37,ARM地址表!E:J,6,0)) | N37: 枚举解析 | O37: 0-灭（未上电） 1- 绿色慢闪（上电） 2-绿色常亮（并网运行） 3-红色快闪（环境告警） 4-红色常亮（故障）
A38: ==DEC2HEX(B38) | B38: ==IF(C38="Y",4096+VLOOKUP(J38,DSP地址表!E:F,2,0),VLOOKUP(J38,ARM地址表!E:F,2,0)) | C38: Y | D38: N | E38: ==IF(C38="Y",VLOOKUP(J38,DSP地址表!E:I,5,0),VLOOKUP(J38,ARM地址表!E:I,5,0)) | F38: ==IF(C38="Y",VLOOKUP(J38,DSP地址表!E:I,3,0),VLOOKUP(J38,ARM地址表!E:I,3,0)) | G38: ==IF(C38="Y",VLOOKUP(J38,DSP地址表!E:I,4,0),VLOOKUP(J38,ARM地址表!E:I,4,0)) | H38: 设备状态 | I38: 状态标签 | J38: DSP交流灯状态指示 | K38: Y | L38: N | M38: ==IF(C38="Y",VLOOKUP(J38,DSP地址表!E:J,6,0),VLOOKUP(J38,ARM地址表!E:J,6,0)) | N38: 枚举解析 | O38: 0-灭（未上电） 1- 绿色慢闪（上电） 2-绿色常亮（并网运行） 3-红色快闪（环境告警） 4-红色常亮（故障）
A39: ==DEC2HEX(B39) | B39: ==IF(C39="Y",4096+VLOOKUP(J39,DSP地址表!E:F,2,0),VLOOKUP(J39,ARM地址表!E:F,2,0)) | C39: Y | D39: N | E39: ==IF(C39="Y",VLOOKUP(J39,DSP地址表!E:I,5,0),VLOOKUP(J39,ARM地址表!E:I,5,0)) | F39: ==IF(C39="Y",VLOOKUP(J39,DSP地址表!E:I,3,0),VLOOKUP(J39,ARM地址表!E:I,3,0)) | G39: ==IF(C39="Y",VLOOKUP(J39,DSP地址表!E:I,4,0),VLOOKUP(J39,ARM地址表!E:I,4,0)) | H39: 设备状态 | I39: 状态标签 | J39: 设备调制状态 | K39: Y | L39: N | M39: ==IF(C39="Y",VLOOKUP(J39,DSP地址表!E:J,6,0),VLOOKUP(J39,ARM地址表!E:J,6,0)) | N39: 显示数值
A40: ==DEC2HEX(B40) | B40: ==IF(C40="Y",4096+VLOOKUP(J40,DSP地址表!E:F,2,0),VLOOKUP(J40,ARM地址表!E:F,2,0)) | C40: Y | D40: N | E40: ==IF(C40="Y",VLOOKUP(J40,DSP地址表!E:I,5,0),VLOOKUP(J40,ARM地址表!E:I,5,0)) | F40: ==IF(C40="Y",VLOOKUP(J40,DSP地址表!E:I,3,0),VLOOKUP(J40,ARM地址表!E:I,3,0)) | G40: ==IF(C40="Y",VLOOKUP(J40,DSP地址表!E:I,4,0),VLOOKUP(J40,ARM地址表!E:I,4,0)) | H40: 设备状态 | I40: 状态标签 | J40: MPPT3状态 | K40: Y | L40: N | M40: ==IF(C40="Y",VLOOKUP(J40,DSP地址表!E:J,6,0),VLOOKUP(J40,ARM地址表!E:J,6,0)) | N40: 枚举解析 | O40: 0-待机 1-曲线扫描 2-BST功率追踪 3-旁路 4-稳压 5-恒流
...

Sheet 录波文件
A1: CFG
A2: 数据项 | B2: 字节数 | C2: 数据类型 | D2: 系数 | E2: 偏移 | F2: 小数点 | G2: 备注
A3: cfg文件版本标识 | B3: 2 | C3: UINT16 | D3: 0 | E3: 0 | F3: 0 | G3: 第一版0x33CC，该录波cfg文件包含到电压相序 第二版0xCC33，数据信息部分有效
A4: 累计录波次数 | B4: 2 | C4: UINT16 | D4: 0 | E4: 0 | F4: 0
A5: 故障触发位置 | B5: 2 | C5: UINT16 | D5: 0 | E5: 0 | F5: 0
A6: CPU1故障字1高16位 | B6: 2 | C6: UINT16 | D6: 0 | E6: 0 | F6: 0
A7: CPU1故障字1低16位 | B7: 2 | C7: UINT16 | D7: 0 | E7: 0 | F7: 0
A8: CPU1故障字2高16位 | B8: 2 | C8: UINT16 | D8: 0 | E8: 0 | F8: 0
A9: CPU1故障字2低16位 | B9: 2 | C9: UINT16 | D9: 0 | E9: 0 | F9: 0
A10: CPU2故障字1高16位 | B10: 2 | C10: UINT16 | D10: 0 | E10: 0 | F10: 0
A11: CPU2故障字1低16位 | B11: 2 | C11: UINT16 | D11: 0 | E11: 0 | F11: 0
A12: CPU2故障字2高16位 | B12: 2 | C12: UINT16 | D12: 0 | E12: 0 | F12: 0
A13: CPU2故障字2低16位 | B13: 2 | C13: UINT16 | D13: 0 | E13: 0 | F13: 0
A14: 录波触发时间 | B14: 6 | C14: UINT16 | D14: 0 | E14: 0 | F14: 0 | G14: 秒分时日月年
A15: 主CT位置 | B15: 2 | C15: UINT16 | D15: 0 | E15: 0 | F15: 0
A16: 主CT变比 | B16: 2 | C16: UINT16 | D16: 0 | E16: 0 | F16: 0
A17: 辅CT变比 | B17: 2 | C17: UINT16 | D17: 0 | E17: 0 | F17: 0
A18: 补偿模式 | B18: 2 | C18: UINT16 | D18: 0 | E18: 0 | F18: 0
A19: 电压相序 | B19: 2 | C19: UINT16 | D19: 0 | E19: 0 | F19: 0
A20: 预留 | B20: 60
A21: 数据信息中文解析方式 | B21: 2 | C21: UINT16 | D21: 0 | E21: 0 | F21: 0 | G21: 0-GBK;1-UTF-8
A22: 数据信息 | B22: n | C22: ASCII | G22: 名称1,数据类型（有符号1，无符号0）,小数点位数/n ... 名称n,数据类型（有符号1，无符号0）,小数点位数/n
A23: 预留
A25: DAT
A26: 采样序号（4字节） | B26: 采样时间（4字节） | C26: 数据（31*2字节）： | D26: DSP-ARM SPI通信
A27: 01 00 00 00 | B27: 32 00 00 00 | C27: …… | G27: 采样1
A28: 02 00 00 00 | B28: 64 00 00 00 | C28: …… | G28: 采样2
A29: …… | B29: …… | C29: …… | G29: ……
A30: 40 06 00 00 | B30: 80 38 01 00 | C30: …… | G30: 采样1600

Sheet DSP故障码
A1: 故障 | B1: 直流侧告警 | C1: 交流侧告警 | D1: 通讯告警 | E1: 交直流侧均告警 | F1: 不做处理 | G1: 预留（不做处理）
A2: 故障名称 | B2: 所属故障码 | C2: 故障码位域 | D2: 判断机构 | E2: 故障判定条件 | F2: 故障动作 | G2: 故障恢复条件 | H2: 判断模块 | I2: 是否触发录波 | J2: LED状态指示
A3: 版本号 | B3: 改动时间 | C3: 改动人 | D3: 内容
A7: A相电压缺相 | B7: faultCpu_1 | C7: 0 | D7: simulink逻辑 | E7: A电网电压有效值低于100v，且持续时间超过2s | F7: 停机，故障封波，继电器断开 | G7: （1）电网电压恢复到正常180以上。 （2）自动复位延时300s到达或者手动复位 | H7: 控制逻辑（2ms执行一次） | I7: 是 | J7: 交流侧告警
A8: B相电压缺相 | B8: faultCpu_1 | C8: 1 | D8: simulink逻辑 | E8: B电网电压有效值低于100v，且持续时间超过2s | F8: 停机，故障封波，继电器断开 | G8: （1）电网电压恢复到正常180以上。 （2）自动复位延时300s到达或者手动复位 | H8: 控制逻辑（2ms执行一次） | I8: 是 | J8: 交流侧告警
A9: C相电压缺相 | B9: faultCpu_1 | C9: 2 | D9: simulink逻辑 | E9: C电网电压有效值低于100v，且持续时间超过2s | F9: 停机，故障封波，继电器断开 | G9: （1）电网电压恢复到正常180以上。 （2）自动复位延时300s到达或者手动复位 | H9: 控制逻辑（2ms执行一次） | I9: 是 | J9: 交流侧告警
A10: 设备离网(断电) | B10: faultCpu_1 | C10: 3 | D10: simulink逻辑 | E10: A相、B相、C相均缺相 | F10: 停机，故障封波，继电器断开 | G10: （1）3相电网电压均恢复到正常180以上。 （2）自动复位延时300s到达或者手动复位 | H10: 控制逻辑（2ms执行一次） | I10: 是 | J10: 不做处理
A11: A相交流过压 | B11: faultCpu_1 | C11: 4 | D11: 后台任务 | E11: A电网电压有效值高于286v（可设置），且持续时间超过10ms | F11: 停机，故障封波，继电器断开 | G11: （1）电网电压恢复到正常242以下。 （2）自动复位延时300s到达或者手动复位 | H11: 控制逻辑（2ms执行一次） | I11: 是 | J11: 交流侧告警
A12: B相交流过压 | B12: faultCpu_1 | C12: 5 | D12: 后台任务 | E12: B电网电压有效值低于286v（可设置），且持续时间超过10ms | F12: 停机，故障封波，继电器断开 | G12: （1）电网电压恢复到正常242以下。 （2）自动复位延时300s到达或者手动复位 | H12: 控制逻辑（2ms执行一次） | I12: 是 | J12: 交流侧告警
A13: C相交流过压 | B13: faultCpu_1 | C13: 6 | D13: 后台任务 | E13: C电网电压有效值低于286v（可设置），且持续时间超过10ms | F13: 停机，故障封波，继电器断开 | G13: （1）电网电压恢复到正常242以下。 （2）自动复位延时300s到达或者手动复位 | H13: 控制逻辑（2ms执行一次） | I13: 是 | J13: 交流侧告警
A14: A相交流欠压 | B14: faultCpu_1 | C14: 7 | D14: 后台任务 | E14: A电网电压有效值低于154v（可设置），且持续时间超过10ms | F14: 停机，故障封波，继电器断开 | G14: （1）电网电压恢复到正常190以上。 （2）自动复位延时299s到达或者手动复位 | I14: 否 | J14: 交流侧告警
A15: B相交流欠压 | B15: faultCpu_1 | C15: 8 | D15: 后台任务 | E15: B电网电压有效值低于154v（可设置），且持续时间超过10ms | F15: 停机，故障封波，继电器断开 | G15: （1）电网电压恢复到正常190以上。 （2）自动复位延时300s到达或者手动复位 | H15: 控制逻辑（2ms执行一次） | I15: 是 | J15: 交流侧告警
A16: C相交流欠压 | B16: faultCpu_1 | C16: 9 | D16: 后台任务 | E16: C电网电压有效值低于154v（可设置），且持续时间超过10ms | F16: 停机，故障封波，继电器断开 | G16: （1）电网电压恢复到正常190以上。 （2）自动复位延时300s到达或者手动复位 | H16: 控制逻辑（2ms执行一次） | I16: 是 | J16: 交流侧告警
A17: A相滤波电容过压(有效值) | B17: faultCpu_1 | C17: 10 | D17: 后台任务 | E17: A电容电压有效值高于330v，且持续时间超过100ms | F17: 停机，故障封波，继电器断开 | G17: （1）电容电压恢复到正常250V以下。 （2）自动复位延时300s到达或者手动复位 | H17: 控制逻辑（2ms执行一次） | I17: 是 | J17: 故障
A18: B相滤波电容过压(有效值) | B18: faultCpu_1 | C18: 11 | D18: 后台任务 | E18: B电容电压有效值高于330v，且持续时间超过100ms | F18: 停机，故障封波，继电器断开 | G18: （1）电容电压恢复到正常250V以下。 （2）自动复位延时300s到达或者手动复位 | H18: 控制逻辑（2ms执行一次） | I18: 是 | J18: 故障
A19: C相滤波电容过压(有效值) | B19: faultCpu_1 | C19: 12 | D19: 后台任务 | E19: C电容电压有效值高于330v，且持续时间超过100ms | F19: 停机，故障封波，继电器断开 | G19: （1）电容电压恢复到正常250V以下。 （2）自动复位延时300s到达或者手动复位 | H19: 控制逻辑（2ms执行一次） | I19: 是 | J19: 故障
A20: 电网频率过频 | B20: faultCpu_1 | C20: 13 | D20: 后台任务 | E20: 电网频率超过50.5Hz，且持续时间超过200ms | F20: 停机，故障封波，继电器断开 | G20: （1）电网频率恢复到50.5Hz以下。 （2）自动复位延时300s到达或者手动复位 | H20: 控制逻辑（2ms执行一次） | I20: 是 | J20: 交流侧告警
A21: 电网频率欠频 | B21: faultCpu_1 | C21: 14 | D21: 后台任务 | E21: 电网频率低于47.5Hz，且持续时间超过200ms | F21: 停机，故障封波，继电器断开 | G21: （1）电容电压恢复到正常48.5Hz以上。 （2）自动复位延时300s到达或者手动复位 | H21: 控制逻辑（2ms执行一次） | I21: 是 | J21: 交流侧告警
A22: 预留1-15 | B22: faultCpu_1 | C22: 15 | I22: 否 | J22: 预留（不做处理）
A23: A相滤波电容过流 | B23: faultCpu_2 | C23: 0 | E23: A相滤波电容电流大于过流阈值10A，且持续时间超过100ms | F23: 停机，故障封波，继电器断开 | G23: 手动复位 | H23: 控制逻辑（2ms执行一次） | I23: 是 | J23: 故障
A24: B相滤波电容过流 | B24: faultCpu_2 | C24: 1 | E24: B相滤波电容电流大于过流阈值10A，且持续时间超过100ms | F24: 停机，故障封波，继电器断开 | G24: 手动复位 | H24: 控制逻辑（2ms执行一次） | I24: 是 | J24: 故障
A25: C相滤波电容过流 | B25: faultCpu_2 | C25: 2 | E25: C相滤波电容电流大于过流阈值10A，且持续时间超过100ms | F25: 停机，故障封波，继电器断开 | G25: 手动复位 | H25: 控制逻辑（2ms执行一次） | I25: 是 | J25: 故障
A26: A相逆变过流保护 | B26: faultCpu_2 | C26: 3 | E26: A相逆变电流大于逆变过流保护的有效值55A，且持续时间超过100ms | F26: 停机，故障封波，继电器断开 | G26: 手动复位 | H26: 控制逻辑（2ms执行一次） | I26: 是 | J26: 故障
A27: B相逆变过流保护 | B27: faultCpu_2 | C27: 4 | E27: B相逆变电流大于逆变过流保护的有效值55A，且持续时间超过100ms | F27: 停机，故障封波，继电器断开 | G27: 手动复位 | H27: 控制逻辑（2ms执行一次） | I27: 是 | J27: 故障
A28: C相逆变过流保护 | B28: faultCpu_2 | C28: 5 | E28: C相逆变电流大于逆变过流保护的有效值55A，且持续时间超过100ms | F28: 停机，故障封波，继电器断开 | G28: 手动复位 | H28: 控制逻辑（2ms执行一次） | I28: 是 | J28: 故障
A29: 孤岛保护 | B29: faultCpu_2 | C29: 6 | F29: 停机，故障封波，继电器断开 | J29: 交流侧告警
A30: 预留 | B30: faultCpu_2 | C30: 7 | J30: 预留（不做处理）
A31: 预留 | B31: faultCpu_2 | C31: 8 | J31: 预留（不做处理）
A32: 预留 | B32: faultCpu_2 | C32: 9 | J32: 预留（不做处理）
A33: 预留 | B33: faultCpu_2 | C33: 10 | H33: 控制逻辑（2ms执行一次） | I33: 否 | J33: 预留（不做处理）
A34: 预留 | B34: faultCpu_2 | C34: 11 | J34: 预留（不做处理）
A35: 预留 | B35: faultCpu_2 | C35: 12 | H35: 控制逻辑（2ms执行一次） | I35: 否 | J35: 预留（不做处理）
A36: 预留 | B36: faultCpu_2 | C36: 13 | H36: 控制逻辑（2ms执行一次） | I36: 否 | J36: 预留（不做处理）
A37: 预留 | B37: faultCpu_2 | C37: 14 | H37: 控制逻辑（2ms执行一次） | I37: 否 | J37: 预留（不做处理）
A38: 预留 | B38: faultCpu_2 | C38: 15 | H38: 控制逻辑（2ms执行一次） | I38: 否 | J38: 预留（不做处理）
A39: MPPT1输入过压 | B39: faultCpu_3 | C39: 0 | D39: simulink逻辑 | E39: MPPT输入电压值大于1050V,，且持续时间超过2ms | F39: 停机，故障封波，继电器断开 | G39: 手动复位 | H39: 控制逻辑（2ms执行一次） | I39: 是 | J39: 直流侧告警
A40: MPPT2输入过压 | B40: faultCpu_3 | C40: 1 | D40: simulink逻辑 | E40: MPPT输入电压值大于1050V,，且持续时间超过2ms | F40: 停机，故障封波，继电器断开 | G40: 手动复位 | H40: 控制逻辑（2ms执行一次） | I40: 是 | J40: 直流侧告警
A41: MPPT3输入过压 | B41: faultCpu_3 | C41: 2 | D41: simulink逻辑 | E41: MPPT输入电压值大于1050V,，且持续时间超过2ms | F41: 停机，故障封波，继电器断开 | G41: 手动复位 | H41: 控制逻辑（2ms执行一次） | I41: 是 | J41: 直流侧告警
A42: MPPT4输入过压 | B42: faultCpu_3 | C42: 3 | D42: simulink逻辑 | E42: MPPT输入电压值大于1050V,，且持续时间超过2ms | F42: 停机，故障封波，继电器断开 | G42: 手动复位 | H42: 控制逻辑（2ms执行一次） | I42: 是 | J42: 直流侧告警
A43: MPPT1短路 | B43: faultCpu_3 | C43: 4 | D43: simulink逻辑 | E43: 若端口电压低于100V、电流大于2A,且持续时间超过5s | F43: 停机，故障封波，继电器断开 | G43: 手动复位 | H43: 控制逻辑（2ms执行一次） | I43: 是 | J43: 故障
...

Sheet ARM故障码
A1: 版本号 | B1: 改动时间 | C1: 改动人 | D1: 内容
A2: V01 | B2: 45467
A3: V02 | B3: 45496 | C3: 侯孝振 | D3: 更新所有故障码名称
A4: V03 | B4: 45526 | C4: 刘观辉 | D4: 更新arm_fault_code1故障码名称
A8: 故障名称 | B8: 地址表对应数据名 | C8: 所属故障码 | D8: 故障码位域 | E8: 判断机构 | F8: 故障判定条件 | G8: 故障动作 | H8: 故障恢复条件 | I8: 判断模块 | J8: LED状态指示
A9: DSP-UART通信故障 | B9: ARM故障1 | C9: arm_fault_code1 | D9: 0 | G9: 停机 | J9: 故障
A10: DSP-SPI通信故障 | C10: arm_fault_code1 | D10: 1 | G10: 停机 | J10: 故障
A11: 绝缘检测故障 | C11: arm_fault_code1 | D11: 2 | F11: 绝缘阻抗小于阈值 | G11: 停机 | J11: 故障
A12: 功率自检超时故障 | C12: arm_fault_code1 | D12: 3 | F12: 自检时间超过阈值 | G12: 停机 | J12: 故障
A13: 腔体1过温故障 | C13: arm_fault_code1 | D13: 4 | F13: 温度超过设定阈值一定时间 | G13: 停机 | J13: 故障
A14: 腔体2过温故障 | C14: arm_fault_code1 | D14: 5 | F14: 温度超过设定阈值一定时间 | G14: 停机 | J14: 故障
A15: 散热片过温故障 | C15: arm_fault_code1 | D15: 6 | F15: 温度超过设定阈值一定时间 | G15: 停机 | J15: 故障
A16: 漏电流缓变故障 | C16: arm_fault_code1 | D16: 7 | G16: 停机 | J16: 故障
A17: 漏电流1级突变故障 | C17: arm_fault_code1 | D17: 8 | G17: 停机 | J17: 故障
A18: 漏电流2级突变故障 | C18: arm_fault_code1 | D18: 9
A19: 漏电流3级突变故障 | C19: arm_fault_code1 | D19: 10
A20: 预留1-11 | C20: arm_fault_code1 | D20: 11
A21: 预留1-12 | C21: arm_fault_code1 | D21: 12
A22: 预留1-13 | C22: arm_fault_code1 | D22: 13
A23: 预留1-14 | C23: arm_fault_code1 | D23: 14
A24: 预留1-15 | C24: arm_fault_code1 | D24: 15
A25: 预留2-0 | B25: ARM故障2 | C25: arm_fault_code2 | D25: 0
A26: 预留2-1 | C26: arm_fault_code2 | D26: 1
A27: 预留2-2 | C27: arm_fault_code2 | D27: 2
A28: 预留2-3 | C28: arm_fault_code2 | D28: 3
A29: 预留2-4 | C29: arm_fault_code2 | D29: 4
A30: 预留2-5 | C30: arm_fault_code2 | D30: 5
A31: 预留2-6 | C31: arm_fault_code2 | D31: 6
A32: 预留2-7 | C32: arm_fault_code2 | D32: 7
A33: 预留2-8 | C33: arm_fault_code2 | D33: 8
A34: 预留2-9 | C34: arm_fault_code2 | D34: 9
A35: 预留2-10 | C35: arm_fault_code2 | D35: 10
A36: 预留2-11 | C36: arm_fault_code2 | D36: 11
A37: 预留2-12 | C37: arm_fault_code2 | D37: 12
... A40: 预留2-15 | C40: arm_fault_code2 | D40: 15
A41: 预留3-0 | B41: ARM故障3 | C41: arm_fault_code3 | D41: 0
A42: 预留3-1 | C42: arm_fault_code3 | D42: 1
A43: 预留3-2 | C43: arm_fault_code3 | D43: 2
A44: 预留3-3 | C44: arm_fault_code3 | D44: 3
A45: 预留3-4 | C45: arm_fault_code3 | D45: 4
...

Sheet 事件
A1: 地址 | B1: 数据名 | C1: 数据类型 | D1: 解析方式 | E1: 解析规则
A2: 1-2 | B2: 历史累计发生次数 | C2: UINT32 | D2: 显示数值
A3: 3-5 | B3: 时间 | C3: BIN | D3: 日期时间
A4: 7 | B4: ARM故障1 | C4: BIN | D4: 按位解析 | E4: 8-漏电流突变故障 9-预留1-9 10-预留1-10 11-预留1-11 12-预留1-12 13-预留1-13 14-预留1-14 15-预留1-15 0-DSP-UART通信故障 1-DSP-SPI通信故障 2-绝缘检测故障 3-功率自检超时故障 4-腔体1过温故障 5-腔体2过温故障 6-散热片过温故障 7-漏电流缓变故障
A5: 8 | B5: ARM故障2 | C5: BIN | D5: 按位解析 | E5: 8,预留2-8 9,预留2-9 10,预留2-10 11,预留2-11 12,预留2-12 13,预留2-13 14,预留2-14 15,预留2-15 0,预留2-0 1,预留2-1 2,预留2-2 3,预留2-3 4,预留2-4 5,预留2-5 6,预留2-6 7,预留2-7
A6: 9 | B6: ARM故障3 | C6: BIN | D6: 按位解析 | E6: 8,预留3-8 9,预留3-9 10,预留3-10 11,预留3-11 12,预留3-12 13,预留3-13 14,预留3-14 15,预留3-15 0,预留3-0 1,预留3-1 2,预留3-2 3,预留3-3 4,预留3-4 5,预留3-5 6,预留3-6 7,预留3-7
A7: 10 | B7: ARM告警1 | C7: BIN | D7: 按位解析 | E7: 8-散热片温度异常告警 9-腔体风扇2告警 10-外部风扇3告警 11-预留1-11 12-预留1-12 13-预留1-13 14-预留1-14 15-预留1-15 0-4G通信告警 1-载波通信告警 2-DSP通信协议版本不一致 3-腔体风扇告警 4-外部风扇1告警 5-外部风扇2告警 6-腔体1温度异常告警 7-腔体2温度异常告警
A8: 11 | B8: ARM告警2 | C8: BIN | D8: 按位解析 | E8: 8,预留2-8 9,预留2-9 10,预留2-10 11,预留2-11 12,预留2-12 13,预留2-13 14,预留2-14 15,预留2-15 0,预留2-0 1,预留2-1 2,预留2-2 3,预留2-3 4,预留2-4 5,预留2-5 6,预留2-6 7,预留2-7
A9: 17 | B9: DSP,CPU1故障1 | C9: BIN | D9: 按位解析 | E9: 8-B相交流欠压 9-C相交流欠压 10-A相滤波电容过压(有效值) 11-B相滤波电容过压(有效值) 12-C相滤波电容过压(有效值) 13-电网频率过频 14-电网频率欠频 15-预留1-15 0-A相电压缺相 1-B相电压缺相 2-C相电压缺相 3-设备离网(断电) 4-A相交流过压 5-B相交流过压 6-C相交流过压 7-A相交流欠压
A10: 18 | B10: DSP,CPU1故障2 | C10: BIN | D10: 按位解析 | E10: 8-预留2-8 9-预留2-9 10-预留2-10 11-预留2-11 12-预留2-12 13-预留2-13 14-预留2-14 15-预留2-15 0-A相滤波电容过流 1-B相滤波电容过流 2-C相滤波电容过流 3-A相逆变过流保护 4-B相逆变过流保护 5-C相逆变过流保护 6-孤岛保护 7-预留2-7
A11: 19 | B11: DSP,CPU1故障3 | C11: BIN | D11: 按位解析 | E11: 8-PV1反接 9-PV2反接 10-PV3反接 11-PV4反接 12-PV1电流回灌 13-PV2电流回灌 14-PV3电流回灌 15-PV4电流回灌 0-MPPT1输入过压 1-MPPT2输入过压 2-MPPT3输入过压 3-MPPT4输入过压 4-MPPT1短路 5-MPPT2短路 6-MPPT3短路 7-MPPT4短路
A12: 20 | B12: DSP,CPU1故障4 | C12: BIN | D12: 按位解析 | E12: 8,预留4-8 9,预留4-9 10,预留4-10 11,预留4-11 12,预留4-12 13,预留4-13 14,预留4-14 15,预留4-15 0,预留4-0 1,预留4-1 2,预留4-2 3,预留4-3 4,预留4-4 5,预留4-5 6,预留4-6 7,预留4-7
A13: 21 | B13: DSP,CPU2故障1 | C13: BIN | D13: 按位解析 | E13: 8-A相逆变过流(软件) 9-B相逆变过流(软件) 10-C相逆变过流(软件) 11-上母线过压(软件) 12-下母线过压(软件) 13-A相滤波电容过压 14-B相滤波电容过压 15-C相滤波电容过压 0-MPPT1过流(软件) 1-MPPT2过流(软件) 2-MPPT3过流(软件) 3-MPPT4过流(软件) 4-MPPT1过流(硬件) 5-MPPT2过流(硬件) 6-MPPT3过流(硬件) 7-MPPT4过流(硬件)
A14: 22 | B14: DSP,CPU2故障2 | C14: BIN | D14: 按位解析 | E14: 8-预留6-8 9-预留6-9 10-预留6-10 11-预留6-11 12-预留6-12 13-预留6-13 14-预留6-14 15-预留6-15 0-A相逆变过流(硬件) 1-B相逆变过流(硬件) 2-C相逆变过流(硬件) 3-母线过压(硬件) 4-上母线欠压 5-下母线欠压 6-预留6-6 7-预留6-7
A15: 23 | B15: DSP,CPU2故障3 | C15: BIN | D15: 按位解析 | E15: 8,预留7-8 9,预留7-9 10,预留7-10 11,预留7-11 12,预留7-12 13,预留7-13 14,预留7-14 15,预留7-15 0,预留7-0 1,预留7-1 2,预留7-2 3,预留7-3 4,预留7-4 5,预留7-5 6,预留7-6 7,预留7-7
... A20: 28 | B20: DSP自检事件2 | C20: BIN | D20: 按位解析 | E20: 8,预留12-8 9,预留12-9 10,预留12-10 11,预留12-11 12,预留12-12 13,预留12-13 14,预留12-14 15,预留12-15 0,预留12-0 1,预留12-1 2,预留12-2 3,预留12-3 4,预留12-4 5,预留12-5 6,预留12-6 7,预留12-7

Sheet 96点
A1: 地址 | B1: 数据名 | C1: 数据类型 | D1: 小数位 | E1: 解析方式 | F1: 解析规则 | G1: 单位
A2: 1-2 | B2: 历史累计发生次数 | C2: UINT32 | D2: 0 | E2: 显示数值 | G2: -
A3: 3-6 | B3: 时间 | C3: BIN | D3: 0 | E3: 日期时间 | G3: -
A4: 7-8 | B4: 累计发电量 | C4: UINT32 | D4: 3 | E4: 显示10进制 | G4: KW·h
A5: 9-10 | B5: 累计用电量 | C5: UINT32 | D5: 3 | E5: 显示10进制 | G5: KW·h
A6: 11 | B6: A相电网电压 | C6: UINT16 | D6: 2 | E6: 显示10进制 | G6: V
A7: 12 | B7: B相电网电压 | C7: UINT16 | D7: 2 | E7: 显示10进制 | G7: V
A8: 13 | B8: C相电网电压 | C8: UINT16 | D8: 2 | E8: 显示10进制 | G8: V
A9: 14 | B9: A相网侧有功功率 | C9: INT16 | D9: 1 | E9: 显示10进制 | G9: KW
A10: 15 | B10: B相网侧有功功率 | C10: INT16 | D10: 1 | E10: 显示10进制 | G10: KW
A11: 16 | B11: C相网侧有功功率 | C11: INT16 | D11: 1 | E11: 显示10进制 | G11: KW
A12: 17 | B12: 网侧有功功率总 | C12: INT16 | D12: 1 | E12: 显示10进制 | G12: KW
A13: 18 | B13: A相网侧无功功率 | C13: INT16 | D13: 1 | E13: 显示10进制 | G13: kvar
A14: 19 | B14: B相网侧无功功率 | C14: INT16 | D14: 1 | E14: 显示10进制 | G14: kvar
A15: 20 | B15: C相网侧无功功率 | C15: INT16 | D15: 1 | E15: 显示10进制 | G15: kvar
A16: 21 | B16: 网侧无功功率总 | C16: INT16 | D16: 1 | E16: 显示10进制 | G16: kvar
A17: 22 | B17: A相网侧视在功率 | C17: UINT16 | D17: 1 | E17: 显示10进制 | G17: kVA
A18: 23 | B18: B相网侧视在功率 | C18: UINT16 | D18: 1 | E18: 显示10进制 | G18: kVA
A19: 24 | B19: C相网侧视在功率 | C19: UINT16 | D19: 1 | E19: 显示10进制 | G19: kVA
A20: 25 | B20: 网侧视在功率总 | C20: UINT16 | D20: 1 | E20: 显示10进制 | G20: kVA
A21: 26 | B21: A相网侧功率因数 | C21: INT16 | D21: 4 | E21: 显示10进制 | G21: -
A22: 27 | B22: B相网侧功率因数 | C22: INT16 | D22: 4 | E22: 显示10进制 | G22: -
A23: 28 | B23: C相网侧功率因数 | C23: INT16 | D23: 4 | E23: 显示10进制 | G23: -
... A32: 37 | B32: 陕西645协议运行状态字 | C32: UINT16 | D32: 0 | E32: 显示10进制 | G32: -

Sheet 通信地址表
A1: 地址域 | B1: Modbus功能码 | C1: 是否多地址 | D1: 寄存器地址 | E1: 一类标题 | F1: 二类标题 | G1: 数据名 | H1: 读 | I1: 写 | J1: 数据类型 | K1: 小数位 | L1: 单位 | M1: 解析方式 | N1: 解析规则 | O1: 是否记录 | P1: 超级用户权限 | Q1: 3761FN | R1: 协议版本:33
A2: 00 | B2: 03 | C2: N | D2: 206 | E2: 主页 | F2: 设备类型 | G2: 设备类型 | H2: Y | I2: N | J2: UINT16 | K2: 0 | M2: 枚举解析 | N2: 0-FVR 1-MVR 2-SVG30 3-AUC30 4-SVG10C 5-智能电容器 6-SVG50/100 7-光伏逆变器2.1 8-PCS105 | O2: N | P2: N
A3: 00 | B3: 03 | C3: N | D3: 208 | E3: 主页 | F3: 设备状态 | G3: 设备状态 | H3: Y | I3: N | J3: UINT16 | K3: 0 | M3: 枚举解析 | N3: 0-离线 1-停机 2-自检 3-准备 4-运行 5-故障 6-关机 | O3: N | P3: N
A4: 00 | B4: 03 | C4: N | D4: 100 | E4: 主页 | F4: 工作模式 | G4: 工作模式 | H4: Y | I4: Y | J4: UINT16 | K4: 0 | M4: 枚举解析 | N4: 0-并网模式 1-恒流模式 | O4: N | P4: N
A5: 00 | B5: 03 | C5: N | D5: 13 | E5: 主页 | F5: 设备地址 | G5: 行政区域码 | H5: Y | I5: Y | J5: BCD | K5: 0 | M5: 显示数值 | O5: N | P5: N
