Workbook

Sheet 填写说明
A1: 1、不同数据分类说明： 指令信息：触发设备动作的信息，比如开关机、故障复位、芯片复位等； 参考值：主要是设置电压、电流、功率等参考值 状态信息：设备运行过程中自身的状态，包括电压电流、运行模式、温度、程序执行位置等 基本参数：用于约束设备运行模式的一些参数，比如定时开关机时间、节能模式使能、CT位置等信息，这些信息会影响设备运行，但是不会直接触发设备动作； 环路控制参数：闭环控制的参数，多为浮点类型数据，主要影响设备性能，比如PID、谐振参数等，也包括限幅值参数； 保护阈值参数：用于触发保护动作的参数，比如过压过流参数等 故障数据：实际属于设备的状态信息，但是由于需要按位解析，在此单独列出来 2、更改说明 每次修改之后必须要填写修改记录，并更新地址表版本号，详见修改记录sheet
A15: 默认值、上下限支持多地址设置，例：
A16: {0, 0, 1} | E16: 两边使用花括号（英文） 值中间使用", "（英文逗号+空格）间隔
A17: 默认值、上下限支持不同设备宏定义方式，例：
A18: SVG50:{0, 1, 2}; SVG100:{3, 4, 5} | E18: 多地址复用 | F18: 不同设备使用";\n"（英文分号+回车（ALT+回车））间隔 设备名与值之间使用":"（英文冒号）间隔 设备名需是工程宏定义，且在生成工具config文件中
A19: SVG50:10; SVG100:12 | E19: 单地址复用
A21: 地址表版本管理：
A22: 1、在修改记录中填写修改信息，并填写版本号
A23: 2、使用脚本生成程序代码及APP地址表，地址表版本号显示在《通信地址表》sheet页第一行
A24: 3、使用地址表查询设备中的ARM及DSP协议版本号，位于“设备状态”-“通用信息”中

Sheet 版本号
A1: 协议号 | B1: 设备类型 | C1: 是否展示 | D1: 更新内容 | E1: 升级说明 | F1: 升级码
A2: 1.0 | B2: 7 | C2: Y | D2: 123 | E2: 配电/交采升级文件：升级配电模块 功率升级文件：升级功率模块 直流载波芯片升级文件：V1.01.10及以后ARM版本支持 交流&中继载波芯片升级：暂不支持 4G模块升级：使用4G模式登录，蓝牙登录无法升级 | F2: 106-主控部分-主控程序版本-212^213-版本号 106-功率部分-功率程序版本-4599^4600-版本号 106-载波部分-交流载波版本-250^252-版本号 106-载波部分-直流载波版本-253^255-版本号 401-4G棒部分-4G棒版本-1030^1031-版本号

Sheet 4G棒地址表
A1: 地址域 | B1: Modbus功能码 | C1: 是否多地址 | D1: 寄存器地址 | E1: 一类标题 | F1: 二类标题 | G1: 数据名 | H1: 读 | I1: 写 | J1: 数据类型 | K1: 小数位 | L1: 单位 | M1: 解析方式 | N1: 解析规则 | O1: 是否记录 | P1: 超级用户权限 | Q1: 3761FN | R1: 两两翻转 | S1: 大端模式
A2: 77 | B2: 03 | C2: Y | D2: 41219-41234 | E2: 4G棒 | F2: 运行数据 | G2: 软件版本号 | H2: Y | I2: N | J2: ASCII | K2: 0 | M2: 显示数值 | O2: N | P2: N
A3: 77 | B3: 03 | C3: Y | D3: 41547-41562 | E3: 4G棒 | F3: 运行数据 | G3: 设备型号信息 | H3: Y | I3: N | J3: ASCII | K3: 0 | M3: 显示数值 | O3: N | P3: N
A4: 77 | B4: 03 | C4: Y | D4: 41217-41218 | E4: 4G棒 | F4: 运行数据 | G4: 启动时长 | H4: Y | I4: N | J4: UINT32 | K4: 0 | L4: min | M4: 显示数值 | O4: N | P4: N
A5: 77 | B5: 03 | C5: Y | D5: 41235-41250 | E5: 4G棒 | F5: 运行数据 | G5: MES码 | H5: Y | I5: N | J5: BCD | K5: 0 | M5: 显示数值 | O5: N | P5: N
A6: 77 | B6: 03 | C6: Y | D6: 41251-41253 | E6: 4G棒 | F6: 运行数据 | G6: 当前时间 | H6: Y | I6: N | J6: STRING | K6: 0 | M6: 日期时间 | O6: N | P6: N
A7: 77 | B7: 03 | C7: N | D7: 41267 | E7: 4G棒 | F7: 运行数据 | G7: 拨号状态 | H7: Y | I7: N | J7: UINT16 | K7: 0 | M7: 枚举解析 | N7: 0-模块开机 1-模块关机 2-串口波特率探测 3-串口波特率设置 4-网络去激活 5-获取固件版本信息 6-SIM卡检查 7-获取CCID 8-获取IMEI 9-获取IMSI 10-获取MSISDN 11-获取信号强度 12-检查ps业务是否注册成功 13-参数设置 14-网络激活 15-检查拨号是否成功 16-拨号成功 17-等待重新拨号 | O7: N | P7: N
A8: 77 | B8: 03 | C8: N | D8: 41268 | E8: 4G棒 | F8: 运行数据 | G8: 信号强度 | H8: Y | I8: N | J8: UINT16 | K8: 0 | M8: 显示数值 | O8: N | P8: N
A9: 77 | B9: 03 | C9: Y | D9: 41302-41333 | E9: 4G棒 | F9: 运行数据 | G9: 模组版本号 | H9: Y | I9: N | J9: ASCII | K9: 0 | M9: 显示数值 | O9: N | P9: N
A10: 77 | B10: 03 | C10: Y | D10: 41334-41365 | E10: 4G棒 | F10: 运行数据 | G10: 模组IMEI | H10: Y | I10: N | J10: ASCII | K10: 0 | M10: 显示数值 | O10: N | P10: N
A11: 77 | B11: 03 | C11: Y | D11: 41366-41397 | E11: 4G棒 | F11: 运行数据 | G11: SIM卡号 | H11: Y | I11: N | J11: ASCII | K11: 0 | M11: 显示数值 | O11: N | P11: N
A12: 77 | B12: 03 | C12: Y | D12: 41398-41429 | E12: 4G棒 | F12: 运行数据 | G12: SIM卡ICCID | H12: Y | I12: N | J12: ASCII | K12: 0 | M12: 显示数值 | O12: N | P12: N
A13: 77 | B13: 03 | C13: Y | D13: 41430-41461 | E13: 4G棒 | F13: 运行数据 | G13: SIM卡IMSI | H13: Y | I13: N | J13: ASCII | K13: 0 | M13: 显示数值 | O13: N | P13: N
A14: 77 | B14: 03 | C14: Y | D14: 41462-41469 | E14: 4G棒 | F14: 运行数据 | G14: 无线IP地址 | H14: Y | I14: N | J14: ASCII | K14: 0 | M14: 显示数值 | O14: N | P14: N
A15: 77 | B15: 03 | C15: N | D15: 41470 | E15: 4G棒 | F15: 运行数据 | G15: 网络制式 | H15: Y | I15: N | J15: UINT16 | K15: 0 | M15: 显示数值 | O15: N | P15: N
A16: 77 | B16: 03 | C16: N | D16: 41471 | E16: 4G棒 | F16: 运行数据 | G16: MQTT1连接状态 | H16: Y | I16: N | J16: UINT16 | K16: 0 | M16: 枚举解析 | N16: 0-空闲 1-通道初始化 2-配置通道 3-网络连接 4-建立应用连接 5-数据交互 6-通道异常 | O16: N | P16: N
A17: 77 | B17: 03 | C17: Y | D17: 41472-41473 | E17: 4G棒 | F17: 运行数据 | G17: MQTT1重连次数 | H17: Y | I17: N | J17: UINT32 | K17: 0 | M17: 显示数值 | O17: N | P17: N
A18: 77 | B18: 03 | C18: Y | D18: 41474-41489 | E18: 4G棒 | F18: 运行数据 | G18: MQTT1最后连接时间 | H18: Y | I18: N | J18: ASCII | K18: 0 | M18: 显示数值 | O18: N | P18: N
A19: 77 | B19: 03 | C19: N | D19: 41490 | E19: 4G棒 | F19: 运行数据 | G19: MQTT2连接状态 | H19: Y | I19: N | J19: UINT16 | K19: 0 | M19: 枚举解析 | N19: 0-空闲 1-通道初始化 2-配置通道 3-网络连接 4-建立应用连接 5-数据交互 6-通道异常 | O19: N | P19: N
A20: 77 | B20: 03 | C20: Y | D20: 41491-41492 | E20: 4G棒 | F20: 运行数据 | G20: MQTT2重连次数 | H20: Y | I20: N | J20: UINT32 | K20: 0 | M20: 显示数值 | O20: N | P20: N
A21: 77 | B21: 03 | C21: Y | D21: 41493-41508 | E21: 4G棒 | F21: 运行数据 | G21: MQTT2最后连接时间 | H21: Y | I21: N | J21: ASCII | K21: 0 | M21: 显示数值 | O21: N | P21: N
A22: 77 | B22: 03 | C22: N | D22: 41509 | E22: 4G棒 | F22: 运行数据 | G22: TCP连接状态 | H22: Y | I22: N | J22: UINT16 | K22: 0 | M22: 枚举解析 | N22: 0-空闲 1-通道初始化 2-配置通道 3-网络连接 4-建立应用连接 5-数据交互 6-通道异常 | O22: N | P22: N
A23: 77 | B23: 03 | C23: Y | D23: 41510-41511 | E23: 4G棒 | F23: 运行数据 | G23: TCP重连次数 | H23: Y | I23: N | J23: UINT32 | K23: 0 | M23: 显示数值 | O23: N | P23: N
A24: 77 | B24: 03 | C24: Y | D24: 41512-41527 | E24: 4G棒 | F24: 运行数据 | G24: TCP最后连接时间 | H24: Y | I24: N | J24: ASCII | K24: 0 | M24: 显示数值 | O24: N | P24: N
A25: 77 | B25: 03 | C25: Y | D25: 41528-41530 | E25: 4G棒 | F25: 运行数据 | G25: 设备地址 | H25: Y | I25: Y | J25: BCD | K25: 0 | M25: 显示数值 | O25: N | P25: N
A26: 77 | B26: 03 | C26: Y | D26: 41531-41533 | E26: 4G棒 | F26: 运行数据 | G26: 4G蓝牙MAC地址 | H26: Y | I26: Y | J26: BCD | K26: 0 | M26: 显示数值 | O26: N | P26: N
A27: 77 | B27: 03 | C27: N | D27: 41729 | E27: 4G棒 | F27: 运行数据 | G27: 环境温度 | H27: Y | I27: Y | J27: INT16 | K27: 0 | M27: 显示数值 | O27: N | P27: N
A28: 77 | B28: 03 | C28: N | D28: 42753 | E28: 4G棒 | F28: 参数读写 | G28: 日志级别 | H28: Y | I28: Y | J28: UINT16 | K28: 0 | M28: 显示数值 | O28: N | P28: N
A29: 77 | B29: 03 | C29: N | D29: 42754 | E29: 4G棒 | F29: 参数读写 | G29: 日志输出方式 | H29: Y | I29: Y | J29: UINT16 | K29: 0 | M29: 显示数值 | O29: N | P29: N
A30: 77 | B30: 03 | C30: N | D30: 42755 | E30: 4G棒 | F30: 参数读写 | G30: 日志网络输出方式 | H30: Y | I30: Y | J30: UINT16 | K30: 0 | M30: 显示数值 | O30: N | P30: N
A31: 77 | B31: 03 | C31: Y | D31: 42756-42763 | E31: 4G棒 | F31: 参数读写 | G31: 网络日志输出IP | H31: Y | I31: Y | J31: ASCII | K31: 0 | M31: 显示数值 | O31: N | P31: N
A32: 77 | B32: 03 | C32: N | D32: 42764 | E32: 4G棒 | F32: 参数读写 | G32: 网络日志输出Port | H32: Y | I32: Y | J32: INT16 | K32: 0 | M32: 显示数值 | O32: N | P32: N
A33: 77 | B33: 03 | C33: N | D33: 42765 | E33: 4G棒 | F33: 参数读写 | G33: 报文监控通道 | H33: Y | I33: Y | J33: INT16 | K33: 0 | M33: 显示数值 | O33: N | P33: N
A34: 77 | B34: 03 | C34: N | D34: 42766 | E34: 4G棒 | F34: 参数读写 | G34: 报文监控方向 | H34: Y | I34: Y | J34: INT16 | K34: 0 | M34: 显示数值 | O34: N | P34: N
... A88: 77 | B88: 03 | C88: N | D88: 43606 | E88: 4G棒 | F88: 参数读写 | G88: 报文控制字 | H88: Y | I88: Y | J88: UINT16 | K88: 0 | M88: 显示数值 | O88: N | P88: N
A89: 77 | B89: 03 | C89: N | D89: 43607 | E89: 4G棒 | F89: 参数读写 | G89: 主站NTP对时周期 | H89: Y | I89: Y | J89: UINT16 | K89: 0 | M89: 显示数值 | O89: N | P89: N
A90: 77 | B90: 06 | C90: N | D90: 43777 | E90: 4G棒 | F90: 控制命令 | G90: 模块重启 | H90: N | I90: Y | J90: UINT16 | K90: 0 | M90: 按钮开关 | O90: N | P90: N
A91: 77 | B91: 06 | C91: N | D91: 43778 | E91: 4G棒 | F91: 控制命令 | G91: 重新拨号 | H91: N | I91: Y | J91: UINT16 | K91: 0 | M91: 按钮开关 | O91: N | P91: N
A92: 77 | B92: 06 | C92: N | D92: 43779 | E92: 4G棒 | F92: 控制命令 | G92: 清空模块日志 | H92: N | I92: Y | J92: UINT16 | K92: 0 | M92: 按钮开关 | O92: N | P92: N
A93: 77 | B93: 06 | C93: N | D93: 43780 | E93: 4G棒 | F93: 控制命令 | G93: 清空模块报文 | H93: N | I93: Y | J93: UINT16 | K93: 0 | M93: 按钮开关 | O93: N | P93: N
A94: 77 | B94: 06 | C94: N | D94: 43781 | E94: 4G棒 | F94: 控制命令 | G94: 进入工厂模式 | H94: N | I94: Y | J94: UINT16 | K94: 0 | M94: 按钮开关 | O94: N | P94: N
A95: 77 | B95: 06 | C95: N | D95: 43782 | E95: 4G棒 | F95: 控制命令 | G95: 退出工厂模式 | H95: N | I95: Y | J95: UINT16 | K95: 0 | M95: 按钮开关 | O95: N | P95: N
A96: 77 | B96: 06 | C96: N | D96: 43783 | E96: 4G棒 | F96: 控制命令 | G96: 参数恢复出厂设置 | H96: N | I96: Y | J96: UINT16 | K96: 0 | M96: 按钮开关 | O96: N | P96: N
A97: 77 | B97: 06 | C97: N | D97: 43784 | E97: 4G棒 | F97: 控制命令 | G97: 下行串口进入维护模式 | H97: N | I97: Y | J97: UINT16 | K97: 0 | M97: 按钮开关 | O97: N | P97: N
A98: 77 | B98: 06 | C98: N | D98: 43785 | E98: 4G棒 | F98: 控制命令 | G98: 下行串口退出维护模式 | H98: N | I98: Y | J98: UINT16 | K98: 0 | M98: 按钮开关 | O98: N | P98: N
A99: 77 | B99: 06 | C99: N | D99: 43795 | E99: 4G棒 | F99: 控制命令 | G99: 指示灯全亮 | H99: N | I99: Y | J99: UINT16 | K99: 0 | M99: 按钮开关 | O99: N | P99: N
A100: 77 | B100: 06 | C100: N | D100: 43796 | E100: 4G棒 | F100: 控制命令 | G100: 指示灯全灭 | H100: N | I100: Y | J100: UINT16 | K100: 0 | M100: 按钮开关 | O100: N | P100: N

Sheet 修改记录
A1: 修改人 | B1: 修改日期 | C1: 修改sheet | D1: 修改内容 | E1: 版本
A2: 侯孝振 | C2: all | D2: 由SVG30新架构迁移 | E2: 0
A3: 侯孝振 | D3: 删除电容相关数据 | E3: 0
A4: 张羽 | B4: 45465 | C4: dsp_arm地址表 | D4: 修改变量命名 | E4: 0
A5: 宋武健 | B5: 45465 | C5: dsp故障码 | D5: 填充2.1故障码 | E5: 0
A6: 张羽 | B6: 45475 | C6: dsp地址表 | D6: 增加176~178地址变量 | E6: 0
A7: 张羽 | B7: 45476 | C7: dsp地址表 | D7: 调整上下限 | E7: 0
A8: 侯孝振 | B8: 45481 | C8: dsp_arm地址表 | D8: 添加和删改有效值 | E8: 0
A9: 宋武健 | B9: 45484 | C9: dsp地址表/DSP故障码 | D9: 融合最新算法部程序，修改故障阈值相关（地址：241-246） | E9: 0
A10: 张羽 | B10: 45489 | C10: dsp地址表 | D10: 调整参数默认值，上下限 | E10: 0
A11: 宋振飞 | B11: 45489 | C11: dsp地址表 | D11: 增加179~182地址变量，增加四路boost电流参考值 | E11: 0
A12: 张羽 | B12: 45492 | C12: dsp地址表 | D12: 调整参数默认值，上下限 | E12: 0
A13: 郑伟 | B13: 45492 | C13: arm地址表 | D13: 添加115 ，116 ，117 us_freeze_save_period us_record_frame_en us_record_err_log_en | E13: 0
A14: 宋武健 | B14: 45496 | C14: dsp地址表 | D14: 修改地址202（直流输入过压阈值）、地址216（电压过压阈值）、地址217（电压欠压阈值）、地址234（滤波电容电流阈值） | E14: 0
A15: 侯孝振 | B15: 45496 | C15: app地址表 | D15: 更新arm和ds全部故障码 | E15: 0
... A63: 孙幸超 | B63: 45591 | C63: ARM地址表、APP地址表、ARM故障码 | D63: ARM地址表：修改预留地址195,199：突变电流相关保护阈值，修改地址198变量名称 ARM故障码：arm_fault_code1 新增bit9，bit10故障码，修改bit8故障码名称 对应修改APP地址表 | E63: 33

Sheet 录波数据
A1: 数据项 | B1: 字节数 | C1: 数据类型 | D1: 系数 | E1: 偏移 | F1: 小数点
A2: A相电网电压 | B2: 2 | C2: INT16 | D2: 1 | E2: 0 | F2: 1 | G2: 1
A3: B相电网电压 | B3: 2 | C3: INT16 | D3: 1 | E3: 0 | F3: 1 | G3: 2
A4: C相电网电压 | B4: 2 | C4: INT16 | D4: 1 | E4: 0 | F4: 1 | G4: 3 | J4: 录波数据项修改
A5: A相滤波电容电压 | B5: 2 | C5: INT16 | D5: 1 | E5: 0 | F5: 1 | G5: 4
A6: B相滤波电容电压 | B6: 2 | C6: INT16 | D6: 1 | E6: 0 | F6: 1 | G6: 5
A7: C相滤波电容电压 | B7: 2 | C7: INT16 | D7: 1 | E7: 0 | F7: 1 | G7: 6
A8: 上母线电压 | B8: 2 | C8: INT16 | D8: 1 | E8: 0 | F8: 1 | G8: 7
A9: 下母线电压 | B9: 2 | C9: INT16 | D9: 1 | E9: 0 | F9: 1 | G9: 8
A10: A相逆变电流 | B10: 2 | C10: INT16 | D10: 1 | E10: 0 | F10: 1 | G10: 9
A11: B相逆变电流 | B11: 2 | C11: INT16 | D11: 1 | E11: 0 | F11: 1 | G11: 10
A12: C相逆变电流 | B12: 2 | C12: INT16 | D12: 1 | E12: 0 | F12: 1 | G12: 11
A13: boost1输入电压 | B13: 2 | C13: INT16 | D13: 1 | E13: 0 | F13: 1 | G13: 12
A14: boost2输入电压 | B14: 2 | C14: INT16 | D14: 1 | E14: 0 | F14: 1 | G14: 13
A15: boost3输入电压 | B15: 2 | C15: INT16 | D15: 1 | E15: 0 | F15: 1 | G15: 14 | H15: 用于判断是否记录
A16: boost4输入电压 | B16: 2 | C16: INT16 | D16: 1 | E16: 0 | F16: 1 | G16: 15
A17: boost1电感电流 | B17: 2 | C17: INT16 | D17: 1 | E17: 0 | F17: 1 | G17: 16
A18: boost2电感电流 | B18: 2 | C18: INT16 | D18: 1 | E18: 0 | F18: 1 | G18: 17
A19: boost3电感电流 | B19: 2 | C19: INT16 | D19: 1 | E19: 0 | F19: 1 | G19: 18
A20: boost4电感电流 | B20: 2 | C20: INT16 | D20: 1 | E20: 0 | F20: 1 | G20: 19
A21: A相调制比 | B21: 2 | C21: INT16 | D21: 1 | E21: 0 | F21: 2 | G21: 20
A22: B相调制比 | B22: 2 | C22: INT16 | D22: 1 | E22: 0 | F22: 2 | G22: 21
A23: C相调制比 | B23: 2 | C23: INT16 | D23: 1 | E23: 0 | F23: 2 | G23: 22
A24: 状态标签 | B24: 2 | C24: INT16 | D24: 1 | E24: 0 | F24: 0 | G24: 23
A25: 相角 | B25: 2 | C25: INT16 | D25: 1 | E25: 0 | F25: 0 | G25: 24
A26: A相前馈 | B26: 2 | C26: INT16 | D26: 1 | E26: 0 | F26: 1 | G26: 25
A27: B相前馈 | B27: 2 | C27: INT16 | D27: 1 | E27: 0 | F27: 1 | G27: 26
... A34: 零序电压 | B34: 2 | C34: INT16 | D34: 1 | E34: 0 | F34: 1 | G34: 33
A35: 数据由DSP发给arm，通过PWM中断触发DMA，使用spi通信发送

Sheet DSP地址表
A1: 地址HEX | B1: 协议结构名称 | C1: 数据大类 | D1: 变量名 | E1: 数据项名称 | F1: 地址 | G1: 小数点 | H1: 数据长度 | I1: 数据类型 | J1: 单位 | K1: 数据分类 | L1: 数据说明 | M1: 作用范围 | N1: 默认值 | O1: 上限 | P1: 下限 | Q1: 645协议参数
A2: 0 | B2: dsp_unrecovery_param_t | C2: 不可还原 | D2: us_grd_A_volt_calib_coff | E2: A相采样校准a（网侧交流电压采样） | F2: 0 | G2: 0 | H2: 1 | I2: UINT16 | J2: - | K2: 不可还原 | N2: 10000 | O2: 13000 | P2: 7000
A3: 1 | C3: 不可还原 | D3: us_grd_A_volt_calib_bias | E3: A相采样校准b（网侧交流电压采样） | F3: 1 | G3: 0 | H3: 1 | I3: INT16 | J3: - | K3: 不可还原 | N3: 0 | O3: 32767 | P3: -32768
A4: 2 | C4: 不可还原 | D4: us_grd_B_volt_calib_coff | E4: B相采样校准a（网侧交流电压采样） | F4: 2 | G4: 0 | H4: 1 | I4: UINT16 | J4: - | K4: 不可还原 | N4: 10000 | O4: 13000 | P4: 7000
A5: 3 | C5: 不可还原 | D5: us_grd_B_volt_calib_bias | E5: B相采样校准b（网侧交流电压采样） | F5: 3 | G5: 0 | H5: 1 | I5: INT16 | J5: - | K5: 不可还原 | N5: 0 | O5: 32767 | P5: -32768
A6: 4 | C6: 不可还原 | D6: us_grd_C_volt_calib_coff | E6: C相采样校准a（网侧交流电压采样） | F6: 4 | G6: 0 | H6: 1 | I6: UINT16 | J6: - | K6: 不可还原 | N6: 10000 | O6: 13000 | P6: 7000
A7: 5 | C7: 不可还原 | D7: us_grd_C_volt_calib_bias | E7: C相采样校准b（网侧交流电压采样） | F7: 5 | G7: 0 | H7: 1 | I7: INT16 | J7: - | K7: 不可还原 | N7: 0 | O7: 32767 | P7: -32768
A8: 6 | C8: 不可还原 | D8: us_inv_A_cur_calib_coff | E8: A相采样校准a(逆变侧电感电流) | F8: 6 | G8: 0 | H8: 1 | I8: UINT16 | J8: - | K8: 不可还原 | N8: 10000 | O8: 13000 | P8: 7000
A9: 7 | C9: 不可还原 | D9: us_inv_A_cur_calib_bias | E9: A相采样校准b(逆变侧电感电流) | F9: 7 | G9: 0 | H9: 1 | I9: INT16 | J9: - | K9: 不可还原 | N9: 0 | O9: 32767 | P9: -32768
A10: 8 | C10: 不可还原 | D10: us_inv_A_cur_phase_offset | E10: A相逆变电流相位偏移量 | F10: 8 | G10: 0 | H10: 1 | I10: INT16 | J10: - | K10: 不可还原 | N10: 0 | O10: 32767 | P10: -32768
A11: 9 | C11: 不可还原 | D11: us_inv_B_cur_calib_coff | E11: B相采样校准a(逆变侧电感电流) | F11: 9 | G11: 0 | H11: 1 | I11: UINT16 | J11: - | K11: 不可还原 | N11: 10000 | O11: 13000 | P11: 7000
A12: 10 | C12: 不可还原 | D12: us_inv_B_cur_calib_bias | E12: B相采样校准b(逆变侧电感电流) | F12: 10 | G12: 0 | H12: 1 | I12: INT16 | J12: - | K12: 不可还原 | N12: 0 | O12: 32767 | P12: -32768
A13: 11 | C13: 不可还原 | D13: us_inv_B_cur_phase_offset | E13: B相逆变电流相位偏移量 | F13: 11 | G13: 0 | H13: 1 | I13: INT16 | J13: - | K13: 不可还原 | N13: 0 | O13: 32767 | P13: -32768
A14: 12 | C14: 不可还原 | D14: us_inv_C_cur_calib_coff | E14: C相采样校准a(逆变侧电感电流) | F14: 12 | G14: 0 | H14: 1 | I14: UINT16 | J14: - | K14: 不可还原 | N14: 10000 | O14: 13000 | P14: 7000
... A40: 38 | C40: 不可还原 | D40: us_tmpr_calib_bias | E40: 采样校准b(温度补偿） | F40: 38 | G40: 0 | H40: 1 | I40: INT16 | J40: - | K40: 不可还原 | N40: 0 | O40: 32767 | P40: -32768
A41: 39 | C41: 不可还原 | E41: 预留 | F41: 39 | G41: 0 | H41: 12 | I41: UINT16 | J41: - | K41: 不可还原
A42: ==DEC2HEX(F42) | B42: dsp_command_t | C42: 指令 | D42: us_start | E42: 开机 | F42: 51 | G42: 0 | H42: 1 | I42: UINT16 | J42: - | K42: 指令数据 | L42: 1：指令有效 0：指令无效 | N42: 0 | O42: 1 | P42: 0
A43: ==DEC2HEX(F43) | C43: 指令 | D43: us_stop | E43: 关机 | F43: 52 | G43: 0 | H43: 1 | I43: UINT16 | J43: - | K43: 指令数据 | L43: 1：指令有效 0：指令无效 | N43: 0 | O43: 1 | P43: 0
A44: ==DEC2HEX(F44) | C44: 指令 | D44: us_rst | E44: 故障复位 | F44: 53 | G44: 0 | H44: 1 | I44: UINT16 | J44: - | K44: 指令数据 | L44: 1：指令有效 0：指令无效 | N44: 0 | O44: 1 | P44: 0
A45: ==DEC2HEX(F45) | C45: 指令 | D45: us_reboot | E45: 芯片复位重启 | F45: 54 | G45: 0 | H45: 1 | I45: UINT16 | J45: - | K45: 指令数据 | L45: 1：指令有效 0：指令无效 | N45: 0 | O45: 1 | P45: 0
A46: ==DEC2HEX(F46) | C46: 指令 | D46: us_slf_chk | E46: 功率单元自检（调试） | F46: 55 | G46: 0 | H46: 1 | I46: UINT16 | J46: - | K46: 指令数据 | L46: 1：指令有效 0：指令无效 | N46: 0 | O46: 1 | P46: 0
A47: ==DEC2HEX(F47) | C47: 指令 | D47: us_resume_config | E47: 参数还原 | F47: 56 | G47: 0 | H47: 1 | I47: UINT16 | J47: - | K47: 指令数据 | L47: 1：指令有效 0：指令无效 | N47: 0 | O47: 1 | P47: 0
A48: ==DEC2HEX(F48) | C48: 指令 | D48: us_over_temp_flag | E48: 过温限功率标志 | F48: 57 | G48: 0 | H48: 1 | I48: UINT16 | J48: - | K48: 指令数据 | L48: 1：指令有效 0：指令无效 | N48: 0 | O48: 1 | P48: 0
A49: ==DEC2HEX(F49) | C49: 指令 | E49: 预留 | F49: 58 | H49: 43
A50: ==DEC2HEX(F50) | B50: dsp_devices_set_t | C50: 参数 | D50: us_work_en | E50: 工作使能 | F50: 101 | G50: 0 | H50: 1 | I50: UINT16 | J50: - | K50: 基本设置 | L50: 0-不使能 1-使能 | N50: 1 | O50: 1 | P50: 0
A51: ==DEC2HEX(F51) | C51: 参数 | D51: us_anti_islanding_en | E51: 孤岛检测使能 | F51: 102 | G51: 0 | H51: 1 | I51: UINT16 | J51: - | K51: 基本设置 | L51: 0-不使能 1-使能 | N51: 1 | O51: 1 | P51: 0
A52: ==DEC2HEX(F52) | C52: 参数 | D52: us_lvrt_en | E52: LVRT使能 | F52: 103 | G52: 0 | H52: 1 | I52: UINT16 | J52: - | K52: 基本设置 | L52: 0-不使能 1-使能 | N52: 0 | O52: 1 | P52: 0
A53: ==DEC2HEX(F53) | C53: 参数 | D53: us_hvrt_en | E53: HVRT使能 | F53: 104 | G53: 0 | H53: 1 | I53: UINT16 | J53: - | K53: 基本设置 | L53: 0-不使能 1-使能 | N53: 0 | O53: 1 | P53: 0
A54: ==DEC2HEX(F54) | C54: 参数 | D54: us_mppt_en | E54: MPPT使能 | F54: 105 | G54: 0 | H54: 1 | I54: UINT16 | J54: - | K54: 基本设置 | L54: 0-不使能 1-使能 | N54: 1 | O54: 1 | P54: 0
A55: ==DEC2HEX(F55) | C55: 参数 | D55: us_insult_rstr_en | E55: 老化测试使能 | F55: 106 | G55: 0 | H55: 1 | I55: UINT16 | J55: - | K55: 基本设置 | L55: 0-不使能 1-使能 | N55: 0 | O55: 1 | P55: 0
A56: ==DEC2HEX(F56) | C56: 参数 | D56: us_neg_seq_run_en | E56: 相序异常运行使能 | F56: 107 | G56: 0 | H56: 1 | I56: UINT16 | J56: - | K56: 基本设置 | L56: 0-不使能 1-使能 | N56: 1 | O56: 1 | P56: 0
A57: ==DEC2HEX(F57) | C57: 参数 | D57: us_reserve_param1_3 | E57: 预留参数1_3 | F57: 108 | G57: 0 | H57: 1 | I57: UINT16 | J57: - | K57: 基本设置 | L57: 0-不使能 1-使能 | N57: 1 | O57: 1 | P57: 0
A58: ==DEC2HEX(F58) | C58: 参数 | D58: us_dc_start_TH | E58: 直流输入电压开机阈值 | F58: 109 | G58: 1 | H58: 1 | I58: UINT16 | J58: V | K58: 基本设置 | N58: 180 | O58: 300 | P58: 100
A59: ==DEC2HEX(F59) | C59: 参数 | D59: us_dc_stop_TH | E59: 直流输入电压关机阈值 | F59: 110 | G59: 1 | H59: 1 | I59: UINT16 | J59: V | K59: 基本设置 | N59: 160 | O59: 200 | P59: 0
A60: ==DEC2HEX(F60) | C60: 参数 | D60: us_pwr_output_lmt | E60: 最大输出功率限值 | F60: 111 | G60: 1 | H60: 1 | I60: UINT16 | J60: kW | K60: 基本设置 | N60: PV_INV30:33; PV_INV40:44; PV_INV50:55 | O60: 60 | P60: 0 | Q60: Y
A61: ==DEC2HEX(F61) | C61: 参数 | D61: us_pwr_rate_lmt | E61: 功率变化率上限 | F61: 112 | G61: 1 | H61: 1 | I61: UINT16 | J61: 10%Pn/min | K61: 基本设置 | N61: 10 | O61: 6553.5 | P61: 0
A62: ==DEC2HEX(F62) | C62: 参数 | D62: us_rctv_pwr_ctr_mode | E62: 无功生成模式 | F62: 113 | G62: 0 | H62: 1 | I62: UINT16 | J62: - | K62: 基本设置 | L62: 0-关闭 1-恒无功功率模式 2-恒功率因数模式 3-恒电压控制 | N62: 0 | O62: 3 | P62: 0
A63: ==DEC2HEX(F63) | C63: 参数 | D63: sh_rctv_pwr_ref | E63: 恒无功控制给定所需的无功功率 | F63: 114 | G63: 3 | H63: 1 | I63: INT16 | J63: kvar | K63: 基本设置 | N63: 0 | O63: 32.767 | P63: -32.768 | Q63: Y
A64: ==DEC2HEX(F64) | C64: 参数 | D64: sh_pf_ref | E64: 恒功率因数控制给定所需的功率因数 | F64: 115 | G64: 3 | H64: 1 | I64: INT16 | J64: - | K64: 基本设置 | N64: 1 | O64: 32.767 | P64: -32.768
A65: ==DEC2HEX(F65) | C65: 参数 | D65: us_grd_volt_ref | E65: 恒电网电压控制给定目标电网电压 | F65: 116 | G65: 1 | H65: 1 | I65: UINT16 | J65: V | K65: 基本设置 | N65: 220 | O65: 230 | P65: 210
A66: ==DEC2HEX(F66) | C66: 参数 | D66: us_reserve_param1_5 | E66: 预留参数1_5 | F66: 117 | G66: 0 | H66: 1 | I66: UINT16 | J66: - | K66: 基本设置 | L66: 删除原有电网保护方式，改为预留 | N66: 2 | O66: 2 | P66: 0
A67: ==DEC2HEX(F67) | C67: 参数 | D67: us_reserve_param1_6 | E67: 预留参数1_6 | F67: 118 | G67: 0 | H67: 1 | I67: UINT16 | J67: - | K67: 基本设置 | N67: 2 | O67: 2 | P67: 0
A68: ==DEC2HEX(F68) | C68: 参数 | D68: us_reserve_param1_7 | E68: 预留参数1_7 | F68: 119 | G68: 0 | H68: 1 | I68: UINT16 | J68: - | K68: 基本设置 | N68: 0 | O68: 2 | P68: 0
A69: ==DEC2HEX(F69) | C69: 参数 | D69: us_reserve_param1_8 | E69: 预留参数1_8 | F69: 120 | G69: 0 | H69: 1 | I69: UINT16 | J69: - | K69: 基本设置 | N69: 0 | O69: 2 | P69: 0
A70: ==DEC2HEX(F70) | C70: 参数 | D70: us_mult_peak_en | E70: 多峰扫描使能 | F70: 121 | G70: 0 | H70: 1 | I70: UINT16 | J70: - | K70: 基本设置 | L70: 0-关闭 1-开启 | N70: 0 | O70: 1 | P70: 0
A71: ==DEC2HEX(F71) | C71: 参数 | D71: us_mult_peak_time_step | E71: 多峰扫描时间间隔 | F71: 122 | G71: 0 | H71: 1 | I71: UINT16 | J71: min | K71: 基本设置 | N71: 5 | O71: 10 | P71: 1
A72: ==DEC2HEX(F72) | C72: 参数 | D72: us_pwr_freq_ctr_rate | E72: 频率-有功控制斜率 | F72: 123 | G72: 1 | H72: 1 | I72: UINT16 | J72: %Pn/Hz | K72: 基本设置 | N72: 40 | O72: 40 | P72: 30
A73: ==DEC2HEX(F73) | C73: 参数 | D73: us_grd_rcvr_time | E73: 电网恢复等待时间 | F73: 124 | G73: 0 | H73: 1 | I73: UINT16 | J73: S | K73: 基本设置 | N73: 1 | O73: 2 | P73: 0.5
A74: ==DEC2HEX(F74) | C74: 参数 | D74: us_island_rspns_time_lmt | E74: 孤岛响应时间上限 | F74: 125 | G74: 2 | H74: 1 | I74: UINT16 | J74: S | K74: 基本设置 | N74: 2 | O74: 3 | P74: 1
A75: ==DEC2HEX(F75) | C75: 参数 | D75: us_reserve_param1_9 | E75: 预留参数1_9 | F75: 126 | G75: 1 | H75: 1 | I75: UINT16 | J75: W | K75: 基本设置 | N75: 20 | O75: 20 | P75: 15
A76: ==DEC2HEX(F76) | C76: 参数 | D76: us_mppt_min_volt_step | E76: MPPT最小扰动步长 | F76: 127 | G76: 1 | H76: 1 | I76: UINT16 | J76: V | K76: 基本设置 | N76: 3 | O76: 4 | P76: 1
A77: ==DEC2HEX(F77) | C77: 参数 | D77: us_stop_sta_bus_bal_en | E77: 待机母线均压使能 | F77: 128 | G77: 0 | H77: 1 | I77: UINT16 | J77: - | K77: 基本设置 | N77: 1 | O77: 1 | P77: 0
A78: ==DEC2HEX(F78) | C78: 参数 | D78: us_stop_time_lmt | E78: 关机上限时间 | F78: 129 | G78: 0 | H78: 1 | I78: UINT16 | J78: S | K78: 基本设置 | N78: 180 | O78: 200 | P78: 160
A79: ==DEC2HEX(F79) | C79: 参数 | D79: us_start_volt_up_lmt | E79: 开机电压上限 | F79: 130 | G79: 1 | H79: 1 | I79: UINT16 | J79: V | K79: 基本设置 | N79: 900 | O79: 1000 | P79: 850
A80: ==DEC2HEX(F80) | C80: 参数 | D80: us_mppt_volt_up_lmt | E80: 追踪电压上限 | F80: 131 | G80: 1 | H80: 1 | I80: UINT16 | J80: V | K80: 基本设置 | N80: 1000 | O80: 1100 | P80: 500
A81: ==DEC2HEX(F81) | C81: 参数 | D81: us_low_volt_pwr_lmt_en | E81: 低压降额使能 | F81: 132 | G81: 0 | H81: 1 | I81: UINT16 | J81: - | K81: 基本设置 | L81: 0-不使能 1-使能 | N81: 0 | O81: 1 | P81: 0
A82: ==DEC2HEX(F82) | C82: 参数 | D82: us_high_volt_pwr_lmt_en | E82: 过压降额使能 | F82: 133 | G82: 0 | H82: 1 | I82: UINT16 | J82: - | K82: 基本设置 | L82: 0-不使能 1-使能 | N82: 0 | O82: 1 | P82: 0
A83: ==DEC2HEX(F83) | C83: 参数 | D83: us_single_input_mode | E83: 共用一路输入模式 | F83: 134 | G83: 0 | H83: 1 | I83: UINT16 | J83: - | K83: 基本设置 | L83: 0-不使能 1-使能 | N83: 0 | O83: 1 | P83: 0
A84: ==DEC2HEX(F84) | C84: 参数 | D84: us_fault_mode | E84: 故障模式 | F84: 135 | G84: 0 | H84: 1 | I84: UINT16 | J84: - | K84: 基本设置 | L84: 0-重复故障允许开机 1-重复故障不允许开机 | N84: 0 | O84: 1 | P84: 0
A85: ==DEC2HEX(F85) | C85: 参数 | D85: us_reserve_param1_10 | E85: 预留参数1_10 | F85: 136 | G85: 0 | H85: 1 | I85: UINT16 | J85: - | K85: 基本设置 | N85: 1 | O85: 1 | P85: 0
A86: ==DEC2HEX(F86) | C86: 参数 | D86: us_pv1_mode | E86: PV1连接关系 | F86: 137 | G86: 0 | H86: 1 | I86: UINT16 | J86: - | K86: 基本设置 | L86: 0-不开启 1-接第一路 2-接第二路 3-两路都接 4-两路都不接 5-单路功率高时自动识别 | N86: 0 | O86: 5 | P86: 0
A87: ==DEC2HEX(F87) | C87: 参数 | D87: us_pv2_mode | E87: PV2连接关系 | F87: 138 | G87: 0 | H87: 1 | I87: UINT16 | J87: - | K87: 基本设置 | N87: 0 | O87: 5 | P87: 0
A88: ==DEC2HEX(F88) | C88: 参数 | D88: us_pv3_mode | E88: PV3连接关系 | F88: 139 | G88: 0 | H88: 1 | I88: UINT16 | J88: - | K88: 基本设置 | N88: 0 | O88: 5 | P88: 0
A89: ==DEC2HEX(F89) | C89: 参数 | D89: us_pv4_mode | E89: PV4连接关系 | F89: 140 | G89: 0 | H89: 1 | I89: UINT16 | J89: - | K89: 基本设置 | N89: 0 | O89: 5 | P89: 0
A90: ==DEC2HEX(F90) | C90: 参数 | D90: us_mppt_distb_en | E90: MPPT波动处理逻辑使能 | F90: 141 | G90: 0 | H90: 1 | I90: UINT16 | J90: - | K90: 基本设置 | L90: 0-不使能 1-使能 | N90: 1 | O90: 1 | P90: 0
A91: ==DEC2HEX(F91) | C91: 参数 | D91: us_act_pwr_auto_en | E91: 有功功率自动调整 | F91: 142 | G91: 0 | H91: 1 | I91: UINT16 | J91: - | K91: 基本设置 | L91: 0-不使能 1-使能 | N91: 1 | O91: 1 | P91: 0
A92: ==DEC2HEX(F92) | C92: 参数 | D92: sh_rctv_pwr_comp | E92: 无功补偿量 | F92: 143 | G92: 1 | H92: 1 | I92: INT16 | J92: A | K92: 基本设置 | N92: -0.3 | O92: 3276.7 | P92: -3276.8
A93: ==DEC2HEX(F93) | C93: 参数 | D93: us_rctv_ctr_en | E93: 无功闭环补偿使能 | F93: 144 | G93: 0 | H93: 1 | I93: UINT16 | J93: - | K93: 基本设置 | L93: 0-不使能 1-使能 | N93: 1 | O93: 1 | P93: 0
A94: ==DEC2HEX(F94) | C94: 参数 | D94: us_inv_cur_comp_en | E94: 逆变电流补偿使能 | F94: 145 | G94: 0 | H94: 1 | I94: UINT16 | J94: - | K94: 基本设置 | L94: 0-不使能 1-使能 | N94: 1 | O94: 1 | P94: 0
A95: ==DEC2HEX(F95) | C95: 参数 | D95: us_inv_cur_comp_coff | E95: 逆变电流补偿系数 | F95: 146 | G95: 3 | H95: 1 | I95: UINT16 | J95: - | K95: 基本设置 | N95: 1 | O95: 65.535 | P95: 0
A96: ==DEC2HEX(F96) | C96: 参数 | D96: sh_inv_cur_delay | E96: 逆变电路延迟角度 | F96: 147 | G96: 4 | H96: 1 | I96: INT16 | J96: - | K96: 基本设置 | L96: 归一化后的弧度 | N96: 0.0048 | O96: 3.2767 | P96: -3.2768
A97: ==DEC2HEX(F97) | C97: 参数 | D97: sh_cap_cur_delay | E97: 电容电流延迟角度 | F97: 148 | G97: 4 | H97: 1 | I97: INT16 | J97: - | K97: 基本设置 | L97: 归一化后的弧度 | N97: -0.005 | O97: 3.2767 | P97: -3.2768
A98: ==DEC2HEX(F98) | C98: 参数 | D98: us_cap_cur_coff | E98: 电容电流比例系数 | F98: 149 | G98: 3 | H98: 1 | I98: UINT16 | J98: - | K98: 基本设置 | N98: 1.2 | O98: 65.535 | P98: 0
A99: ==DEC2HEX(F99) | C99: 参数 | D99: us_pv_cur_coff | E99: PV电流比例校准系数 | F99: 150 | G99: 4 | H99: 1 | I99: UINT16 | J99: - | K99: 基本设置 | N99: 0.0003 | O99: 6.5535 | P99: 0
A100: ==DEC2HEX(F100) | C100: 参数 | D100: us_pv_cur_calb_en | E100: PV输入校准标志 | F100: 151 | G100: 0 | H100: 1 | I100: UINT16 | J100: - | K100: 基本设置 | L100: 0-关闭 1-手动调整 2-自动校准 | N100: 0 | O100: 2 | P100: 0
A101: ==DEC2HEX(F101) | C101: 参数 | D101: us_dc_pwr_comp_en | E101: 直流功率补偿 | F101: 152 | G101: 2 | H101: 1 | I101: UINT16 | J101: - | K101: 基本设置 | N101: 0.15 | O101: 655.35 | P101: 0
A102: ==DEC2HEX(F102) | C102: 参数 | D102: us_bst_run_mode | E102: BOOST运行模式 | F102: 153 | G102: 0 | H102: 1 | I102: UINT16 | J102: - | K102: 基本设置 | L102: 0-最大功率追踪模式 1-母线稳压模式 2-恒流模式 3-旁路模式 4-效率模式 | N102: 0 | O102: 4 | P102: 0
A103: ==DEC2HEX(F103) | C103: 参数 | D103: us_bst1_en | E103: 第1路BOOST使能 | F103: 154 | G103: 0 | H103: 1 | I103: UINT16 | J103: - | K103: 基本设置 | L103: 0-不使能 1-使能 | N103: 1 | O103: 1 | P103: 0
A104: ==DEC2HEX(F104) | C104: 参数 | D104: us_bst2_en | E104: 第2路BOOST使能 | F104: 155 | G104: 0 | H104: 1 | I104: UINT16 | J104: - | K104: 基本设置 | L104: 0-不使能 1-使能 | N104: 1 | O104: 1 | P104: 0
A105: ==DEC2HEX(F105) | C105: 参数 | D105: us_bst3_en | E105: 第3路BOOST使能 | F105: 156 | G105: 0 | H105: 1 | I105: UINT16 | J105: - | K105: 基本设置 | L105: 0-不使能 1-使能 | N105: 1 | O105: 1 | P105: 0
A106: ==DEC2HEX(F106) | C106: 参数 | D106: us_bst4_en | E106: 第4路BOOST使能 | F106: 157 | G106: 0 | H106: 1 | I106: UINT16 | J106: - | K106: 基本设置 | L106: 0-不使能 1-使能 | N106: 1 | O106: 1 | P106: 0
A107: ==DEC2HEX(F107) | C107: 参数 | D107: us_vol_freq_protcet_en | E107: 分段保护使能 | F107: 158 | G107: 0 | H107: 1 | I107: UINT16 | J107: - | K107: 基本设置 | L107: 0-不使能 1-使能 | N107: 0 | O107: 1 | P107: 0
A108: ==DEC2HEX(F108) | C108: 参数 | D108: us_pv_inversed_detcet_en | E108: PV反接检测使能 | F108: 159 | G108: 0 | H108: 1 | I108: UINT16 | J108: - | K108: 基本设置 | L108: 0-不使能 1-使能 | N108: 1 | O108: 1 | P108: 0
A109: ==DEC2HEX(F109) | C109: 参数 | D109: us_pv_backward_detcet_en | E109: PV回灌检测使能 | F109: 160 | G109: 0 | H109: 1 | I109: UINT16 | J109: - | K109: 基本设置 | L109: 0-不使能 1-使能 | N109: 0 | O109: 1 | P109: 0
A110: ==DEC2HEX(F110) | C110: 参数 | D110: us_anti_islanding_protect_freq_en | E110: 孤岛保护兼容频率适应性 | F110: 161 | G110: 0 | H110: 1 | I110: UINT16 | J110: - | K110: 基本设置 | L110: 0-不使能 1-使能 | N110: 1 | O110: 1 | P110: 0
A111: ==DEC2HEX(F111) | C111: 参数 | D111: us_pwr_control_rctv_prio_en | E111: 功率控制时无功优先使能 | F111: 162 | G111: 0 | H111: 1 | I111: UINT16 | J111: - | K111: 基本设置 | L111: 0-不使能 1-使能 | N111: 1 | O111: 1 | P111: 0
A112: ==DEC2HEX(F112) | C112: 参数 | D112: us_bus_uv_dect_en | E112: 母线欠压检测使能 | F112: 163 | G112: 0 | H112: 1 | I112: UINT16 | J112: - | K112: 基本设置 | L112: 0-不使能 1-使能 | N112: 1 | O112: 1 | P112: 0
A113: ==DEC2HEX(F113) | C113: 参数 | D113: us_hlvrt_mode_flag | E113: 高低穿模式切换 | F113: 164 | G113: 0 | H113: 1 | I113: UINT16 | J113: - | K113: 基本设置 | L113: 0-不使能 1-使能 | N113: 0 | O113: 1 | P113: 0
... A116: ==DEC2HEX(F116) | C116: 参数 | D116: us_accu_judge_mode | E116: 精度判断模式 | F116: 167 | G116: 0 | H116: 1 | I116: UINT16 | J116: - | K116: 基本设置 | L116: 0-相对误差 1-绝对误差 | N116: 1 | O116: 1 | P116: 0
A117: ==DEC2HEX(F117) | C117: 参数 | E117: 预留 | F117: 168 | H117: 13
A118: ==DEC2HEX(F118) | B118: dsp_rec_ctr_param_t | C118: 参数 | D118: us_dc_volt_kp | E118: 外环PI控制：Kp | F118: 181 | G118: 1 | H118: 1 | I118: UINT16 | J118: - | K118: 环路控制 | N118: 0.5 | O118: 6553.5 | P118: 0
A119: ==DEC2HEX(F119) | C119: 参数 | D119: us_dc_volt_ki | E119: 外环PI控制：Ki | F119: 182 | G119: 1 | H119: 1 | I119: UINT16 | J119: - | K119: 环路控制 | N119: 20 | O119: 6553.5 | P119: 0
A120: ==DEC2HEX(F120) | C120: 参数 | D120: us_dc_volt_lmt | E120: 外环PI控制：OutLimit | F120: 183 | G120: 1 | H120: 1 | I120: UINT16 | J120: - | K120: 环路控制 | N120: PV_INV30:78; PV_INV40:101; PV_INV50:125 | O120: 6553.5 | P120: 0
A121: ==DEC2HEX(F121) | C121: 参数 | D121: us_volt_bal_kp | E121: 均压环PI控制：Kp | F121: 184 | G121: 1 | H121: 1 | I121: UINT16 | J121: - | K121: 环路控制 | N121: 0.1 | O121: 6553.5 | P121: 0
A122: ==DEC2HEX(F122) | C122: 参数 | D122: us_volt_bal_ki | E122: 均压环PI控制：Ki | F122: 185 | G122: 1 | H122: 1 | I122: UINT16 | J122: - | K122: 环路控制 | N122: 0 | O122: 6553.5 | P122: 0
A123: ==DEC2HEX(F123) | C123: 参数 | D123: us_volt_bal_lmt | E123: 均压环PI控制：OutLimit | F123: 186 | G123: 1 | H123: 1 | I123: UINT16 | J123: - | K123: 环路控制 | N123: 10 | O123: 6553.5 | P123: 0
A124: ==DEC2HEX(F124) | C124: 参数 | D124: us_ac_cur_kp | E124: 电流环Kp | F124: 187 | G124: 1 | H124: 1 | I124: UINT16 | J124: - | K124: 环路控制 | N124: 1 | O124: 6553.5 | P124: 0
A125: ==DEC2HEX(F125) | C125: 参数 | D125: us_act_dmp_coff | E125: 有源阻尼Kp | F125: 188 | G125: 1 | H125: 1 | I125: UINT16 | J125: - | K125: 环路控制 | N125: 0 | O125: 6553.5 | P125: 0
A126: ==DEC2HEX(F126) | C126: 参数 | D126: us_rctv_pwt_kp | E126: 无功稳压控制Kp | F126: 189 | G126: 1 | H126: 1 | I126: UINT16 | J126: - | K126: 环路控制 | N126: 0.5 | O126: 6553.5 | P126: 0
A127: ==DEC2HEX(F127) | C127: 参数 | D127: us_rctv_pwt_ki | E127: 无功稳压控制Ki | F127: 190 | G127: 1 | H127: 1 | I127: UINT16 | J127: - | K127: 环路控制 | N127: 1 | O127: 6553.5 | P127: 0
...

Sheet ARM地址表
A1: 地址HEX | B1: 协议结构名称 | C1: 数据大类 | D1: 变量名 | E1: 数据项名称 | F1: 地址 | G1: 小数点 | H1: 数据长度 | I1: 数据类型 | J1: 单位 | K1: 数据分类 | L1: 数据说明 | M1: 作用范围 | N1: 默认值 | O1: 上限 | P1: 下限 | Q1: 可读 | R1: 可写
A2: ==DEC2HEX(F2) | B2: arm_unrecovery_param_t | C2: 不可还原 | E2: 预留 | F2: 0 | H2: 1
A3: ==DEC2HEX(F3) | C3: 不可还原 | D3: us_mes_code | E3: 设备MES码 | F3: 1 | G3: 0 | H3: 4 | I3: BCD | J3: - | K3: 不可还原 | L3: 只生产检测写 | N3: {0, 0, 0, 0} | O3: {65535, 65535, 65535, 65535} | P3: {0, 0, 0, 0}
C4: 不可还原 | D4: us_product_id | E4: 12位出厂编号 | F4: 5 | G4: 0 | H4: 3 | I4: BCD | J4: - | K4: 不可还原 | L4: BCD | N4: {0, 0, 1} | O4: {65535, 65535, 65535} | P4: {0, 0, 0} | Q4: Y | R4: Y
A5: ==DEC2HEX(F5) | C5: 不可还原 | D5: us_hb_test_result | E5: 板级生产检测结果 | F5: 8 | G5: 0 | H5: 1 | I5: UINT16 | J5: - | K5: 不可还原 | L5: 只生产检测写 | N5: 0 | O5: 65535 | P5: 0 | Q5: Y | R5: Y
A6: ==DEC2HEX(F6) | C6: 不可还原 | D6: us_sys_test_result | E6: 工厂整机测试结果 | F6: 9 | G6: 0 | H6: 1 | I6: UINT16 | J6: - | K6: 不可还原 | L6: 只生产检测写 | N6: 0 | O6: 1 | P6: 0 | Q6: Y | R6: Y
A7: ==DEC2HEX(F7) | C7: 不可还原 | D7: us_hw_cmpnt_num | E7: 硬件组件号 | F7: 10 | G7: 0 | H7: 3 | I7: BCD | J7: - | K7: 不可还原 | L7: 只生产检测写 | N7: {0, 0, 0} | O7: {65535, 65535, 65535} | P7: {0, 0, 0}
A8: ==DEC2HEX(F8) | C8: 不可还原 | D8: us_region_code | E8: 行政区域码 | F8: 13 | G8: 0 | H8: 1 | I8: BCD | J8: - | K8: 不可还原 | N8: 0 | O8: 65535 | P8: 0 | Q8: Y | R8: Y
A9: ==DEC2HEX(F9) | C9: 不可还原 | D9: us_term_addr | E9: 终端地址 | F9: 14 | G9: 0 | H9: 1 | I9: BCD | J9: - | K9: 不可还原 | N9: 0 | O9: 65535 | P9: 0 | Q9: Y | R9: Y
A10: ==DEC2HEX(F10) | C10: 不可还原 | D10: us_sci_baudrate | E10: 对外串口波特率 | F10: 15 | G10: 0 | H10: 1 | I10: UINT16 | J10: - | K10: 不可还原 | L10: 0-115200 1-38400 2-19200 3-9600 | N10: 0 | O10: 3 | P10: 0 | Q10: Y | R10: Y
A11: ==DEC2HEX(F11) | C11: 不可还原 | D11: us_ac_proto_type | E11: 载波协议类型 | F11: 16 | G11: 0 | H11: 1 | I11: UINT16 | J11: - | K11: 不可还原 | L11: 0-645协议 1-698协议 | N11: 0 | O11: 1 | P11: 0 | Q11: Y | R11: Y
A12: ==DEC2HEX(F12) | C12: 不可还原 | D12: us_prot645_type | E12: 645协议版本 | F12: 17 | G12: 0 | H12: 1 | I12: UINT16 | J12: - | K12: 不可还原 | L12: 0-鼎信私有协议 1-陕西协议 | N12: 0 | O12: 1 | P12: 0 | Q12: Y | R12: Y
A13: ==DEC2HEX(F13) | C13: 不可还原 | D13: us_level_0_cipher | E13: 0级密码 | F13: 18 | G13: 0 | H13: 2 | I13: BCD | J13: - | K13: 不可还原 | L13: 陕西645用 | N13: {0, 0} | O13: {65535, 65535} | P13: {0, 0} | Q13: Y | R13: Y
A14: ==DEC2HEX(F14) | C14: 不可还原 | D14: us_level_1_cipher | E14: 1级密码 | F14: 20 | G14: 0 | H14: 2 | I14: BCD | J14: - | K14: 不可还原 | L14: 陕西645用 | N14: {0, 0} | O14: {65535, 65535} | P14: {0, 0} | Q14: Y | R14: Y
A15: ==DEC2HEX(F15) | C15: 不可还原 | D15: us_level_2_cipher | E15: 2级密码 | F15: 22 | G15: 0 | H15: 2 | I15: BCD | J15: - | K15: 不可还原 | L15: 陕西645用 | N15: {0, 0} | O15: {65535, 65535} | P15: {0, 0} | Q15: Y | R15: Y
A16: ==DEC2HEX(F16) | C16: 不可还原 | D16: us_account_num | E16: 户号 | F16: 24 | G16: 0 | H16: 3 | I16: BCD | J16: - | K16: 不可还原 | L16: 陕西645用 | N16: {0, 0, 0} | O16: {65535, 65535, 65535} | P16: {0, 0, 0} | Q16: Y | R16: Y
A17: ==DEC2HEX(F17) | C17: 不可还原 | D17: us_virtual_plant_num | E17: 虚拟电厂编号 | F17: 27 | G17: 0 | H17: 3 | I17: BCD | J17: - | K17: 不可还原 | L17: 陕西645用 | N17: {0, 0, 0} | O17: {65535, 65535, 65535} | P17: {0, 0, 0} | Q17: Y | R17: Y
A18: ==DEC2HEX(F18) | C18: 不可还原 | D18: us_leak_current_dc_estimate | E18: 漏电流直流偏置AD值 | F18: 30 | G18: 0 | H18: 1 | I18: UINT16 | J18: - | K18: 不可还原 | N18: 2028 | O18: 2200 | P18: 1800 | Q18: Y | R18: Y
A19: ==DEC2HEX(F19) | C19: 不可还原 | D19: us_leak_current_factor | E19: 漏电流校准系数 | F19: 31 | G19: 0 | H19: 1 | I19: UINT16 | J19: - | K19: 不可还原 | N19: 6250 | O19: 65535 | P19: 1 | Q19: Y | R19: Y
A20: ==DEC2HEX(F20) | C20: 不可还原 | D20: us_state_grid_addr | E20: 国网地址 | F20: 32 | G20: 0 | H20: 6 | I20: BCD | J20: - | K20: 不可还原 | N20: {0, 0, 0, 0, 0, 0} | O20: {65535, 65535, 65535, 65535, 65535, 65535} | P20: {0, 0, 0, 0, 0, 0} | Q20: Y | R20: Y
A21: ==DEC2HEX(F21) | C21: 不可还原 | D21: us_meter_code_num | E21: 表号（ESAM用） | F21: 38 | G21: 0 | H21: 6 | I21: BCD | J21: - | K21: 不可还原 | N21: {0, 0, 0, 0, 0, 0} | O21: {65535, 65535, 65535, 65535, 65535, 65535} | P21: {0, 0, 0, 0, 0, 0} | Q21: Y | R21: Y
A22: ==DEC2HEX(F22) | C22: 不可还原 | D22: us_leak_current_inter_refer_mA | E22: 漏电流内部参考值 | F22: 44 | G22: 0 | H22: 1 | I22: UINT16 | J22: mA | K22: 不可还原 | N22: PV_INV30:50; PV_INV40:65; PV_INV50:65 | O22: 300 | P22: 0
A23: ==DEC2HEX(F23) | C23: 不可还原 | E23: 预留 | F23: 45 | H23: 5
A24: ==DEC2HEX(F24) | B24: arm_comm_cmd_t | C24: 指令 | D24: us_start | E24: 设备开机 | F24: 50 | G24: 0 | H24: 1 | I24: UINT16 | J24: - | K24: 指令数据 | L24: 1：指令有效 0：指令无效 | N24: 0 | O24: 1 | P24: 0 | Q24: N | R24: Y
A25: ==DEC2HEX(F25) | C25: 指令 | D25: us_stop | E25: 设备关机 | F25: 51 | G25: 0 | H25: 1 | I25: UINT16 | J25: - | K25: 指令数据 | L25: 1：指令有效 0：指令无效 | N25: 0 | O25: 1 | P25: 0 | Q25: N | R25: Y
A26: ==DEC2HEX(F26) | C26: 指令 | D26: us_fault_rst | E26: 故障复位 | F26: 52 | G26: 0 | H26: 1 | I26: UINT16 | J26: - | K26: 指令数据 | L26: 1：指令有效 0：指令无效 | N26: 0 | O26: 1 | P26: 0 | Q26: N | R26: Y
A27: ==DEC2HEX(F27) | C27: 指令 | D27: us_unlock_set | E27: 解锁特殊操作 | F27: 53 | G27: 0 | H27: 1 | I27: UINT16 | J27: - | K27: 指令数据 | L27: 1：指令有效 0：指令无效 | N27: 0 | O27: 1 | P27: 0 | Q27: N | R27: Y
A28: ==DEC2HEX(F28) | C28: 指令 | D28: us_device_rst | E28: 设备重启 | F28: 54 | G28: 0 | H28: 1 | I28: UINT16 | J28: - | K28: 指令数据 | L28: 1：指令有效 0：指令无效 | N28: 0 | O28: 1 | P28: 0 | Q28: N | R28: Y
A29: ==DEC2HEX(F29) | C29: 指令 | D29: us_dsp_selfcheck | E29: 功率单元自检(调试) | F29: 55 | G29: 0 | H29: 1 | I29: UINT16 | J29: - | K29: 指令数据 | L29: 1：指令有效 0：指令无效 | N29: 0 | O29: 1 | P29: 0 | Q29: N | R29: Y
A30: ==DEC2HEX(F30) | C30: 指令 | D30: us_dsp_rst_by_comm | E30: 功率单元重启 | F30: 56 | G30: 0 | H30: 1 | I30: UINT16 | J30: - | K30: 指令数据 | L30: 1：指令有效 0：指令无效 | N30: 0 | O30: 1 | P30: 0 | Q30: N | R30: Y
A31: ==DEC2HEX(F31) | C31: 指令 | D31: us_dsp_reboot | E31: 功率单元强制复位 | F31: 57 | G31: 0 | H31: 1 | I31: UINT16 | J31: - | K31: 指令数据 | L31: 1：指令有效 0：指令无效 | N31: 0 | O31: 1 | P31: 0 | Q31: N | R31: Y
A32: ==DEC2HEX(F32) | C32: 指令 | D32: us_resume_config | E32: 参数还原 | F32: 58 | G32: 0 | H32: 1 | I32: UINT16 | J32: - | K32: 指令数据 | L32: 1：指令有效 0：指令无效 | N32: 0 | O32: 1 | P32: 0
A33: ==DEC2HEX(F33) | C33: 指令 | D33: us_4g_rst | E33: 复位4G | F33: 59 | G33: 0 | H33: 1 | I33: UINT16 | J33: - | K33: 指令数据 | L33: 1：指令有效 0：指令无效 | N33: 0 | O33: 1 | P33: 0
C34: 指令 | D34: us_dc_carrier_rst | E34: 直流载波复位 | F34: 60 | G34: 0 | H34: 1 | I34: UINT16 | J34: - | K34: 指令数据 | L34: 1：指令有效 0：指令无效 | N34: 0 | O34: 1 | P34: 0
C35: 指令 | D35: us_ac_carrier_rst | E35: 交流载波复位 | F35: 61 | G35: 0 | H35: 1 | I35: UINT16 | J35: - | K35: 指令数据 | L35: 1：指令有效 0：指令无效 | N35: 0 | O35: 1 | P35: 0
A36: ==DEC2HEX(F36) | C36: 指令 | D36: us_fault_record_manual | E36: 手动录波 | F36: 62 | G36: 0 | H36: 1 | I36: UINT16 | J36: - | K36: 指令数据 | L36: 1：指令有效 0：指令无效 | N36: 0 | O36: 1 | P36: 0
A37: ==DEC2HEX(F37) | C37: 指令 | D37: us_data_restore_all | E37: 所有记录数据擦除 | F37: 63 | G37: 0 | H37: 1 | I37: UINT16 | J37: - | K37: 指令数据 | L37: 1：指令有效 0：指令无效 | N37: 0 | O37: 1 | P37: 0
A38: ==DEC2HEX(F38) | C38: 指令 | D38: us_wave_record_restore | E38: 录波擦除 | F38: 64 | G38: 0 | H38: 1 | I38: UINT16 | J38: - | K38: 指令数据 | L38: 1：指令有效 0：指令无效 | N38: 0 | O38: 1 | P38: 0
A39: ==DEC2HEX(F39) | C39: 指令 | D39: us_event_restore | E39: 事件擦除 | F39: 65 | G39: 0 | H39: 1 | I39: UINT16 | J39: - | K39: 指令数据 | L39: 1：指令有效 0：指令无效 | N39: 0 | O39: 1 | P39: 0
A40: ==DEC2HEX(F40) | C40: 指令 | D40: us_error_log_restore | E40: 日志记录擦除 | F40: 66 | G40: 0 | H40: 1 | I40: UINT16 | J40: - | K40: 指令数据 | L40: 1：指令有效 0：指令无效 | N40: 0 | O40: 1 | P40: 0
A41: ==DEC2HEX(F41) | C41: 指令 | D41: us_freeze_min_restore | E41: 分钟冻结数据擦除 | F41: 67 | G41: 0 | H41: 1 | I41: UINT16 | J41: - | K41: 指令数据 | L41: 1：指令有效 0：指令无效 | N41: 0 | O41: 1 | P41: 0
A42: ==DEC2HEX(F42) | C42: 指令 | D42: us_freeze_day_restore | E42: 日冻结数据擦除 | F42: 68 | G42: 0 | H42: 1 | I42: UINT16 | J42: - | K42: 指令数据 | L42: 1：指令有效 0：指令无效 | N42: 0 | O42: 1 | P42: 0
A43: ==DEC2HEX(F43) | C43: 指令 | D43: us_freeze_month_restore | E43: 月冻结数据擦除 | F43: 69 | G43: 0 | H43: 1 | I43: UINT16 | J43: - | K43: 指令数据 | L43: 1：指令有效 0：指令无效 | N43: 0 | O43: 1 | P43: 0
A44: ==DEC2HEX(F44) | C44: 指令 | D44: us_freeze_year_restore | E44: 年冻结数据擦除 | F44: 70 | G44: 0 | H44: 1 | I44: UINT16 | J44: - | K44: 指令数据 | L44: 1：指令有效 0：指令无效 | N44: 0 | O44: 1 | P44: 0
A45: ==DEC2HEX(F45) | C45: 指令 | D45: us_comm_frame_restore | E45: 报文记录数据擦除 | F45: 71 | G45: 0 | H45: 1 | I45: UINT16 | J45: - | K45: 指令数据 | L45: 1：指令有效 0：指令无效 | N45: 0 | O45: 1 | P45: 0
A46: ==DEC2HEX(F46) | C46: 指令 | D46: us_operation_restore | E46: 操作记录数据擦除 | F46: 72 | G46: 0 | H46: 1 | I46: UINT16 | J46: - | K46: 指令数据 | L46: 1：指令有效 0：指令无效 | N46: 0 | O46: 1 | P46: 0
A47: ==DEC2HEX(F47) | C47: 指令 | D47: us_power_gen_restore | E47: 电量记录数据擦除 | F47: 73 | G47: 0 | H47: 1 | I47: UINT16 | J47: - | K47: 指令数据 | L47: 1：指令有效 0：指令无效 | N47: 0 | O47: 1 | P47: 0
... A52: ==DEC2HEX(F52) | C52: 指令 | D52: us_system_recover | E52: 恢复出厂设置 | F52: 78 | G52: 0 | H52: 1 | I52: UINT16 | J52: - | K52: 指令数据 | L52: 1：指令有效 0：指令无效 | N52: 0 | O52: 1 | P52: 0
A53: ==DEC2HEX(F53) | C53: 指令 | E53: 预留 | F53: 79 | H53: 21
A54: ==DEC2HEX(F54) | B54: arm_devices_set_t | C54: 参数 | D54: us_work_mode_svgc | E54: 工作模式 | F54: 100 | G54: 0 | H54: 1 | I54: UINT16 | J54: - | K54: 基本参数 | L54: 0-并网模式 1-恒流模式 | N54: 0 | O54: 2 | P54: 0 | Q54: Y | R54: Y
A55: ==DEC2HEX(F55) | C55: 参数 | D55: us_work_mode_svg | E55: 补偿模式选择 | F55: 101 | G55: 0 | H55: 1 | I55: UINT16 | J55: - | K55: 基本参数 | N55: 0 | O55: 1 | P55: 0 | Q55: Y | R55: Y
A56: ==DEC2HEX(F56) | C56: 参数 | D56: us_poweron_mode | E56: 开机模式 | F56: 102 | G56: 0 | H56: 1 | I56: UINT16 | J56: - | K56: 基本参数 | L56: 0-自动 1-手动 | N56: 0 | O56: 1 | P56: 0 | Q56: Y | R56: Y
A57: ==DEC2HEX(F57) | C57: 参数 | D57: us_power_on_delay | E57: 自动开机延时 | F57: 103 | G57: 0 | H57: 1 | I57: UINT16 | J57: s | K57: 基本参数 | N57: 15 | O57: 3600 | P57: 0 | Q57: Y | R57: Y
A58: ==DEC2HEX(F58) | C58: 参数 | D58: us_power_on_time_en | E58: 定时开关机使能 | F58: 104 | G58: 0 | H58: 1 | I58: UINT16 | J58: - | K58: 基本参数 | N58: 0 | O58: 1 | P58: 0 | Q58: Y | R58: Y
A59: ==DEC2HEX(F59) | C59: 参数 | D59: us_power_on_time | E59: 定时开机时间 | F59: 105 | G59: 0 | H59: 3 | I59: UINT16 | J59: s | K59: 基本参数 | L59: 时分秒 | N59: {0, 0, 0} | O59: {23, 59, 59} | P59: {0, 0, 0} | Q59: Y | R59: Y
A60: ==DEC2HEX(F60) | C60: 参数 | D60: us_power_off_time | E60: 定时关机时间 | F60: 108 | G60: 0 | H60: 3 | I60: UINT16 | J60: s | K60: 基本参数 | L60: 时分秒 | N60: {0, 0, 0} | O60: {23, 59, 59} | P60: {0, 0, 0} | Q60: Y | R60: Y
A61: ==DEC2HEX(F61) | C61: 参数 | D61: us_low_power_judge_delay | E61: 低功耗判断延时 | F61: 111 | G61: 0 | H61: 1 | I61: UINT16 | J61: s | K61: 基本参数 | L61: 未使用 | N61: 300 | O61: 65535 | P61: 0 | Q61: Y | R61: Y
A62: ==DEC2HEX(F62) | C62: 参数 | D62: us_low_power_judge_delay_quit | E62: 退出低功耗判断延时 | F62: 112 | G62: 0 | H62: 1 | I62: UINT16 | J62: s | K62: 基本参数 | L62: 未使用 | N62: 10 | O62: 65535 | P62: 0 | Q62: Y | R62: Y
A63: ==DEC2HEX(F63) | C63: 参数 | D63: us_auto_reset_delay | E63: 自动复位延时 | F63: 113 | G63: 0 | H63: 1 | I63: UINT16 | J63: s | K63: 基本参数 | N63: 180 | O63: 65535 | P63: 0 | Q63: Y | R63: Y
A64: ==DEC2HEX(F64) | C64: 参数 | D64: us_dsp_wd_enable | E64: DSP看门狗复位使能 | F64: 114 | G64: 0 | H64: 1 | I64: UINT16 | J64: - | K64: 基本参数 | N64: 0 | O64: 65535 | P64: 0 | Q64: Y
A65: ==DEC2HEX(F65) | C65: 参数 | D65: us_freeze_save_period | E65: 分钟冻结周期 | F65: 115 | G65: 0 | H65: 1 | I65: UINT16 | J65: min | K65: 基本参数 | N65: 5 | O65: 15 | P65: 1 | Q65: Y
A66: ==DEC2HEX(F66) | C66: 参数 | D66: us_record_frame_en | E66: 报文记录使能 | F66: 116 | G66: 0 | H66: 1 | I66: UINT16 | J66: - | K66: 基本参数 | L66: 0-不使能 1-rx使能 2-tx使能 | N66: 0 | O66: 3 | P66: 0 | Q66: Y
A67: 75 | C67: 参数 | D67: us_record_frame_dir | E67: 报文记录方向 | F67: 117 | G67: 0 | H67: 1 | I67: UINT16 | J67: - | K67: 基本参数 | N67: 0 | O67: 2 | P67: 0 | Q67: Y
A68: 76 | C68: 参数 | D68: us_record_frame_port | E68: 报文记录端口 | F68: 118 | G68: 0 | H68: 1 | I68: UINT16 | J68: - | K68: 基本参数 | L68: 0-uart1 1-uart2 2-uart3 3-uart4 4-uart5 5-uart6 6-uart7 7-uart8 8-uart9 9-uart10 10-CAN 11-ETH | N68: 0 | O68: 11 | P68: 0 | Q68: Y
A69: ==DEC2HEX(F69) | C69: 参数 | D69: us_record_err_log_en | E69: 错误打印记录使能 | F69: 119 | G69: 0 | H69: 1 | I69: UINT16 | J69: - | K69: 基本参数 | N69: 0 | O69: 1 | P69: 0 | Q69: Y | R69: Y
A70: ==DEC2HEX(F70) | C70: 参数 | D70: us_impd_dete_en | E70: 绝缘阻值检测使能 | F70: 120 | G70: 0 | H70: 1 | I70: UINT16 | J70: - | K70: 基本参数 | L70: 0-不使能 1-使能 | N70: 1 | O70: 1 | P70: 0 | Q70: Y | R70: Y
A71: ==DEC2HEX(F71) | C71: 参数 | D71: us_fan_ctr_mode | E71: 风扇控制模式 | F71: 121 | G71: 0 | H71: 1 | I71: UINT16 | J71: - | K71: 基本参数 | L71: 0-自动 1-手动 | N71: 0 | O71: 1 | P71: 0 | Q71: Y | R71: Y
A72: ==DEC2HEX(F72) | C72: 参数 | D72: leak_current_mode | E72: 漏电流模式 | F72: 122 | G72: 0 | H72: 1 | I72: UINT16 | J72: - | K72: 基本参数 | L72: 0-关闭检测 1-缓变检测 2-突变检测 3-缓变+突变检测 | N72: 3 | O72: 3 | P72: 0 | Q72: Y | R72: Y
A73: ==DEC2HEX(F73) | C73: 参数 | D73: us_sys_discharge_start_pwr | E73: 放电起始功率 | F73: 123 | G73: 1 | H73: 1 | I73: UINT16 | J73: kW | K73: 基本参数 | N73: 2 | O73: 6553.5 | P73: 0 | Q73: Y | R73: Y
A74: ==DEC2HEX(F74) | C74: 参数 | D74: us_anti_pid_en | E74: 抗PID使能 | F74: 124 | G74: 0 | H74: 1 | I74: UINT16 | J74: - | K74: 基本参数 | L74: 0-不使能 1-使能 | N74: 0 | O74: 1 | P74: 0 | Q74: Y | R74: Y
A75: ==DEC2HEX(F75) | C75: 参数 | D75: us_anti_pid_time | E75: 抗PID启动时间 | F75: 125 | G75: 0 | H75: 1 | I75: UINT16 | J75: s | K75: 基本参数 | N75: 120 | O75: 1200 | P75: 30 | Q75: Y | R75: Y
A76: ==DEC2HEX(F76) | C76: 参数 | D76: us_auto_restore_delay_value | E76: 自动清除故障模式 | F76: 126 | G76: 0 | H76: 1 | I76: UINT16 | J76: - | K76: 基本参数 | L76: 0-不使能故障自动清除 1-固定1秒周期清除 2-固定5秒周期清除 3-固定10秒周期清除 4-固定15秒周期清除 5-固定20秒周期清除 6-固定25秒周期清除 7-固定30秒周期清除 8-固定1分钟周期清除 9-固定5分钟周期清除 10-固定10分钟周期清除 11-固定15分钟周期清除 12-固定20分钟周期清除 13-固定25分钟周期清除 14-固定30分钟周期清除 15-队列[10s,2m,5m,10m,20m] | N76: 15 | O76: 15 | P76: 0 | Q76: Y | R76: Y
A77: ==DEC2HEX(F77) | C77: 参数 | D77: us_plc_enable | E77: 交流载波使能 | F77: 127 | G77: 0 | H77: 1 | I77: UINT16 | K77: 基本参数 | L77: 0-不使能 1-使能 | N77: 0 | O77: 1 | P77: 0 | Q77: Y | R77: Y
A78: ==DEC2HEX(F78) | C78: 参数 | D78: us_control_enable_shanxi | E78: 逆变器控制使能 | F78: 128 | G78: 0 | H78: 1 | I78: UINT16 | K78: 基本参数 | L78: 0-不使能 1-使能 | N78: 0 | O78: 1 | P78: 0 | Q78: Y | R78: Y
A79: ==DEC2HEX(F79) | C79: 参数 | E79: 预留 | F79: 129 | H79: 21
A80: ==DEC2HEX(F80) | B80: arm_comm_t | C80: 参数 | D80: us_remote_ip | E80: 主站IP | F80: 150 | G80: 0 | H80: 2 | I80: UINT16 | J80: - | K80: 通信参数 | L80: {0x93DB, 0x3E1A} 低位在前，解析为219.147.26.62 | N80: {37851, 15898} | O80: {65535, 65535} | P80: {0, 0} | Q80: Y | R80: Y
A81: ==DEC2HEX(F81) | C81: 参数 | D81: us_remote_port | E81: 主站端口号 | F81: 152 | G81: 0 | H81: 1 | I81: UINT16 | J81: - | K81: 通信参数 | N81: 5223 | O81: 65535 | P81: 0 | Q81: Y | R81: Y
A82: ==DEC2HEX(F82) | C82: 参数 | D82: us_interactive_cycle_4g | E82: 4G交互周期 | F82: 153 | G82: 0 | H82: 1 | I82: UINT16 | J82: s | K82: 通信参数 | N82: 10 | O82: 65535 | P82: 0 | Q82: Y | R82: Y
A83: ==DEC2HEX(F83) | C83: 参数 | D83: us_gprs_com_over_time | E83: 4G通信超时阈值 | F83: 154 | G83: 0 | H83: 1 | I83: UINT16 | J83: s | K83: 通信参数 | N83: 600 | O83: 65535 | P83: 0
A84: ==DEC2HEX(F84) | C84: 参数 | D84: us_can_enable | E84: CAN使能 | F84: 155 | G84: 0 | H84: 1 | I84: UINT16 | J84: - | K84: 通信参数 | L84: 0-不使能 1-使能 | N84: 0 | O84: 1 | P84: 0
A85: ==DEC2HEX(F85) | C85: 参数 | D85: us_can_dev_id | E85: CAN并机ID | F85: 156 | G85: 0 | H85: 1 | I85: UINT16 | J85: - | K85: 通信参数 | N85: 0 | O85: 5 | P85: 0
A86: ==DEC2HEX(F86) | C86: 参数 | D86: us_can_parallel_num | E86: CAN并机数量 | F86: 157 | G86: 0 | H86: 1 | I86: UINT16 | J86: - | K86: 通信参数 | N86: 0 | O86: 5 | P86: 0
A87: ==DEC2HEX(F87) | C87: 参数 | D87: us_com_over_time | E87: 通信故障判定时间 | F87: 158 | G87: 0 | H87: 1 | I87: UINT16 | J87: - | K87: 通信参数 | N87: 180 | O87: 3600 | P87: 0
A88: ==DEC2HEX(F88) | C88: 参数 | D88: us_plc_check_comm_period_t | E88: 载波通信超时判断周期 | F88: 159 | G88: 0 | H88: 1 | I88: UINT16 | J88: min | K88: 通信参数 | N88: 1440 | O88: 65535 | P88: 1 | Q88: Y | R88: Y
A89: ==DEC2HEX(F89) | C89: 参数 | E89: 预留 | F89: 160 | G89: 0 | H89: 10
A90: ==DEC2HEX(F90) | B90: arm_devices_limit_param_t | C90: 参数 | D90: us_fan_auto_ctrl_factor | E90: 风扇自动控制因素 | F90: 170 | G90: 0 | H90: 1 | I90: UINT16 | J90: - | K90: ARM限幅参数 | L90: 0-功率和温度 1-功率 2-温度 | N90: 0 | O90: 2 | P90: 0 | Q90: Y | R90: Y
A91: ==DEC2HEX(F91) | C91: 参数 | D91: us_manual_fan_pwm | E91: 手动风扇占空比 | F91: 171 | G91: 0 | H91: 1 | I91: UINT16 | J91: % | K91: ARM限幅参数 | N91: 95 | O91: 100 | P91: 0 | Q91: Y | R91: Y
A92: ==DEC2HEX(F92) | C92: 参数 | D92: us_fan_pwm_start | E92: 风扇启动占空比 | F92: 172 | G92: 0 | H92: 1 | I92: UINT16 | J92: % | K92: ARM限幅参数 | N92: 35 | O92: 50 | P92: 10 | Q92: Y | R92: Y
A93: ==DEC2HEX(F93) | C93: 参数 | D93: us_fan_pwm_max | E93: 风扇最大占空比 | F93: 173 | G93: 0 | H93: 1 | I93: UINT16 | J93: % | K93: ARM限幅参数 | N93: 100 | O93: 100 | P93: 51 | Q93: Y | R93: Y
A94: ==DEC2HEX(F94) | C94: 参数 | D94: us_fan_start_temp | E94: 风扇启动温度 | F94: 174 | G94: 0 | H94: 1 | I94: UINT16 | J94: ℃ | K94: ARM限幅参数 | N94: 45 | O94: 150 | P94: 10 | Q94: Y | R94: Y
A95: ==DEC2HEX(F95) | C95: 参数 | D95: us_fan_max_temp | E95: 风扇满速温度 | F95: 175 | G95: 0 | H95: 1 | I95: UINT16 | J95: ℃ | K95: ARM限幅参数 | N95: 55 | O95: 150 | P95: 30 | Q95: Y | R95: Y
A96: ==DEC2HEX(F96) | C96: 参数 | D96: us_fan_start_power | E96: 风扇启动功率(额定值%) | F96: 176 | G96: 0 | H96: 1 | I96: UINT16 | J96: % | K96: ARM限幅参数 | N96: 33 | O96: 100 | P96: 0 | Q96: Y | R96: Y
A97: ==DEC2HEX(F97) | C97: 参数 | D97: us_fan_max_power | E97: 风扇满速功率(额定值%) | F97: 177 | G97: 0 | H97: 1 | I97: UINT16 | J97: % | K97: ARM限幅参数 | N97: 67 | O97: 100 | P97: 0 | Q97: Y | R97: Y
A98: ==DEC2HEX(F98) | C98: 参数 | D98: us_reserve_param9_1 | E98: 幅值参考预留1 | F98: 178 | G98: 0 | H98: 1 | I98: UINT16 | J98: - | K98: ARM限幅参数 | N98: 42016 | O98: 65535 | P98: 1 | Q98: Y | R98: Y
A99: ==DEC2HEX(F99) | C99: 参数 | D99: us_reserve_param9_2 | E99: 幅值参考预留2 | F99: 179 | G99: 0 | H99: 1 | I99: UINT16 | J99: - | K99: ARM限幅参数 | N99: 0 | O99: 65535 | P99: 0 | Q99: Y | R99: Y
A100: ==DEC2HEX(F100) | C100: 参数 | D100: us_reserve_param9_3 | E100: 幅值参考预留3 | F100: 180 | G100: 0 | H100: 1 | I100: UINT16 | J100: - | K100: ARM限幅参数 | N100: 0 | O100: 65535 | P100: 0 | Q100: Y | R100: Y
A101: ==DEC2HEX(F101) | C101: 参数 | D101: us_reserve_param9_4 | E101: 幅值参考预留4 | F101: 181 | G101: 0 | H101: 1 | I101: UINT16 | J101: - | K101: ARM限幅参数 | N101: 0 | O101: 65535 | P101: 0 | Q101: Y | R101: Y
A102: ==DEC2HEX(F102) | C102: 参数 | D102: us_reserve_param9_5 | E102: 幅值参考预留5 | F102: 182 | G102: 0 | H102: 1 | I102: UINT16 | J102: - | K102: ARM限幅参数 | N102: 0 | O102: 65535 | P102: 0 | Q102: Y | R102: Y
... A104: ==DEC2HEX(F104) | C104: 参数 | D104: us_reserve_param9_7 | E104: 幅值参考预留7 | F104: 184 | G104: 0 | H104: 1 | I104: UINT16 | J104: - | K104: ARM限幅参数 | N104: 0 | O104: 65535 | P104: 0 | Q104: Y | R104: Y
A105: ==DEC2HEX(F105) | B105: arm_devices_threshold_t | C105: 参数 | D105: us_impd_fault_thrd | E105: 绝缘阻值故障阈值 | F105: 185 | G105: 0 | H105: 1 | I105: UINT16 | J105: KΩ | K105: ARM判断阈值 | N105: 180 | O105: 65535 | P105: 0 | Q105: Y | R105: Y
...

Sheet APP地址表
A1: 地址HEX | B1: 地址 | C1: DSP地址 | D1: ARM地址 | E1: 数据类型 | F1: 小数位 | G1: 数据长度 | H1: 一类标题 | I1: 二类标题 | J1: 数据名 | K1: 读 | L1: 写 | M1: 单位 | N1: 解析方式 | O1: 解析规则 | P1: 数据从属设备 | Q1: 备注
A2: ==DEC2HEX(B2) | B2: ==IF(C2="Y",4096+VLOOKUP(J2,DSP地址表!E:F,2,0),VLOOKUP(J2,ARM地址表!E:F,2,0)) | C2: N | D2: Y | E2: ==IF(C2="Y",VLOOKUP(J2,DSP地址表!E:I,5,0),VLOOKUP(J2,ARM地址表!E:I,5,0)) | F2: ==IF(C2="Y",VLOOKUP(J2,DSP地址表!E:I,3,0),VLOOKUP(J2,ARM地址表!E:I,3,0)) | G2: ==IF(C2="Y",VLOOKUP(J2,DSP地址表!E:I,4,0),VLOOKUP(J2,ARM地址表!E:I,4,0)) | H2: 设备状态 | I2: 通用信息 | J2: 设备类型 | K2: Y | L2: N | M2: ==IF(C2="Y",VLOOKUP(J2,DSP地址表!E:J,6,0),VLOOKUP(J2,ARM地址表!E:J,6,0)) | N2: 枚举解析 | O2: 0-FVR 1-MVR 2-SVG30 3-AUC30 4-SVG10C 5-智能电容器 6-SVG50/100 7-光伏逆变器2.1 8-PCS105
A3: ==DEC2HEX(B3) | B3: ==IF(C3="Y",4096+VLOOKUP(J3,DSP地址表!E:F,2,0),VLOOKUP(J3,ARM地址表!E:F,2,0)) | C3: N | D3: Y | E3: ==IF(C3="Y",VLOOKUP(J3,DSP地址表!E:I,5,0),VLOOKUP(J3,ARM地址表!E:I,5,0)) | F3: ==IF(C3="Y",VLOOKUP(J3,DSP地址表!E:I,3,0),VLOOKUP(J3,ARM地址表!E:I,3,0)) | G3: ==IF(C3="Y",VLOOKUP(J3,DSP地址表!E:I,4,0),VLOOKUP(J3,ARM地址表!E:I,4,0)) | H3: 设备状态 | I3: 通用信息 | J3: 行政区域码 | K3: Y | L3: Y | M3: ==IF(C3="Y",VLOOKUP(J3,DSP地址表!E:J,6,0),VLOOKUP(J3,ARM地址表!E:J,6,0)) | N3: 显示数值 | O3: -
A4: ==DEC2HEX(B4) | B4: ==IF(C4="Y",4096+VLOOKUP(J4,DSP地址表!E:F,2,0),VLOOKUP(J4,ARM地址表!E:F,2,0)) | C4: N | D4: Y | E4: ==IF(C4="Y",VLOOKUP(J4,DSP地址表!E:I,5,0),VLOOKUP(J4,ARM地址表!E:I,5,0)) | F4: ==IF(C4="Y",VLOOKUP(J4,DSP地址表!E:I,3,0),VLOOKUP(J4,ARM地址表!E:I,3,0)) | G4: ==IF(C4="Y",VLOOKUP(J4,DSP地址表!E:I,4,0),VLOOKUP(J4,ARM地址表!E:I,4,0)) | H4: 设备状态 | I4: 通用信息 | J4: 终端地址 | K4: Y | L4: Y | M4: ==IF(C4="Y",VLOOKUP(J4,DSP地址表!E:J,6,0),VLOOKUP(J4,ARM地址表!E:J,6,0)) | N4: 显示数值 | O4: -
A5: ==DEC2HEX(B5) | B5: ==IF(C5="Y",4096+VLOOKUP(J5,DSP地址表!E:F,2,0),VLOOKUP(J5,ARM地址表!E:F,2,0)) | C5: N | D5: Y | E5: ==IF(C5="Y",VLOOKUP(J5,DSP地址表!E:I,5,0),VLOOKUP(J5,ARM地址表!E:I,5,0)) | F5: ==IF(C5="Y",VLOOKUP(J5,DSP地址表!E:I,3,0),VLOOKUP(J5,ARM地址表!E:I,3,0)) | G5: ==IF(C5="Y",VLOOKUP(J5,DSP地址表!E:I,4,0),VLOOKUP(J5,ARM地址表!E:I,4,0)) | H5: 设备状态 | I5: 通用信息 | J5: 对外串口波特率 | K5: Y | L5: Y | M5: ==IF(C5="Y",VLOOKUP(J5,DSP地址表!E:J,6,0),VLOOKUP(J5,ARM地址表!E:J,6,0)) | N5: 枚举解析 | O5: 0-115200 1-38400 2-19200 3-9600 4-4800 5-2400
A6: ==DEC2HEX(B6) | B6: ==IF(C6="Y",4096+VLOOKUP(J6,DSP地址表!E:F,2,0),VLOOKUP(J6,ARM地址表!E:F,2,0)) | C6: N | D6: Y | E6: ==IF(C6="Y",VLOOKUP(J6,DSP地址表!E:I,5,0),VLOOKUP(J6,ARM地址表!E:I,5,0)) | F6: ==IF(C6="Y",VLOOKUP(J6,DSP地址表!E:I,3,0),VLOOKUP(J6,ARM地址表!E:I,3,0)) | G6: ==IF(C6="Y",VLOOKUP(J6,DSP地址表!E:I,4,0),VLOOKUP(J6,ARM地址表!E:I,4,0)) | H6: 设备状态 | I6: 通用信息 | J6: 载波协议类型 | K6: Y | L6: Y | M6: ==IF(C6="Y",VLOOKUP(J6,DSP地址表!E:J,6,0),VLOOKUP(J6,ARM地址表!E:J,6,0)) | N6: 枚举解析 | O6: 0-645协议 1-698协议
A7: ==DEC2HEX(B7) | B7: ==IF(C7="Y",4096+VLOOKUP(J7,DSP地址表!E:F,2,0),VLOOKUP(J7,ARM地址表!E:F,2,0)) | C7: N | D7: Y | E7: ==IF(C7="Y",VLOOKUP(J7,DSP地址表!E:I,5,0),VLOOKUP(J7,ARM地址表!E:I,5,0)) | F7: ==IF(C7="Y",VLOOKUP(J7,DSP地址表!E:I,3,0),VLOOKUP(J7,ARM地址表!E:I,3,0)) | G7: ==IF(C7="Y",VLOOKUP(J7,DSP地址表!E:I,4,0),VLOOKUP(J7,ARM地址表!E:I,4,0)) | H7: 设备状态 | I7: 通用信息 | J7: 645协议版本 | K7: Y | L7: Y | M7: ==IF(C7="Y",VLOOKUP(J7,DSP地址表!E:J,6,0),VLOOKUP(J7,ARM地址表!E:J,6,0)) | N7: 枚举解析 | O7: 0-鼎信私有协议 1-陕西协议
A8: ==DEC2HEX(B8) | B8: ==IF(C8="Y",4096+VLOOKUP(J8,DSP地址表!E:F,2,0),VLOOKUP(J8,ARM地址表!E:F,2,0)) | C8: N | D8: Y | E8: ==IF(C8="Y",VLOOKUP(J8,DSP地址表!E:I,5,0),VLOOKUP(J8,ARM地址表!E:I,5,0)) | F8: ==IF(C8="Y",VLOOKUP(J8,DSP地址表!E:I,3,0),VLOOKUP(J8,ARM地址表!E:I,3,0)) | G8: ==IF(C8="Y",VLOOKUP(J8,DSP地址表!E:I,4,0),VLOOKUP(J8,ARM地址表!E:I,4,0)) | H8: 设备状态 | I8: 通用信息 | J8: 0级密码 | K8: Y | L8: Y | M8: ==IF(C8="Y",VLOOKUP(J8,DSP地址表!E:J,6,0),VLOOKUP(J8,ARM地址表!E:J,6,0)) | N8: 显示数值
A9: ==DEC2HEX(B9) | B9: ==IF(C9="Y",4096+VLOOKUP(J9,DSP地址表!E:F,2,0),VLOOKUP(J9,ARM地址表!E:F,2,0)) | C9: N | D9: Y | E9: ==IF(C9="Y",VLOOKUP(J9,DSP地址表!E:I,5,0),VLOOKUP(J9,ARM地址表!E:I,5,0)) | F9: ==IF(C9="Y",VLOOKUP(J9,DSP地址表!E:I,3,0),VLOOKUP(J9,ARM地址表!E:I,3,0)) | G9: ==IF(C9="Y",VLOOKUP(J9,DSP地址表!E:I,4,0),VLOOKUP(J9,ARM地址表!E:I,4,0)) | H9: 设备状态 | I9: 通用信息 | J9: 1级密码 | K9: Y | L9: Y | M9: ==IF(C9="Y",VLOOKUP(J9,DSP地址表!E:J,6,0),VLOOKUP(J9,ARM地址表!E:J,6,0)) | N9: 显示数值
A10: ==DEC2HEX(B10) | B10: ==IF(C10="Y",4096+VLOOKUP(J10,DSP地址表!E:F,2,0),VLOOKUP(J10,ARM地址表!E:F,2,0)) | C10: N | D10: Y | E10: ==IF(C10="Y",VLOOKUP(J10,DSP地址表!E:I,5,0),VLOOKUP(J10,ARM地址表!E:I,5,0)) | F10: ==IF(C10="Y",VLOOKUP(J10,DSP地址表!E:I,3,0),VLOOKUP(J10,ARM地址表!E:I,3,0)) | G10: ==IF(C10="Y",VLOOKUP(J10,DSP地址表!E:I,4,0),VLOOKUP(J10,ARM地址表!E:I,4,0)) | H10: 设备状态 | I10: 通用信息 | J10: 2级密码 | K10: Y | L10: Y | M10: ==IF(C10="Y",VLOOKUP(J10,DSP地址表!E:J,6,0),VLOOKUP(J10,ARM地址表!E:J,6,0)) | N10: 显示数值
A11: ==DEC2HEX(B11) | B11: ==IF(C11="Y",4096+VLOOKUP(J11,DSP地址表!E:F,2,0),VLOOKUP(J11,ARM地址表!E:F,2,0)) | C11: N | D11: Y | E11: ==IF(C11="Y",VLOOKUP(J11,DSP地址表!E:I,5,0),VLOOKUP(J11,ARM地址表!E:I,5,0)) | F11: ==IF(C11="Y",VLOOKUP(J11,DSP地址表!E:I,3,0),VLOOKUP(J11,ARM地址表!E:I,3,0)) | G11: ==IF(C11="Y",VLOOKUP(J11,DSP地址表!E:I,4,0),VLOOKUP(J11,ARM地址表!E:I,4,0)) | H11: 设备状态 | I11: 通用信息 | J11: 户号 | K11: Y | L11: Y | M11: ==IF(C11="Y",VLOOKUP(J11,DSP地址表!E:J,6,0),VLOOKUP(J11,ARM地址表!E:J,6,0)) | N11: 显示数值
A12: ==DEC2HEX(B12) | B12: ==IF(C12="Y",4096+VLOOKUP(J12,DSP地址表!E:F,2,0),VLOOKUP(J12,ARM地址表!E:F,2,0)) | C12: N | D12: Y | E12: ==IF(C12="Y",VLOOKUP(J12,DSP地址表!E:I,5,0),VLOOKUP(J12,ARM地址表!E:I,5,0)) | F12: ==IF(C12="Y",VLOOKUP(J12,DSP地址表!E:I,3,0),VLOOKUP(J12,ARM地址表!E:I,3,0)) | G12: ==IF(C12="Y",VLOOKUP(J12,DSP地址表!E:I,4,0),VLOOKUP(J12,ARM地址表!E:I,4,0)) | H12: 设备状态 | I12: 通用信息 | J12: 虚拟电厂编号 | K12: Y | L12: Y | M12: ==IF(C12="Y",VLOOKUP(J12,DSP地址表!E:J,6,0),VLOOKUP(J12,ARM地址表!E:J,6,0)) | N12: 显示数值
A13: ==DEC2HEX(B13) | B13: ==IF(C13="Y",4096+VLOOKUP(J13,DSP地址表!E:F,2,0),VLOOKUP(J13,ARM地址表!E:F,2,0)) | C13: N | D13: Y | E13: ==IF(C13="Y",VLOOKUP(J13,DSP地址表!E:I,5,0),VLOOKUP(J13,ARM地址表!E:I,5,0)) | F13: ==IF(C13="Y",VLOOKUP(J13,DSP地址表!E:I,3,0),VLOOKUP(J13,ARM地址表!E:I,3,0)) | G13: ==IF(C13="Y",VLOOKUP(J13,DSP地址表!E:I,4,0),VLOOKUP(J13,ARM地址表!E:I,4,0)) | H13: 设备状态 | I13: 通用信息 | J13: 漏电流直流偏置AD值 | K13: Y | L13: Y | M13: ==IF(C13="Y",VLOOKUP(J13,DSP地址表!E:J,6,0),VLOOKUP(J13,ARM地址表!E:J,6,0)) | N13: 显示数值
A14: ==DEC2HEX(B14) | B14: ==IF(C14="Y",4096+VLOOKUP(J14,DSP地址表!E:F,2,0),VLOOKUP(J14,ARM地址表!E:F,2,0)) | C14: N | D14: Y | E14: ==IF(C14="Y",VLOOKUP(J14,DSP地址表!E:I,5,0),VLOOKUP(J14,ARM地址表!E:I,5,0)) | F14: ==IF(C14="Y",VLOOKUP(J14,DSP地址表!E:I,3,0),VLOOKUP(J14,ARM地址表!E:I,3,0)) | G14: ==IF(C14="Y",VLOOKUP(J14,DSP地址表!E:I,4,0),VLOOKUP(J14,ARM地址表!E:I,4,0)) | H14: 设备状态 | I14: 通用信息 | J14: 漏电流校准系数 | K14: Y | L14: Y | M14: ==IF(C14="Y",VLOOKUP(J14,DSP地址表!E:J,6,0),VLOOKUP(J14,ARM地址表!E:J,6,0)) | N14: 显示数值
A15: ==DEC2HEX(B15) | B15: ==IF(C15="Y",4096+VLOOKUP(J15,DSP地址表!E:F,2,0),VLOOKUP(J15,ARM地址表!E:F,2,0)) | C15: N | D15: Y | E15: ==IF(C15="Y",VLOOKUP(J15,DSP地址表!E:I,5,0),VLOOKUP(J15,ARM地址表!E:I,5,0)) | F15: ==IF(C15="Y",VLOOKUP(J15,DSP地址表!E:I,3,0),VLOOKUP(J15,ARM地址表!E:I,3,0)) | G15: ==IF(C15="Y",VLOOKUP(J15,DSP地址表!E:I,4,0),VLOOKUP(J15,ARM地址表!E:I,4,0)) | H15: 设备状态 | I15: 通用信息 | J15: 漏电流内部参考值 | K15: Y | L15: Y | N15: 显示数值
A16: ==DEC2HEX(B16) | B16: ==IF(C16="Y",4096+VLOOKUP(J16,DSP地址表!E:F,2,0),VLOOKUP(J16,ARM地址表!E:F,2,0)) | C16: N | D16: Y | E16: ==IF(C16="Y",VLOOKUP(J16,DSP地址表!E:I,5,0),VLOOKUP(J16,ARM地址表!E:I,5,0)) | F16: ==IF(C16="Y",VLOOKUP(J16,DSP地址表!E:I,3,0),VLOOKUP(J16,ARM地址表!E:I,3,0)) | G16: ==IF(C16="Y",VLOOKUP(J16,DSP地址表!E:I,4,0),VLOOKUP(J16,ARM地址表!E:I,4,0)) | H16: 设备状态 | I16: 通用信息 | J16: 国网地址 | K16: Y | L16: Y | M16: ==IF(C16="Y",VLOOKUP(J16,DSP地址表!E:J,6,0),VLOOKUP(J16,ARM地址表!E:J,6,0)) | N16: 显示数值
A17: ==DEC2HEX(B17) | B17: ==IF(C17="Y",4096+VLOOKUP(J17,DSP地址表!E:F,2,0),VLOOKUP(J17,ARM地址表!E:F,2,0)) | C17: N | D17: Y | E17: ==IF(C17="Y",VLOOKUP(J17,DSP地址表!E:I,5,0),VLOOKUP(J17,ARM地址表!E:I,5,0)) | F17: ==IF(C17="Y",VLOOKUP(J17,DSP地址表!E:I,3,0),VLOOKUP(J17,ARM地址表!E:I,3,0)) | G17: ==IF(C17="Y",VLOOKUP(J17,DSP地址表!E:I,4,0),VLOOKUP(J17,ARM地址表!E:I,4,0)) | H17: 设备状态 | I17: 通用信息 | J17: 表号（ESAM用） | K17: Y | L17: Y | M17: ==IF(C17="Y",VLOOKUP(J17,DSP地址表!E:J,6,0),VLOOKUP(J17,ARM地址表!E:J,6,0)) | N17: 显示数值
A18: ==DEC2HEX(B18) | B18: ==IF(C18="Y",4096+VLOOKUP(J18,DSP地址表!E:F,2,0),VLOOKUP(J18,ARM地址表!E:F,2,0)) | C18: N | D18: Y | E18: ==IF(C18="Y",VLOOKUP(J18,DSP地址表!E:I,5,0),VLOOKUP(J18,ARM地址表!E:I,5,0)) | F18: ==IF(C18="Y",VLOOKUP(J18,DSP地址表!E:I,3,0),VLOOKUP(J18,ARM地址表!E:I,3,0)) | G18: ==IF(C18="Y",VLOOKUP(J18,DSP地址表!E:I,4,0),VLOOKUP(J18,ARM地址表!E:I,4,0)) | H18: 设备状态 | I18: 通用信息 | J18: 设备状态 | K18: Y | L18: N | M18: ==IF(C18="Y",VLOOKUP(J18,DSP地址表!E:J,6,0),VLOOKUP(J18,ARM地址表!E:J,6,0)) | N18: 枚举解析 | O18: 0-离线 1-停机 2-自检 3-准备 4-运行 5-故障 6-关机
A19: ==DEC2HEX(B19) | B19: ==IF(C19="Y",4096+VLOOKUP(J19,DSP地址表!E:F,2,0),VLOOKUP(J19,ARM地址表!E:F,2,0)) | C19: N | D19: Y | E19: ==IF(C19="Y",VLOOKUP(J19,DSP地址表!E:I,5,0),VLOOKUP(J19,ARM地址表!E:I,5,0)) | F19: ==IF(C19="Y",VLOOKUP(J19,DSP地址表!E:I,3,0),VLOOKUP(J19,ARM地址表!E:I,3,0)) | G19: ==IF(C19="Y",VLOOKUP(J19,DSP地址表!E:I,4,0),VLOOKUP(J19,ARM地址表!E:I,4,0)) | H19: 设备状态 | I19: 通用信息 | J19: ARM地址表协议版本号 | K19: Y | L19: N | M19: ==IF(C19="Y",VLOOKUP(J19,DSP地址表!E:J,6,0),VLOOKUP(J19,ARM地址表!E:J,6,0)) | N19: 显示数值 | O19: - | Q19: ARM中的“DSP-ARM 串口通信”版本
A20: ==DEC2HEX(B20) | B20: ==IF(C20="Y",4096+VLOOKUP(J20,DSP地址表!E:F,2,0),VLOOKUP(J20,ARM地址表!E:F,2,0)) | C20: N | D20: Y | E20: ==IF(C20="Y",VLOOKUP(J20,DSP地址表!E:I,5,0),VLOOKUP(J20,ARM地址表!E:I,5,0)) | F20: ==IF(C20="Y",VLOOKUP(J20,DSP地址表!E:I,3,0),VLOOKUP(J20,ARM地址表!E:I,3,0)) | G20: ==IF(C20="Y",VLOOKUP(J20,DSP地址表!E:I,4,0),VLOOKUP(J20,ARM地址表!E:I,4,0)) | H20: 设备状态 | I20: 通用信息 | J20: CAN并机状态 | K20: Y | L20: N | M20: ==IF(C20="Y",VLOOKUP(J20,DSP地址表!E:J,6,0),VLOOKUP(J20,ARM地址表!E:J,6,0)) | N20: 显示数值 | O20: -
A21: ==DEC2HEX(B21) | B21: ==IF(C21="Y",4096+VLOOKUP(J21,DSP地址表!E:F,2,0),VLOOKUP(J21,ARM地址表!E:F,2,0)) | C21: N | D21: Y | E21: ==IF(C21="Y",VLOOKUP(J21,DSP地址表!E:I,5,0),VLOOKUP(J21,ARM地址表!E:I,5,0)) | F21: ==IF(C21="Y",VLOOKUP(J21,DSP地址表!E:I,3,0),VLOOKUP(J21,ARM地址表!E:I,3,0)) | G21: ==IF(C21="Y",VLOOKUP(J21,DSP地址表!E:I,4,0),VLOOKUP(J21,ARM地址表!E:I,4,0)) | H21: 设备状态 | I21: 通用信息 | J21: CAN并机检测数量 | K21: Y | L21: N | M21: ==IF(C21="Y",VLOOKUP(J21,DSP地址表!E:J,6,0),VLOOKUP(J21,ARM地址表!E:J,6,0)) | N21: 显示数值 | O21: -
A22: ==DEC2HEX(B22) | B22: ==IF(C22="Y",4096+VLOOKUP(J22,DSP地址表!E:F,2,0),VLOOKUP(J22,ARM地址表!E:F,2,0)) | C22: Y | D22: N | E22: ==IF(C22="Y",VLOOKUP(J22,DSP地址表!E:I,5,0),VLOOKUP(J22,ARM地址表!E:I,5,0)) | F22: ==IF(C22="Y",VLOOKUP(J22,DSP地址表!E:I,3,0),VLOOKUP(J22,ARM地址表!E:I,3,0)) | G22: ==IF(C22="Y",VLOOKUP(J22,DSP地址表!E:I,4,0),VLOOKUP(J22,ARM地址表!E:I,4,0)) | H22: 设备状态 | I22: 通用信息 | J22: 电压相序显示 | K22: Y | L22: N | M22: ==IF(C22="Y",VLOOKUP(J22,DSP地址表!E:J,6,0),VLOOKUP(J22,ARM地址表!E:J,6,0)) | N22: 枚举解析 | O22: 0-正相序 1-逆相序 2-无相序
A23: ==DEC2HEX(B23) | B23: ==IF(C23="Y",4096+VLOOKUP(J23,DSP地址表!E:F,2,0),VLOOKUP(J23,ARM地址表!E:F,2,0)) | C23: Y | D23: N | E23: ==IF(C23="Y",VLOOKUP(J23,DSP地址表!E:I,5,0),VLOOKUP(J23,ARM地址表!E:I,5,0)) | F23: ==IF(C23="Y",VLOOKUP(J23,DSP地址表!E:I,3,0),VLOOKUP(J23,ARM地址表!E:I,3,0)) | G23: ==IF(C23="Y",VLOOKUP(J23,DSP地址表!E:I,4,0),VLOOKUP(J23,ARM地址表!E:I,4,0)) | H23: 设备状态 | I23: 通用信息 | J23: 装置额定有功功率（设备容量） | K23: Y | L23: N | M23: ==IF(C23="Y",VLOOKUP(J23,DSP地址表!E:J,6,0),VLOOKUP(J23,ARM地址表!E:J,6,0)) | N23: 显示数值 | O23: -
A24: ==DEC2HEX(B24) | B24: ==IF(C24="Y",4096+VLOOKUP(J24,DSP地址表!E:F,2,0),VLOOKUP(J24,ARM地址表!E:F,2,0)) | C24: Y | D24: N | E24: ==IF(C24="Y",VLOOKUP(J24,DSP地址表!E:I,5,0),VLOOKUP(J24,ARM地址表!E:I,5,0)) | F24: ==IF(C24="Y",VLOOKUP(J24,DSP地址表!E:I,3,0),VLOOKUP(J24,ARM地址表!E:I,3,0)) | G24: ==IF(C24="Y",VLOOKUP(J24,DSP地址表!E:I,4,0),VLOOKUP(J24,ARM地址表!E:I,4,0)) | H24: 设备状态 | I24: 通用信息 | J24: 装置额定无功功率 | K24: Y | L24: N | M24: ==IF(C24="Y",VLOOKUP(J24,DSP地址表!E:J,6,0),VLOOKUP(J24,ARM地址表!E:J,6,0)) | N24: 显示数值 | O24: -
A25: ==DEC2HEX(B25) | B25: ==IF(C25="Y",4096+VLOOKUP(J25,DSP地址表!E:F,2,0),VLOOKUP(J25,ARM地址表!E:F,2,0)) | C25: Y | D25: N | E25: ==IF(C25="Y",VLOOKUP(J25,DSP地址表!E:I,5,0),VLOOKUP(J25,ARM地址表!E:I,5,0)) | F25: ==IF(C25="Y",VLOOKUP(J25,DSP地址表!E:I,3,0),VLOOKUP(J25,ARM地址表!E:I,3,0)) | G25: ==IF(C25="Y",VLOOKUP(J25,DSP地址表!E:I,4,0),VLOOKUP(J25,ARM地址表!E:I,4,0)) | H25: 设备状态 | I25: 通用信息 | J25: DSP使用地址表协议版本号 | K25: Y | L25: N | M25: ==IF(C25="Y",VLOOKUP(J25,DSP地址表!E:J,6,0),VLOOKUP(J25,ARM地址表!E:J,6,0)) | N25: 显示数值 | O25: - | Q25: DSP中的“DSP-ARM 串口通信”版本
A26: ==DEC2HEX(B26) | B26: ==IF(C26="Y",4096+VLOOKUP(J26,DSP地址表!E:F,2,0),VLOOKUP(J26,ARM地址表!E:F,2,0)) | C26: Y | D26: N | E26: ==IF(C26="Y",VLOOKUP(J26,DSP地址表!E:I,5,0),VLOOKUP(J26,ARM地址表!E:I,5,0)) | F26: ==IF(C26="Y",VLOOKUP(J26,DSP地址表!E:I,3,0),VLOOKUP(J26,ARM地址表!E:I,3,0)) | G26: ==IF(C26="Y",VLOOKUP(J26,DSP地址表!E:I,4,0),VLOOKUP(J26,ARM地址表!E:I,4,0)) | H26: 设备状态 | I26: 通用信息 | J26: 相数 | K26: Y | L26: N | M26: ==IF(C26="Y",VLOOKUP(J26,DSP地址表!E:J,6,0),VLOOKUP(J26,ARM地址表!E:J,6,0)) | N26: 枚举解析 | O26: 0-单相 1-三相
B27: ==IF(C27="Y",4096+VLOOKUP(J27,DSP地址表!E:F,2,0),VLOOKUP(J27,ARM地址表!E:F,2,0)) | E27: ==IF(C27="Y",VLOOKUP(J27,DSP地址表!E:I,5,0),VLOOKUP(J27,ARM地址表!E:I,5,0)) | F27: ==IF(C27="Y",VLOOKUP(J27,DSP地址表!E:I,3,0),VLOOKUP(J27,ARM地址表!E:I,3,0)) | G27: ==IF(C27="Y",VLOOKUP(J27,DSP地址表!E:I,4,0),VLOOKUP(J27,ARM地址表!E:I,4,0)) | J27: 预留
A28: ==DEC2HEX(B28) | B28: ==IF(C28="Y",4096+VLOOKUP(J28,DSP地址表!E:F,2,0),VLOOKUP(J28,ARM地址表!E:F,2,0)) | C28: Y | D28: N | E28: ==IF(C28="Y",VLOOKUP(J28,DSP地址表!E:I,5,0),VLOOKUP(J28,ARM地址表!E:I,5,0)) | F28: ==IF(C28="Y",VLOOKUP(J28,DSP地址表!E:I,3,0),VLOOKUP(J28,ARM地址表!E:I,3,0)) | G28: ==IF(C28="Y",VLOOKUP(J28,DSP地址表!E:I,4,0),VLOOKUP(J28,ARM地址表!E:I,4,0)) | H28: 设备状态 | I28: 状态标签 | J28: MPPT1状态 | K28: Y | L28: N | M28: ==IF(C28="Y",VLOOKUP(J28,DSP地址表!E:J,6,0),VLOOKUP(J28,ARM地址表!E:J,6,0)) | N28: 枚举解析 | O28: 0-待机 1-曲线扫描 2-BST功率追踪 3-旁路 4-稳压 5-恒流
A29: ==DEC2HEX(B29) | B29: ==IF(C29="Y",4096+VLOOKUP(J29,DSP地址表!E:F,2,0),VLOOKUP(J29,ARM地址表!E:F,2,0)) | C29: Y | D29: N | E29: ==IF(C29="Y",VLOOKUP(J29,DSP地址表!E:I,5,0),VLOOKUP(J29,ARM地址表!E:I,5,0)) | F29: ==IF(C29="Y",VLOOKUP(J29,DSP地址表!E:I,3,0),VLOOKUP(J29,ARM地址表!E:I,3,0)) | G29: ==IF(C29="Y",VLOOKUP(J29,DSP地址表!E:I,4,0),VLOOKUP(J29,ARM地址表!E:I,4,0)) | H29: 设备状态 | I29: 状态标签 | J29: MPPT2状态 | K29: Y | L29: N | M29: ==IF(C29="Y",VLOOKUP(J29,DSP地址表!E:J,6,0),VLOOKUP(J29,ARM地址表!E:J,6,0)) | N29: 枚举解析 | O29: 0-待机 1-曲线扫描 2-BST功率追踪 3-旁路 4-稳压 5-恒流
A30: ==DEC2HEX(B30) | B30: ==IF(C30="Y",4096+VLOOKUP(J30,DSP地址表!E:F,2,0),VLOOKUP(J30,ARM地址表!E:F,2,0)) | C30: Y | D30: N | E30: ==IF(C30="Y",VLOOKUP(J30,DSP地址表!E:I,5,0),VLOOKUP(J30,ARM地址表!E:I,5,0)) | F30: ==IF(C30="Y",VLOOKUP(J30,DSP地址表!E:I,3,0),VLOOKUP(J30,ARM地址表!E:I,3,0)) | G30: ==IF(C30="Y",VLOOKUP(J30,DSP地址表!E:I,4,0),VLOOKUP(J30,ARM地址表!E:I,4,0)) | H30: 设备状态 | I30: 状态标签 | J30: 显示运行模式 | K30: Y | L30: N | M30: ==IF(C30="Y",VLOOKUP(J30,DSP地址表!E:J,6,0),VLOOKUP(J30,ARM地址表!E:J,6,0)) | N30: 枚举解析 | O30: 0-模式预留
A31: ==DEC2HEX(B31) | B31: ==IF(C31="Y",4096+VLOOKUP(J31,DSP地址表!E:F,2,0),VLOOKUP(J31,ARM地址表!E:F,2,0)) | C31: Y | D31: N | E31: ==IF(C31="Y",VLOOKUP(J31,DSP地址表!E:I,5,0),VLOOKUP(J31,ARM地址表!E:I,5,0)) | F31: ==IF(C31="Y",VLOOKUP(J31,DSP地址表!E:I,3,0),VLOOKUP(J31,ARM地址表!E:I,3,0)) | G31: ==IF(C31="Y",VLOOKUP(J31,DSP地址表!E:I,4,0),VLOOKUP(J31,ARM地址表!E:I,4,0)) | H31: 设备状态 | I31: 状态标签 | J31: 故障状态标志 | K31: Y | L31: N | M31: ==IF(C31="Y",VLOOKUP(J31,DSP地址表!E:J,6,0),VLOOKUP(J31,ARM地址表!E:J,6,0)) | N31: 枚举解析 | O31: 0-非严重故障 1-严重故障
A32: ==DEC2HEX(B32) | B32: ==IF(C32="Y",4096+VLOOKUP(J32,DSP地址表!E:F,2,0),VLOOKUP(J32,ARM地址表!E:F,2,0)) | C32: Y | D32: N | E32: ==IF(C32="Y",VLOOKUP(J32,DSP地址表!E:I,5,0),VLOOKUP(J32,ARM地址表!E:I,5,0)) | F32: ==IF(C32="Y",VLOOKUP(J32,DSP地址表!E:I,3,0),VLOOKUP(J32,ARM地址表!E:I,3,0)) | G32: ==IF(C32="Y",VLOOKUP(J32,DSP地址表!E:I,4,0),VLOOKUP(J32,ARM地址表!E:I,4,0)) | H32: 设备状态 | I32: 状态标签 | J32: 逻辑状态标签 | K32: Y | L32: N | M32: ==IF(C32="Y",VLOOKUP(J32,DSP地址表!E:J,6,0),VLOOKUP(J32,ARM地址表!E:J,6,0)) | N32: 显示数值 | O32: -
A33: ==DEC2HEX(B33) | B33: ==IF(C33="Y",4096+VLOOKUP(J33,DSP地址表!E:F,2,0),VLOOKUP(J33,ARM地址表!E:F,2,0)) | C33: Y | D33: N | E33: ==IF(C33="Y",VLOOKUP(J33,DSP地址表!E:I,5,0),VLOOKUP(J33,ARM地址表!E:I,5,0)) | F33: ==IF(C33="Y",VLOOKUP(J33,DSP地址表!E:I,3,0),VLOOKUP(J33,ARM地址表!E:I,3,0)) | G33: ==IF(C33="Y",VLOOKUP(J33,DSP地址表!E:I,4,0),VLOOKUP(J33,ARM地址表!E:I,4,0)) | H33: 设备状态 | I33: 状态标签 | J33: 节能状态标签 | K33: Y | L33: N | M33: ==IF(C33="Y",VLOOKUP(J33,DSP地址表!E:J,6,0),VLOOKUP(J33,ARM地址表!E:J,6,0)) | N33: 显示数值 | O33: -
A34: ==DEC2HEX(B34) | B34: ==IF(C34="Y",4096+VLOOKUP(J34,DSP地址表!E:F,2,0),VLOOKUP(J34,ARM地址表!E:F,2,0)) | C34: Y | D34: N | E34: ==IF(C34="Y",VLOOKUP(J34,DSP地址表!E:I,5,0),VLOOKUP(J34,ARM地址表!E:I,5,0)) | F34: ==IF(C34="Y",VLOOKUP(J34,DSP地址表!E:I,3,0),VLOOKUP(J34,ARM地址表!E:I,3,0)) | G34: ==IF(C34="Y",VLOOKUP(J34,DSP地址表!E:I,4,0),VLOOKUP(J34,ARM地址表!E:I,4,0)) | H34: 设备状态 | I34: 状态标签 | J34: 锁相状态标签 | K34: Y | L34: N | M34: ==IF(C34="Y",VLOOKUP(J34,DSP地址表!E:J,6,0),VLOOKUP(J34,ARM地址表!E:J,6,0)) | N34: 显示数值 | O34: -
A35: ==DEC2HEX(B35) | B35: ==IF(C35="Y",4096+VLOOKUP(J35,DSP地址表!E:F,2,0),VLOOKUP(J35,ARM地址表!E:F,2,0)) | C35: Y | D35: N | E35: ==IF(C35="Y",VLOOKUP(J35,DSP地址表!E:I,5,0),VLOOKUP(J35,ARM地址表!E:I,5,0)) | F35: ==IF(C35="Y",VLOOKUP(J35,DSP地址表!E:I,3,0),VLOOKUP(J35,ARM地址表!E:I,3,0)) | G35: ==IF(C35="Y",VLOOKUP(J35,DSP地址表!E:I,4,0),VLOOKUP(J35,ARM地址表!E:I,4,0)) | H35: 设备状态 | I35: 状态标签 | J35: 辅助状态标签 | K35: Y | L35: N | M35: ==IF(C35="Y",VLOOKUP(J35,DSP地址表!E:J,6,0),VLOOKUP(J35,ARM地址表!E:J,6,0)) | N35: 显示数值 | O35: -
A36: ==DEC2HEX(B36) | B36: ==IF(C36="Y",4096+VLOOKUP(J36,DSP地址表!E:F,2,0),VLOOKUP(J36,ARM地址表!E:F,2,0)) | C36: Y | D36: N | E36: ==IF(C36="Y",VLOOKUP(J36,DSP地址表!E:I,5,0),VLOOKUP(J36,ARM地址表!E:I,5,0)) | F36: ==IF(C36="Y",VLOOKUP(J36,DSP地址表!E:I,3,0),VLOOKUP(J36,ARM地址表!E:I,3,0)) | G36: ==IF(C36="Y",VLOOKUP(J36,DSP地址表!E:I,4,0),VLOOKUP(J36,ARM地址表!E:I,4,0)) | H36: 设备状态 | I36: 状态标签 | J36: 过温半载运行标签 | K36: Y | L36: N | M36: ==IF(C36="Y",VLOOKUP(J36,DSP地址表!E:J,6,0),VLOOKUP(J36,ARM地址表!E:J,6,0)) | N36: 显示数值 | O36: -
A37: ==DEC2HEX(B37) | B37: ==IF(C37="Y",4096+VLOOKUP(J37,DSP地址表!E:F,2,0),VLOOKUP(J37,ARM地址表!E:F,2,0)) | C37: Y | D37: N | E37: ==IF(C37="Y",VLOOKUP(J37,DSP地址表!E:I,5,0),VLOOKUP(J37,ARM地址表!E:I,5,0)) | F37: ==IF(C37="Y",VLOOKUP(J37,DSP地址表!E:I,3,0),VLOOKUP(J37,ARM地址表!E:I,3,0)) | G37: ==IF(C37="Y",VLOOKUP(J37,DSP地址表!E:I,4,0),VLOOKUP(J37,ARM地址表!E:I,4,0)) | H37: 设备状态 | I37: 状态标签 | J37: DSP直流灯状态指示 | K37: Y | L37: N | M37: ==IF(C37="Y",VLOOKUP(J37,DSP地址表!E:J,6,0),VLOOKUP(J37,ARM地址表!E:J,6,0)) | N37: 枚举解析 | O37: 0-灭（未上电） 1- 绿色慢闪（上电） 2-绿色常亮（并网运行） 3-红色快闪（环境告警） 4-红色常亮（故障）
A38: ==DEC2HEX(B38) | B38: ==IF(C38="Y",4096+VLOOKUP(J38,DSP地址表!E:F,2,0),VLOOKUP(J38,ARM地址表!E:F,2,0)) | C38: Y | D38: N | E38: ==IF(C38="Y",VLOOKUP(J38,DSP地址表!E:I,5,0),VLOOKUP(J38,ARM地址表!E:I,5,0)) | F38: ==IF(C38="Y",VLOOKUP(J38,DSP地址表!E:I,3,0),VLOOKUP(J38,ARM地址表!E:I,3,0)) | G38: ==IF(C38="Y",VLOOKUP(J38,DSP地址表!E:I,4,0),VLOOKUP(J38,ARM地址表!E:I,4,0)) | H38: 设备状态 | I38: 状态标签 | J38: DSP交流灯状态指示 | K38: Y | L38: N | M38: ==IF(C38="Y",VLOOKUP(J38,DSP地址表!E:J,6,0),VLOOKUP(J38,ARM地址表!E:J,6,0)) | N38: 枚举解析 | O38: 0-灭（未上电） 1- 绿色慢闪（上电） 2-绿色常亮（并网运行） 3-红色快闪（环境告警） 4-红色常亮（故障）
A39: ==DEC2HEX(B39) | B39: ==IF(C39="Y",4096+VLOOKUP(J39,DSP地址表!E:F,2,0),VLOOKUP(J39,ARM地址表!E:F,2,0)) | C39: Y | D39: N | E39: ==IF(C39="Y",VLOOKUP(J39,DSP地址表!E:I,5,0),VLOOKUP(J39,ARM地址表!E:I,5,0)) | F39: ==IF(C39="Y",VLOOKUP(J39,DSP地址表!E:I,3,0),VLOOKUP(J39,ARM地址表!E:I,3,0)) | G39: ==IF(C39="Y",VLOOKUP(J39,DSP地址表!E:I,4,0),VLOOKUP(J39,ARM地址表!E:I,4,0)) | H39: 设备状态 | I39: 状态标签 | J39: 设备调制状态 | K39: Y | L39: N | M39: ==IF(C39="Y",VLOOKUP(J39,DSP地址表!E:J,6,0),VLOOKUP(J39,ARM地址表!E:J,6,0)) | N39: 显示数值
A40: ==DEC2HEX(B40) | B40: ==IF(C40="Y",4096+VLOOKUP(J40,DSP地址表!E:F,2,0),VLOOKUP(J40,ARM地址表!E:F,2,0)) | C40: Y | D40: N | E40: ==IF(C40="Y",VLOOKUP(J40,DSP地址表!E:I,5,0),VLOOKUP(J40,ARM地址表!E:I,5,0)) | F40: ==IF(C40="Y",VLOOKUP(J40,DSP地址表!E:I,3,0),VLOOKUP(J40,ARM地址表!E:I,3,0)) | G40: ==IF(C40="Y",VLOOKUP(J40,DSP地址表!E:I,4,0),VLOOKUP(J40,ARM地址表!E:I,4,0)) | H40: 设备状态 | I40: 状态标签 | J40: MPPT3状态 | K40: Y | L40: N | M40: ==IF(C40="Y",VLOOKUP(J40,DSP地址表!E:J,6,0),VLOOKUP(J40,ARM地址表!E:J,6,0)) | N40: 枚举解析 | O40: 0-待机 1-曲线扫描 2-BST功率追踪 3-旁路 4-稳压 5-恒流
A41: ==DEC2HEX(B41) | B41: ==IF(C41="Y",4096+VLOOKUP(J41,DSP地址表!E:F,2,0),VLOOKUP(J41,ARM地址表!E:F,2,0)) | C41: Y | D41: N | E41: ==IF(C41="Y",VLOOKUP(J41,DSP地址表!E:I,5,0),VLOOKUP(J41,ARM地址表!E:I,5,0)) | F41: ==IF(C41="Y",VLOOKUP(J41,DSP地址表!E:I,3,0),VLOOKUP(J41,ARM地址表!E:I,3,0)) | G41: ==IF(C41="Y",VLOOKUP(J41,DSP地址表!E:I,4,0),VLOOKUP(J41,ARM地址表!E:I,4,0)) | H41: 设备状态 | I41: 状态标签 | J41: MPPT4状态 | K41: Y | L41: N | M41: ==IF(C41="Y",VLOOKUP(J41,DSP地址表!E:J,6,0),VLOOKUP(J41,ARM地址表!E:J,6,0)) | N41: 枚举解析 | O41: 0-待机 1-曲线扫描 2-BST功率追踪 3-旁路 4-稳压 5-恒流
A42: ==DEC2HEX(B42) | B42: ==IF(C42="Y",4096+VLOOKUP(J42,DSP地址表!E:F,2,0),VLOOKUP(J42,ARM地址表!E:F,2,0)) | C42: Y | D42: N | E42: ==IF(C42="Y",VLOOKUP(J42,DSP地址表!E:I,5,0),VLOOKUP(J42,ARM地址表!E:I,5,0)) | F42: ==IF(C42="Y",VLOOKUP(J42,DSP地址表!E:I,3,0),VLOOKUP(J42,ARM地址表!E:I,3,0)) | G42: ==IF(C42="Y",VLOOKUP(J42,DSP地址表!E:I,4,0),VLOOKUP(J42,ARM地址表!E:I,4,0)) | H42: 设备状态 | I42: 状态标签 | J42: 过温限功率状态 | K42: Y | L42: N | M42: ==IF(C42="Y",VLOOKUP(J42,DSP地址表!E:J,6,0),VLOOKUP(J42,ARM地址表!E:J,6,0)) | N42: 枚举解析 | O42: 0：未降额 1：降额
A43: ==DEC2HEX(B43) | B43: ==IF(C43="Y",4096+VLOOKUP(J43,DSP地址表!E:F,2,0),VLOOKUP(J43,ARM地址表!E:F,2,0)) | C43: N | D43: Y | E43: ==IF(C43="Y",VLOOKUP(J43,DSP地址表!E:I,5,0),VLOOKUP(J43,ARM地址表!E:I,5,0)) | F43: ==IF(C43="Y",VLOOKUP(J43,DSP地址表!E:I,3,0),VLOOKUP(J43,ARM地址表!E:I,3,0)) | G43: ==IF(C43="Y",VLOOKUP(J43,DSP地址表!E:I,4,0),VLOOKUP(J43,ARM地址表!E:I,4,0)) | H43: 设备状态 | I43: 状态标签 | J43: ARM逻辑状态 | K43: Y | L43: N | M43: ==IF(C43="Y",VLOOKUP(J43,DSP地址表!E:J,6,0),VLOOKUP(J43,ARM地址表!E:J,6,0)) | N43: 显示数值 | O43: -
A44: ==DEC2HEX(B44) | B44: ==IF(C44="Y",4096+VLOOKUP(J44,DSP地址表!E:F,2,0),VLOOKUP(J44,ARM地址表!E:F,2,0)) | C44: N | D44: Y | E44: ==IF(C44="Y",VLOOKUP(J44,DSP地址表!E:I,5,0),VLOOKUP(J44,ARM地址表!E:I,5,0)) | F44: ==IF(C44="Y",VLOOKUP(J44,DSP地址表!E:I,3,0),VLOOKUP(J44,ARM地址表!E:I,3,0)) | G44: ==IF(C44="Y",VLOOKUP(J44,DSP地址表!E:I,4,0),VLOOKUP(J44,ARM地址表!E:I,4,0)) | H44: 设备状态 | I44: 状态标签 | J44: ARM运行状态 | K44: Y | L44: N | M44: ==IF(C44="Y",VLOOKUP(J44,DSP地址表!E:J,6,0),VLOOKUP(J44,ARM地址表!E:J,6,0)) | N44: 枚举解析 | O44: 0-离线 1-停机 2-自检 3-准备 4-运行 5-故障 6-关机
A45: ==DEC2HEX(B45) | B45: ==IF(C45="Y",4096+VLOOKUP(J45,DSP地址表!E:F,2,0),VLOOKUP(J45,ARM地址表!E:F,2,0)) | C45: N | D45: Y | E45: ==IF(C45="Y",VLOOKUP(J45,DSP地址表!E:I,5,0),VLOOKUP(J45,ARM地址表!E:I,5,0)) | F45: ==IF(C45="Y",VLOOKUP(J45,DSP地址表!E:I,3,0),VLOOKUP(J45,ARM地址表!E:I,3,0)) | G45: ==IF(C45="Y",VLOOKUP(J45,DSP地址表!E:I,4,0),VLOOKUP(J45,ARM地址表!E:I,4,0)) | H45: 设备状态 | I45: 状态标签 | J45: DSP运行状态 | K45: Y | L45: N | M45: ==IF(C45="Y",VLOOKUP(J45,DSP地址表!E:J,6,0),VLOOKUP(J45,ARM地址表!E:J,6,0)) | N45: 枚举解析 | O45: 0-离线 1-停机 2-自检 3-准备 4-运行 5-故障 6-关机 7-运行(过温降额) 8-运行(冷却系统异常降额)
A46: ==DEC2HEX(B46) | B46: ==IF(C46="Y",4096+VLOOKUP(J46,DSP地址表!E:F,2,0),VLOOKUP(J46,ARM地址表!E:F,2,0)) | C46: N | D46: Y | E46: ==IF(C46="Y",VLOOKUP(J46,DSP地址表!E:I,5,0),VLOOKUP(J46,ARM地址表!E:I,5,0)) | F46: ==IF(C46="Y",VLOOKUP(J46,DSP地址表!E:I,3,0),VLOOKUP(J46,ARM地址表!E:I,3,0)) | G46: ==IF(C46="Y",VLOOKUP(J46,DSP地址表!E:I,4,0),VLOOKUP(J46,ARM地址表!E:I,4,0)) | H46: 设备状态 | I46: 状态标签 | J46: 预留数据1_2 | K46: Y | L46: N | M46: ==IF(C46="Y",VLOOKUP(J46,DSP地址表!E:J,6,0),VLOOKUP(J46,ARM地址表!E:J,6,0)) | N46: 显示数值 | O46: -
A47: ==DEC2HEX(B47) | B47: ==IF(C47="Y",4096+VLOOKUP(J47,DSP地址表!E:F,2,0),VLOOKUP(J47,ARM地址表!E:F,2,0)) | C47: N | D47: Y | E47: ==IF(C47="Y",VLOOKUP(J47,DSP地址表!E:I,5,0),VLOOKUP(J47,ARM地址表!E:I,5,0)) | F47: ==IF(C47="Y",VLOOKUP(J47,DSP地址表!E:I,3,0),VLOOKUP(J47,ARM地址表!E:I,3,0)) | G47: ==IF(C47="Y",VLOOKUP(J47,DSP地址表!E:I,4,0),VLOOKUP(J47,ARM地址表!E:I,4,0)) | H47: 设备状态 | I47: 状态标签 | J47: 预留数据1_3 | K47: Y | L47: N | M47: ==IF(C47="Y",VLOOKUP(J47,DSP地址表!E:J,6,0),VLOOKUP(J47,ARM地址表!E:J,6,0)) | N47: 显示数值 | O47: -
J48: 预留
A49: ==DEC2HEX(B49) | B49: ==IF(C49="Y",4096+VLOOKUP(J49,DSP地址表!E:F,2,0),VLOOKUP(J49,ARM地址表!E:F,2,0)) | C49: N | D49: Y | E49: ==IF(C49="Y",VLOOKUP(J49,DSP地址表!E:I,5,0),VLOOKUP(J49,ARM地址表!E:I,5,0)) | F49: ==IF(C49="Y",VLOOKUP(J49,DSP地址表!E:I,3,0),VLOOKUP(J49,ARM地址表!E:I,3,0)) | G49: ==IF(C49="Y",VLOOKUP(J49,DSP地址表!E:I,4,0),VLOOKUP(J49,ARM地址表!E:I,4,0)) | H49: 设备状态 | I49: 通用操作 | J49: 设备开机 | K49: N | L49: Y | M49: ==IF(C49="Y",VLOOKUP(J49,DSP地址表!E:J,6,0),VLOOKUP(J49,ARM地址表!E:J,6,0)) | N49: 按钮开关 | O49: -
A50: ==DEC2HEX(B50) | B50: ==IF(C50="Y",4096+VLOOKUP(J50,DSP地址表!E:F,2,0),VLOOKUP(J50,ARM地址表!E:F,2,0)) | C50: N | D50: Y | E50: ==IF(C50="Y",VLOOKUP(J50,DSP地址表!E:I,5,0),VLOOKUP(J50,ARM地址表!E:I,5,0)) | F50: ==IF(C50="Y",VLOOKUP(J50,DSP地址表!E:I,3,0),VLOOKUP(J50,ARM地址表!E:I,3,0)) | G50: ==IF(C50="Y",VLOOKUP(J50,DSP地址表!E:I,4,0),VLOOKUP(J50,ARM地址表!E:I,4,0)) | H50: 设备状态 | I50: 通用操作 | J50: 设备关机 | K50: N | L50: Y | M50: ==IF(C50="Y",VLOOKUP(J50,DSP地址表!E:J,6,0),VLOOKUP(J50,ARM地址表!E:J,6,0)) | N50: 按钮开关 | O50: -
A51: ==DEC2HEX(B51) | B51: ==IF(C51="Y",4096+VLOOKUP(J51,DSP地址表!E:F,2,0),VLOOKUP(J51,ARM地址表!E:F,2,0)) | C51: N | D51: Y | E51: ==IF(C51="Y",VLOOKUP(J51,DSP地址表!E:I,5,0),VLOOKUP(J51,ARM地址表!E:I,5,0)) | F51: ==IF(C51="Y",VLOOKUP(J51,DSP地址表!E:I,3,0),VLOOKUP(J51,ARM地址表!E:I,3,0)) | G51: ==IF(C51="Y",VLOOKUP(J51,DSP地址表!E:I,4,0),VLOOKUP(J51,ARM地址表!E:I,4,0)) | H51: 设备状态 | I51: 通用操作 | J51: 故障复位 | K51: N | L51: Y | M51: ==IF(C51="Y",VLOOKUP(J51,DSP地址表!E:J,6,0),VLOOKUP(J51,ARM地址表!E:J,6,0)) | N51: 按钮开关 | O51: -
A52: ==DEC2HEX(B52) | B52: ==IF(C52="Y",4096+VLOOKUP(J52,DSP地址表!E:F,2,0),VLOOKUP(J52,ARM地址表!E:F,2,0)) | C52: N | D52: Y | E52: ==IF(C52="Y",VLOOKUP(J52,DSP地址表!E:I,5,0),VLOOKUP(J52,ARM地址表!E:I,5,0)) | F52: ==IF(C52="Y",VLOOKUP(J52,DSP地址表!E:I,3,0),VLOOKUP(J52,ARM地址表!E:I,3,0)) | G52: ==IF(C52="Y",VLOOKUP(J52,DSP地址表!E:I,4,0),VLOOKUP(J52,ARM地址表!E:I,4,0)) | H52: 设备状态 | I52: 通用操作 | J52: 解锁特殊操作 | K52: N | L52: Y | M52: ==IF(C52="Y",VLOOKUP(J52,DSP地址表!E:J,6,0),VLOOKUP(J52,ARM地址表!E:J,6,0)) | N52: 按钮开关 | O52: -
A53: ==DEC2HEX(B53) | B53: ==IF(C53="Y",4096+VLOOKUP(J53,DSP地址表!E:F,2,0),VLOOKUP(J53,ARM地址表!E:F,2,0)) | C53: N | D53: Y | E53: ==IF(C53="Y",VLOOKUP(J53,DSP地址表!E:I,5,0),VLOOKUP(J53,ARM地址表!E:I,5,0)) | F53: ==IF(C53="Y",VLOOKUP(J53,DSP地址表!E:I,3,0),VLOOKUP(J53,ARM地址表!E:I,3,0)) | G53: ==IF(C53="Y",VLOOKUP(J53,DSP地址表!E:I,4,0),VLOOKUP(J53,ARM地址表!E:I,4,0)) | H53: 设备状态 | I53: 通用操作 | J53: 设备重启 | K53: N | L53: Y | M53: ==IF(C53="Y",VLOOKUP(J53,DSP地址表!E:J,6,0),VLOOKUP(J53,ARM地址表!E:J,6,0)) | N53: 按钮开关 | O53: -
A54: ==DEC2HEX(B54) | B54: ==IF(C54="Y",4096+VLOOKUP(J54,DSP地址表!E:F,2,0),VLOOKUP(J54,ARM地址表!E:F,2,0)) | C54: N | D54: Y | E54: ==IF(C54="Y",VLOOKUP(J54,DSP地址表!E:I,5,0),VLOOKUP(J54,ARM地址表!E:I,5,0)) | F54: ==IF(C54="Y",VLOOKUP(J54,DSP地址表!E:I,3,0),VLOOKUP(J54,ARM地址表!E:I,3,0)) | G54: ==IF(C54="Y",VLOOKUP(J54,DSP地址表!E:I,4,0),VLOOKUP(J54,ARM地址表!E:I,4,0)) | H54: 设备状态 | I54: 通用操作 | J54: 功率单元自检(调试) | K54: N | L54: Y | M54: ==IF(C54="Y",VLOOKUP(J54,DSP地址表!E:J,6,0),VLOOKUP(J54,ARM地址表!E:J,6,0)) | N54: 按钮开关 | O54: -
A55: ==DEC2HEX(B55) | B55: ==IF(C55="Y",4096+VLOOKUP(J55,DSP地址表!E:F,2,0),VLOOKUP(J55,ARM地址表!E:F,2,0)) | C55: N | D55: Y | E55: ==IF(C55="Y",VLOOKUP(J55,DSP地址表!E:I,5,0),VLOOKUP(J55,ARM地址表!E:I,5,0)) | F55: ==IF(C55="Y",VLOOKUP(J55,DSP地址表!E:I,3,0),VLOOKUP(J55,ARM地址表!E:I,3,0)) | G55: ==IF(C55="Y",VLOOKUP(J55,DSP地址表!E:I,4,0),VLOOKUP(J55,ARM地址表!E:I,4,0)) | H55: 设备状态 | I55: 通用操作 | J55: 功率单元重启 | K55: N | L55: Y | M55: ==IF(C55="Y",VLOOKUP(J55,DSP地址表!E:J,6,0),VLOOKUP(J55,ARM地址表!E:J,6,0)) | N55: 按钮开关 | O55: - | Q55: 指令
A56: ==DEC2HEX(B56) | B56: ==IF(C56="Y",4096+VLOOKUP(J56,DSP地址表!E:F,2,0),VLOOKUP(J56,ARM地址表!E:F,2,0)) | C56: N | D56: Y | E56: ==IF(C56="Y",VLOOKUP(J56,DSP地址表!E:I,5,0),VLOOKUP(J56,ARM地址表!E:I,5,0)) | F56: ==IF(C56="Y",VLOOKUP(J56,DSP地址表!E:I,3,0),VLOOKUP(J56,ARM地址表!E:I,3,0)) | G56: ==IF(C56="Y",VLOOKUP(J56,DSP地址表!E:I,4,0),VLOOKUP(J56,ARM地址表!E:I,4,0)) | H56: 设备状态 | I56: 通用操作 | J56: 功率单元强制复位 | K56: N | L56: Y | M56: ==IF(C56="Y",VLOOKUP(J56,DSP地址表!E:J,6,0),VLOOKUP(J56,ARM地址表!E:J,6,0)) | N56: 按钮开关 | O56: - | Q56: 引脚
A57: ==DEC2HEX(B57) | B57: ==IF(C57="Y",4096+VLOOKUP(J57,DSP地址表!E:F,2,0),VLOOKUP(J57,ARM地址表!E:F,2,0)) | C57: N | D57: Y | E57: ==IF(C57="Y",VLOOKUP(J57,DSP地址表!E:I,5,0),VLOOKUP(J57,ARM地址表!E:I,5,0)) | F57: ==IF(C57="Y",VLOOKUP(J57,DSP地址表!E:I,3,0),VLOOKUP(J57,ARM地址表!E:I,3,0)) | G57: ==IF(C57="Y",VLOOKUP(J57,DSP地址表!E:I,4,0),VLOOKUP(J57,ARM地址表!E:I,4,0)) | H57: 设备状态 | I57: 通用操作 | J57: 参数还原 | K57: N | L57: Y | M57: ==IF(C57="Y",VLOOKUP(J57,DSP地址表!E:J,6,0),VLOOKUP(J57,ARM地址表!E:J,6,0)) | N57: 按钮开关 | O57: -
A58: ==DEC2HEX(B58) | B58: ==IF(C58="Y",4096+VLOOKUP(J58,DSP地址表!E:F,2,0),VLOOKUP(J58,ARM地址表!E:F,2,0)) | C58: N | D58: Y | E58: ==IF(C58="Y",VLOOKUP(J58,DSP地址表!E:I,5,0),VLOOKUP(J58,ARM地址表!E:I,5,0)) | F58: ==IF(C58="Y",VLOOKUP(J58,DSP地址表!E:I,3,0),VLOOKUP(J58,ARM地址表!E:I,3,0)) | G58: ==IF(C58="Y",VLOOKUP(J58,DSP地址表!E:I,4,0),VLOOKUP(J58,ARM地址表!E:I,4,0)) | H58: 设备状态 | I58: 通用操作 | J58: 复位4G | K58: N | L58: Y | M58: ==IF(C58="Y",VLOOKUP(J58,DSP地址表!E:J,6,0),VLOOKUP(J58,ARM地址表!E:J,6,0)) | N58: 按钮开关 | O58: -
A59: ==DEC2HEX(B59) | B59: ==IF(C59="Y",4096+VLOOKUP(J59,DSP地址表!E:F,2,0),VLOOKUP(J59,ARM地址表!E:F,2,0)) | C59: N | D59: Y | E59: ==IF(C59="Y",VLOOKUP(J59,DSP地址表!E:I,5,0),VLOOKUP(J59,ARM地址表!E:I,5,0)) | F59: ==IF(C59="Y",VLOOKUP(J59,DSP地址表!E:I,3,0),VLOOKUP(J59,ARM地址表!E:I,3,0)) | G59: ==IF(C59="Y",VLOOKUP(J59,DSP地址表!E:I,4,0),VLOOKUP(J59,ARM地址表!E:I,4,0)) | H59: 设备状态 | I59: 通用操作 | J59: 直流载波复位 | K59: N | L59: Y | M59: ==IF(C59="Y",VLOOKUP(J59,DSP地址表!E:J,6,0),VLOOKUP(J59,ARM地址表!E:J,6,0)) | N59: 按钮开关 | O59: -
A60: ==DEC2HEX(B60) | B60: ==IF(C60="Y",4096+VLOOKUP(J60,DSP地址表!E:F,2,0),VLOOKUP(J60,ARM地址表!E:F,2,0)) | C60: N | D60: Y | E60: ==IF(C60="Y",VLOOKUP(J60,DSP地址表!E:I,5,0),VLOOKUP(J60,ARM地址表!E:I,5,0)) | F60: ==IF(C60="Y",VLOOKUP(J60,DSP地址表!E:I,3,0),VLOOKUP(J60,ARM地址表!E:I,3,0)) | G60: ==IF(C60="Y",VLOOKUP(J60,DSP地址表!E:I,4,0),VLOOKUP(J60,ARM地址表!E:I,4,0)) | H60: 设备状态 | I60: 通用操作 | J60: 交流载波复位 | K60: N | L60: Y | M60: ==IF(C60="Y",VLOOKUP(J60,DSP地址表!E:J,6,0),VLOOKUP(J60,ARM地址表!E:J,6,0)) | N60: 按钮开关 | O60: -
A61: ==DEC2HEX(B61) | B61: ==IF(C61="Y",4096+VLOOKUP(J61,DSP地址表!E:F,2,0),VLOOKUP(J61,ARM地址表!E:F,2,0)) | C61: N | D61: Y | E61: ==IF(C61="Y",VLOOKUP(J61,DSP地址表!E:I,5,0),VLOOKUP(J61,ARM地址表!E:I,5,0)) | F61: ==IF(C61="Y",VLOOKUP(J61,DSP地址表!E:I,3,0),VLOOKUP(J61,ARM地址表!E:I,3,0)) | G61: ==IF(C61="Y",VLOOKUP(J61,DSP地址表!E:I,4,0),VLOOKUP(J61,ARM地址表!E:I,4,0)) | H61: 设备状态 | I61: 通用操作 | J61: 手动录波 | K61: N | L61: Y | M61: ==IF(C61="Y",VLOOKUP(J61,DSP地址表!E:J,6,0),VLOOKUP(J61,ARM地址表!E:J,6,0)) | N61: 按钮开关 | O61: -
A62: ==DEC2HEX(B62) | B62: ==IF(C62="Y",4096+VLOOKUP(J62,DSP地址表!E:F,2,0),VLOOKUP(J62,ARM地址表!E:F,2,0)) | C62: N | D62: Y | E62: ==IF(C62="Y",VLOOKUP(J62,DSP地址表!E:I,5,0),VLOOKUP(J62,ARM地址表!E:I,5,0)) | F62: ==IF(C62="Y",VLOOKUP(J62,DSP地址表!E:I,3,0),VLOOKUP(J62,ARM地址表!E:I,3,0)) | G62: ==IF(C62="Y",VLOOKUP(J62,DSP地址表!E:I,4,0),VLOOKUP(J62,ARM地址表!E:I,4,0)) | H62: 设备状态 | I62: 通用操作 | J62: 所有记录数据擦除 | K62: N | L62: Y | M62: ==IF(C62="Y",VLOOKUP(J62,DSP地址表!E:J,6,0),VLOOKUP(J62,ARM地址表!E:J,6,0)) | N62: 按钮开关 | O62: -
A63: ==DEC2HEX(B63) | B63: ==IF(C63="Y",4096+VLOOKUP(J63,DSP地址表!E:F,2,0),VLOOKUP(J63,ARM地址表!E:F,2,0)) | C63: N | D63: Y | E63: ==IF(C63="Y",VLOOKUP(J63,DSP地址表!E:I,5,0),VLOOKUP(J63,ARM地址表!E:I,5,0)) | F63: ==IF(C63="Y",VLOOKUP(J63,DSP地址表!E:I,3,0),VLOOKUP(J63,ARM地址表!E:I,3,0)) | G63: ==IF(C63="Y",VLOOKUP(J63,DSP地址表!E:I,4,0),VLOOKUP(J63,ARM地址表!E:I,4,0)) | H63: 设备状态 | I63: 通用操作 | J63: 录波擦除 | K63: N | L63: Y | M63: ==IF(C63="Y",VLOOKUP(J63,DSP地址表!E:J,6,0),VLOOKUP(J63,ARM地址表!E:J,6,0)) | N63: 按钮开关 | O63: -
A64: ==DEC2HEX(B64) | B64: ==IF(C64="Y",4096+VLOOKUP(J64,DSP地址表!E:F,2,0),VLOOKUP(J64,ARM地址表!E:F,2,0)) | C64: N | D64: Y | E64: ==IF(C64="Y",VLOOKUP(J64,DSP地址表!E:I,5,0),VLOOKUP(J64,ARM地址表!E:I,5,0)) | F64: ==IF(C64="Y",VLOOKUP(J64,DSP地址表!E:I,3,0),VLOOKUP(J64,ARM地址表!E:I,3,0)) | G64: ==IF(C64="Y",VLOOKUP(J64,DSP地址表!E:I,4,0),VLOOKUP(J64,ARM地址表!E:I,4,0)) | H64: 设备状态 | I64: 通用操作 | J64: 事件擦除 | K64: N | L64: Y | M64: ==IF(C64="Y",VLOOKUP(J64,DSP地址表!E:J,6,0),VLOOKUP(J64,ARM地址表!E:J,6,0)) | N64: 按钮开关 | O64: -
A65: ==DEC2HEX(B65) | B65: ==IF(C65="Y",4096+VLOOKUP(J65,DSP地址表!E:F,2,0),VLOOKUP(J65,ARM地址表!E:F,2,0)) | C65: N | D65: Y | E65: ==IF(C65="Y",VLOOKUP(J65,DSP地址表!E:I,5,0),VLOOKUP(J65,ARM地址表!E:I,5,0)) | F65: ==IF(C65="Y",VLOOKUP(J65,DSP地址表!E:I,3,0),VLOOKUP(J65,ARM地址表!E:I,3,0)) | G65: ==IF(C65="Y",VLOOKUP(J65,DSP地址表!E:I,4,0),VLOOKUP(J65,ARM地址表!E:I,4,0)) | H65: 设备状态 | I65: 通用操作 | J65: 日志记录擦除 | K65: N | L65: Y | M65: ==IF(C65="Y",VLOOKUP(J65,DSP地址表!E:J,6,0),VLOOKUP(J65,ARM地址表!E:J,6,0)) | N65: 按钮开关 | O65: -
A66: ==DEC2HEX(B66) | B66: ==IF(C66="Y",4096+VLOOKUP(J66,DSP地址表!E:F,2,0),VLOOKUP(J66,ARM地址表!E:F,2,0)) | C66: N | D66: Y | E66: ==IF(C66="Y",VLOOKUP(J66,DSP地址表!E:I,5,0),VLOOKUP(J66,ARM地址表!E:I,5,0)) | F66: ==IF(C66="Y",VLOOKUP(J66,DSP地址表!E:I,3,0),VLOOKUP(J66,ARM地址表!E:I,3,0)) | G66: ==IF(C66="Y",VLOOKUP(J66,DSP地址表!E:I,4,0),VLOOKUP(J66,ARM地址表!E:I,4,0)) | H66: 设备状态 | I66: 通用操作 | J66: 分钟冻结数据擦除 | K66: N | L66: Y | M66: ==IF(C66="Y",VLOOKUP(J66,DSP地址表!E:J,6,0),VLOOKUP(J66,ARM地址表!E:J,6,0)) | N66: 按钮开关 | O66: -
A67: ==DEC2HEX(B67) | B67: ==IF(C67="Y",4096+VLOOKUP(J67,DSP地址表!E:F,2,0),VLOOKUP(J67,ARM地址表!E:F,2,0)) | C67: N | D67: Y | E67: ==IF(C67="Y",VLOOKUP(J67,DSP地址表!E:I,5,0),VLOOKUP(J67,ARM地址表!E:I,5,0)) | F67: ==IF(C67="Y",VLOOKUP(J67,DSP地址表!E:I,3,0),VLOOKUP(J67,ARM地址表!E:I,3,0)) | G67: ==IF(C67="Y",VLOOKUP(J67,DSP地址表!E:I,4,0),VLOOKUP(J67,ARM地址表!E:I,4,0)) | H67: 设备状态 | I67: 通用操作 | J67: 日冻结数据擦除 | K67: N | L67: Y | M67: ==IF(C67="Y",VLOOKUP(J67,DSP地址表!E:J,6,0),VLOOKUP(J67,ARM地址表!E:J,6,0)) | N67: 按钮开关 | O67: -
A68: ==DEC2HEX(B68) | B68: ==IF(C68="Y",4096+VLOOKUP(J68,DSP地址表!E:F,2,0),VLOOKUP(J68,ARM地址表!E:F,2,0)) | C68: N | D68: Y | E68: ==IF(C68="Y",VLOOKUP(J68,DSP地址表!E:I,5,0),VLOOKUP(J68,ARM地址表!E:I,5,0)) | F68: ==IF(C68="Y",VLOOKUP(J68,DSP地址表!E:I,3,0),VLOOKUP(J68,ARM地址表!E:I,3,0)) | G68: ==IF(C68="Y",VLOOKUP(J68,DSP地址表!E:I,4,0),VLOOKUP(J68,ARM地址表!E:I,4,0)) | H68: 设备状态 | I68: 通用操作 | J68: 月冻结数据擦除 | K68: N | L68: Y | M68: ==IF(C68="Y",VLOOKUP(J68,DSP地址表!E:J,6,0),VLOOKUP(J68,ARM地址表!E:J,6,0)) | N68: 按钮开关 | O68: -
... A72: ==DEC2HEX(B72) | B72: ==IF(C72="Y",4096+VLOOKUP(J72,DSP地址表!E:F,2,0),VLOOKUP(J72,ARM地址表!E:F,2,0)) | C72: N | D72: Y | E72: ==IF(C72="Y",VLOOKUP(J72,DSP地址表!E:I,5,0),VLOOKUP(J72,ARM地址表!E:I,5,0)) | F72: ==IF(C72="Y",VLOOKUP(J72,DSP地址表!E:I,3,0),VLOOKUP(J72,ARM地址表!E:I,3,0)) | G72: ==IF(C72="Y",VLOOKUP(J72,DSP地址表!E:I,4,0),VLOOKUP(J72,ARM地址表!E:I,4,0)) | H72: 设备状态 | I72: 通用操作 | J72: 电量记录数据擦除 | K72: N | L72: Y | M72: ==IF(C72="Y",VLOOKUP(J72,DSP地址表!E:J,6,0),VLOOKUP(J72,ARM地址表!E:J,6,0)) | N72: 按钮开关 | O72: -
A73: ==DEC2HEX(B73) | B73: ==IF(C73="Y",4096+VLOOKUP(J73,DSP地址表!E:F,2,0),VLOOKUP(J73,ARM地址表!E:F,2,0)) | C73: N | D73: Y | E73: ==IF(C73="Y",VLOOKUP(J73,DSP地址表!E:I,5,0),VLOOKUP(J73,ARM地址表!E:I,5,0)) | F73: ==IF(C73="Y",VLOOKUP(J73,DSP地址表!E:I,3,0),VLOOKUP(J73,ARM地址表!E:I,3,0)) | G73: ==IF(C73="Y",VLOOKUP(J73,DSP地址表!E:I,4,0),VLOOKUP(J73,ARM地址表!E:I,4,0)) | H73: 设备状态 | I73: 通用操作 | J73: 打印开关 | K73: N | L73: Y | M73: - | N73: 按钮开关 | O73: -
A74: ==DEC2HEX(B74) | B74: ==IF(C74="Y",4096+VLOOKUP(J74,DSP地址表!E:F,2,0),VLOOKUP(J74,ARM地址表!E:F,2,0)) | C74: N | D74: Y | E74: ==IF(C74="Y",VLOOKUP(J74,DSP地址表!E:I,5,0),VLOOKUP(J74,ARM地址表!E:I,5,0)) | F74: ==IF(C74="Y",VLOOKUP(J74,DSP地址表!E:I,3,0),VLOOKUP(J74,ARM地址表!E:I,3,0)) | G74: ==IF(C74="Y",VLOOKUP(J74,DSP地址表!E:I,4,0),VLOOKUP(J74,ARM地址表!E:I,4,0)) | H74: 设备状态 | I74: 通用操作 | J74: 漏电流校准直流量(按钮) | K74: N | L74: Y | M74: - | N74: 按钮开关 | O74: -
A75: ==DEC2HEX(B75) | B75: ==IF(C75="Y",4096+VLOOKUP(J75,DSP地址表!E:F,2,0),VLOOKUP(J75,ARM地址表!E:F,2,0)) | C75: N | D75: Y | E75: ==IF(C75="Y",VLOOKUP(J75,DSP地址表!E:I,5,0),VLOOKUP(J75,ARM地址表!E:I,5,0)) | F75: ==IF(C75="Y",VLOOKUP(J75,DSP地址表!E:I,3,0),VLOOKUP(J75,ARM地址表!E:I,3,0)) | G75: ==IF(C75="Y",VLOOKUP(J75,DSP地址表!E:I,4,0),VLOOKUP(J75,ARM地址表!E:I,4,0)) | H75: 设备状态 | I75: 通用操作 | J75: 漏电流校准系数(按钮) | K75: N | L75: Y | M75: - | N75: 按钮开关 | O75: -
A76: ==DEC2HEX(B76) | B76: ==IF(C76="Y",4096+VLOOKUP(J76,DSP地址表!E:F,2,0),VLOOKUP(J76,ARM地址表!E:F,2,0)) | C76: N | D76: Y | E76: ==IF(C76="Y",VLOOKUP(J76,DSP地址表!E:I,5,0),VLOOKUP(J76,ARM地址表!E:I,5,0)) | F76: ==IF(C76="Y",VLOOKUP(J76,DSP地址表!E:I,3,0),VLOOKUP(J76,ARM地址表!E:I,3,0)) | G76: ==IF(C76="Y",VLOOKUP(J76,DSP地址表!E:I,4,0),VLOOKUP(J76,ARM地址表!E:I,4,0)) | H76: 设备状态 | I76: 通用操作 | J76: 漏电流自检(按钮) | K76: N | L76: Y | M76: - | N76: 按钮开关 | O76: -
A77: ==DEC2HEX(B77) | B77: ==IF(C77="Y",4096+VLOOKUP(J77,DSP地址表!E:F,2,0),VLOOKUP(J77,ARM地址表!E:F,2,0)) | C77: N | D77: Y | E77: ==IF(C77="Y",VLOOKUP(J77,DSP地址表!E:I,5,0),VLOOKUP(J77,ARM地址表!E:I,5,0)) | F77: ==IF(C77="Y",VLOOKUP(J77,DSP地址表!E:I,3,0),VLOOKUP(J77,ARM地址表!E:I,3,0)) | G77: ==IF(C77="Y",VLOOKUP(J77,DSP地址表!E:I,4,0),VLOOKUP(J77,ARM地址表!E:I,4,0)) | H77: 设备状态 | I77: 通用操作 | J77: 恢复出厂设置 | K77: N | L77: Y | M77: - | N77: 按钮开关 | O77: -
J78: 预留
A79: ==DEC2HEX(B79) | B79: ==IF(C79="Y",4096+VLOOKUP(J79,DSP地址表!E:F,2,0),VLOOKUP(J79,ARM地址表!E:F,2,0)) | C79: Y | D79: N | E79: ==IF(C79="Y",VLOOKUP(J79,DSP地址表!E:I,5,0),VLOOKUP(J79,ARM地址表!E:I,5,0)) | F79: ==IF(C79="Y",VLOOKUP(J79,DSP地址表!E:I,3,0),VLOOKUP(J79,ARM地址表!E:I,3,0)) | G79: ==IF(C79="Y",VLOOKUP(J79,DSP地址表!E:I,4,0),VLOOKUP(J79,ARM地址表!E:I,4,0)) | H79: 测量显示 | I79: 交采数据 | J79: 电网频率 | K79: Y | L79: N | M79: ==IF(C79="Y",VLOOKUP(J79,DSP地址表!E:J,6,0),VLOOKUP(J79,ARM地址表!E:J,6,0)) | N79: 显示数值 | O79: -
A80: ==DEC2HEX(B80) | B80: ==IF(C80="Y",4096+VLOOKUP(J80,DSP地址表!E:F,2,0),VLOOKUP(J80,ARM地址表!E:F,2,0)) | C80: Y | D80: N | E80: ==IF(C80="Y",VLOOKUP(J80,DSP地址表!E:I,5,0),VLOOKUP(J80,ARM地址表!E:I,5,0)) | F80: ==IF(C80="Y",VLOOKUP(J80,DSP地址表!E:I,3,0),VLOOKUP(J80,ARM地址表!E:I,3,0)) | G80: ==IF(C80="Y",VLOOKUP(J80,DSP地址表!E:I,4,0),VLOOKUP(J80,ARM地址表!E:I,4,0)) | H80: 测量显示 | I80: 交采数据 | J80: 总母线电压avg | K80: Y | L80: N | M80: ==IF(C80="Y",VLOOKUP(J80,DSP地址表!E:J,6,0),VLOOKUP(J80,ARM地址表!E:J,6,0)) | N80: 显示数值 | O80: -
A81: ==DEC2HEX(B81) | B81: ==IF(C81="Y",4096+VLOOKUP(J81,DSP地址表!E:F,2,0),VLOOKUP(J81,ARM地址表!E:F,2,0)) | C81: Y | D81: N | E81: ==IF(C81="Y",VLOOKUP(J81,DSP地址表!E:I,5,0),VLOOKUP(J81,ARM地址表!E:I,5,0)) | F81: ==IF(C81="Y",VLOOKUP(J81,DSP地址表!E:I,3,0),VLOOKUP(J81,ARM地址表!E:I,3,0)) | G81: ==IF(C81="Y",VLOOKUP(J81,DSP地址表!E:I,4,0),VLOOKUP(J81,ARM地址表!E:I,4,0)) | H81: 测量显示 | I81: 交采数据 | J81: 上母线电压avg | K81: Y | L81: N | M81: ==IF(C81="Y",VLOOKUP(J81,DSP地址表!E:J,6,0),VLOOKUP(J81,ARM地址表!E:J,6,0)) | N81: 显示数值 | O81: -
A82: ==DEC2HEX(B82) | B82: ==IF(C82="Y",4096+VLOOKUP(J82,DSP地址表!E:F,2,0),VLOOKUP(J82,ARM地址表!E:F,2,0)) | C82: Y | D82: N | E82: ==IF(C82="Y",VLOOKUP(J82,DSP地址表!E:I,5,0),VLOOKUP(J82,ARM地址表!E:I,5,0)) | F82: ==IF(C82="Y",VLOOKUP(J82,DSP地址表!E:I,3,0),VLOOKUP(J82,ARM地址表!E:I,3,0)) | G82: ==IF(C82="Y",VLOOKUP(J82,DSP地址表!E:I,4,0),VLOOKUP(J82,ARM地址表!E:I,4,0)) | H82: 测量显示 | I82: 交采数据 | J82: 下母线电压_avg | K82: Y | L82: N | M82: ==IF(C82="Y",VLOOKUP(J82,DSP地址表!E:J,6,0),VLOOKUP(J82,ARM地址表!E:J,6,0)) | N82: 显示数值 | O82: -
A83: ==DEC2HEX(B83) | B83: ==IF(C83="Y",4096+VLOOKUP(J83,DSP地址表!E:F,2,0),VLOOKUP(J83,ARM地址表!E:F,2,0)) | C83: Y | D83: N | E83: ==IF(C83="Y",VLOOKUP(J83,DSP地址表!E:I,5,0),VLOOKUP(J83,ARM地址表!E:I,5,0)) | F83: ==IF(C83="Y",VLOOKUP(J83,DSP地址表!E:I,3,0),VLOOKUP(J83,ARM地址表!E:I,3,0)) | G83: ==IF(C83="Y",VLOOKUP(J83,DSP地址表!E:I,4,0),VLOOKUP(J83,ARM地址表!E:I,4,0)) | H83: 测量显示 | I83: 交采数据 | J83: 电网电压A_RMS | K83: Y | L83: N | M83: ==IF(C83="Y",VLOOKUP(J83,DSP地址表!E:J,6,0),VLOOKUP(J83,ARM地址表!E:J,6,0)) | N83: 显示数值 | O83: -
A84: ==DEC2HEX(B84) | B84: ==IF(C84="Y",4096+VLOOKUP(J84,DSP地址表!E:F,2,0),VLOOKUP(J84,ARM地址表!E:F,2,0)) | C84: Y | D84: N | E84: ==IF(C84="Y",VLOOKUP(J84,DSP地址表!E:I,5,0),VLOOKUP(J84,ARM地址表!E:I,5,0)) | F84: ==IF(C84="Y",VLOOKUP(J84,DSP地址表!E:I,3,0),VLOOKUP(J84,ARM地址表!E:I,3,0)) | G84: ==IF(C84="Y",VLOOKUP(J84,DSP地址表!E:I,4,0),VLOOKUP(J84,ARM地址表!E:I,4,0)) | H84: 测量显示 | I84: 交采数据 | J84: 电网电压B_RMS | K84: Y | L84: N | M84: ==IF(C84="Y",VLOOKUP(J84,DSP地址表!E:J,6,0),VLOOKUP(J84,ARM地址表!E:J,6,0)) | N84: 显示数值 | O84: -
A85: ==DEC2HEX(B85) | B85: ==IF(C85="Y",4096+VLOOKUP(J85,DSP地址表!E:F,2,0),VLOOKUP(J85,ARM地址表!E:F,2,0)) | C85: Y | D85: N | E85: ==IF(C85="Y",VLOOKUP(J85,DSP地址表!E:I,5,0),VLOOKUP(J85,ARM地址表!E:I,5,0)) | F85: ==IF(C85="Y",VLOOKUP(J85,DSP地址表!E:I,3,0),VLOOKUP(J85,ARM地址表!E:I,3,0)) | G85: ==IF(C85="Y",VLOOKUP(J85,DSP地址表!E:I,4,0),VLOOKUP(J85,ARM地址表!E:I,4,0)) | H85: 测量显示 | I85: 交采数据 | J85: 电网电压C_RMS | K85: Y | L85: N | M85: ==IF(C85="Y",VLOOKUP(J85,DSP地址表!E:J,6,0),VLOOKUP(J85,ARM地址表!E:J,6,0)) | N85: 显示数值 | O85: -
A86: ==DEC2HEX(B86) | B86: ==IF(C86="Y",4096+VLOOKUP(J86,DSP地址表!E:F,2,0),VLOOKUP(J86,ARM地址表!E:F,2,0)) | C86: Y | D86: N | E86: ==IF(C86="Y",VLOOKUP(J86,DSP地址表!E:I,5,0),VLOOKUP(J86,ARM地址表!E:I,5,0)) | F86: ==IF(C86="Y",VLOOKUP(J86,DSP地址表!E:I,3,0),VLOOKUP(J86,ARM地址表!E:I,3,0)) | G86: ==IF(C86="Y",VLOOKUP(J86,DSP地址表!E:I,4,0),VLOOKUP(J86,ARM地址表!E:I,4,0)) | H86: 测量显示 | I86: 交采数据 | J86: 逆变阻尼电压A_RMS | K86: Y | L86: N | M86: ==IF(C86="Y",VLOOKUP(J86,DSP地址表!E:J,6,0),VLOOKUP(J86,ARM地址表!E:J,6,0)) | N86: 显示数值 | O86: -
A87: ==DEC2HEX(B87) | B87: ==IF(C87="Y",4096+VLOOKUP(J87,DSP地址表!E:F,2,0),VLOOKUP(J87,ARM地址表!E:F,2,0)) | C87: Y | D87: N | E87: ==IF(C87="Y",VLOOKUP(J87,DSP地址表!E:I,5,0),VLOOKUP(J87,ARM地址表!E:I,5,0)) | F87: ==IF(C87="Y",VLOOKUP(J87,DSP地址表!E:I,3,0),VLOOKUP(J87,ARM地址表!E:I,3,0)) | G87: ==IF(C87="Y",VLOOKUP(J87,DSP地址表!E:I,4,0),VLOOKUP(J87,ARM地址表!E:I,4,0)) | H87: 测量显示 | I87: 交采数据 | J87: 逆变阻尼电压B_RMS | K87: Y | L87: N | M87: ==IF(C87="Y",VLOOKUP(J87,DSP地址表!E:J,6,0),VLOOKUP(J87,ARM地址表!E:J,6,0)) | N87: 显示数值 | O87: -
A88: ==DEC2HEX(B88) | B88: ==IF(C88="Y",4096+VLOOKUP(J88,DSP地址表!E:F,2,0),VLOOKUP(J88,ARM地址表!E:F,2,0)) | C88: Y | D88: N | E88: ==IF(C88="Y",VLOOKUP(J88,DSP地址表!E:I,5,0),VLOOKUP(J88,ARM地址表!E:I,5,0)) | F88: ==IF(C88="Y",VLOOKUP(J88,DSP地址表!E:I,3,0),VLOOKUP(J88,ARM地址表!E:I,3,0)) | G88: ==IF(C88="Y",VLOOKUP(J88,DSP地址表!E:I,4,0),VLOOKUP(J88,ARM地址表!E:I,4,0)) | H88: 测量显示 | I88: 交采数据 | J88: 逆变阻尼电压C_RMS | K88: Y | L88: N | M88: ==IF(C88="Y",VLOOKUP(J88,DSP地址表!E:J,6,0),VLOOKUP(J88,ARM地址表!E:J,6,0)) | N88: 显示数值 | O88: -
A89: ==DEC2HEX(B89) | B89: ==IF(C89="Y",4096+VLOOKUP(J89,DSP地址表!E:F,2,0),VLOOKUP(J89,ARM地址表!E:F,2,0)) | C89: Y | D89: N | E89: ==IF(C89="Y",VLOOKUP(J89,DSP地址表!E:I,5,0),VLOOKUP(J89,ARM地址表!E:I,5,0)) | F89: ==IF(C89="Y",VLOOKUP(J89,DSP地址表!E:I,3,0),VLOOKUP(J89,ARM地址表!E:I,3,0)) | G89: ==IF(C89="Y",VLOOKUP(J89,DSP地址表!E:I,4,0),VLOOKUP(J89,ARM地址表!E:I,4,0)) | H89: 测量显示 | I89: 交采数据 | J89: 逆变电流A_RMS | K89: Y | L89: N | M89: ==IF(C89="Y",VLOOKUP(J89,DSP地址表!E:J,6,0),VLOOKUP(J89,ARM地址表!E:J,6,0)) | N89: 显示数值 | O89: -
A90: ==DEC2HEX(B90) | B90: ==IF(C90="Y",4096+VLOOKUP(J90,DSP地址表!E:F,2,0),VLOOKUP(J90,ARM地址表!E:F,2,0)) | C90: Y | D90: N | E90: ==IF(C90="Y",VLOOKUP(J90,DSP地址表!E:I,5,0),VLOOKUP(J90,ARM地址表!E:I,5,0)) | F90: ==IF(C90="Y",VLOOKUP(J90,DSP地址表!E:I,3,0),VLOOKUP(J90,ARM地址表!E:I,3,0)) | G90: ==IF(C90="Y",VLOOKUP(J90,DSP地址表!E:I,4,0),VLOOKUP(J90,ARM地址表!E:I,4,0)) | H90: 测量显示 | I90: 交采数据 | J90: 逆变电流B_RMS | K90: Y | L90: N | M90: ==IF(C90="Y",VLOOKUP(J90,DSP地址表!E:J,6,0),VLOOKUP(J90,ARM地址表!E:J,6,0)) | N90: 显示数值 | O90: -
... A116: ==DEC2HEX(B116) | B116: ==IF(C116="Y",4096+VLOOKUP(J116,DSP地址表!E:F,2,0),VLOOKUP(J116,ARM地址表!E:F,2,0)) | C116: Y | D116: N | E116: ==IF(C116="Y",VLOOKUP(J116,DSP地址表!E:I,5,0),VLOOKUP(J116,ARM地址表!E:I,5,0)) | F116: ==IF(C116="Y",VLOOKUP(J116,DSP地址表!E:I,3,0),VLOOKUP(J116,ARM地址表!E:I,3,0)) | G116: ==IF(C116="Y",VLOOKUP(J116,DSP地址表!E:I,4,0),VLOOKUP(J116,ARM地址表!E:I,4,0)) | H116: 测量显示 | I116: 交采数据 | J116: 4路BOOST组串电流2 | K116: Y | L116: N | M116: ==IF(C116="Y",VLOOKUP(J116,DSP地址表!E:J,6,0),VLOOKUP(J116,ARM地址表!E:J,6,0)) | N116: 显示数值 | O116: -
J117: 预留
A118: ==DEC2HEX(B118) | B118: ==IF(C118="Y",4096+VLOOKUP(J118,DSP地址表!E:F,2,0),VLOOKUP(J118,ARM地址表!E:F,2,0)) | C118: Y | D118: N | E118: ==IF(C118="Y",VLOOKUP(J118,DSP地址表!E:I,5,0),VLOOKUP(J118,ARM地址表!E:I,5,0)) | F118: ==IF(C118="Y",VLOOKUP(J118,DSP地址表!E:I,3,0),VLOOKUP(J118,ARM地址表!E:I,3,0)) | G118: ==IF(C118="Y",VLOOKUP(J118,DSP地址表!E:I,4,0),VLOOKUP(J118,ARM地址表!E:I,4,0)) | H118: 测量显示 | I118: 交采数据 | J118: 预留数据2_1 | K118: Y | L118: N | M118: ==IF(C118="Y",VLOOKUP(J118,DSP地址表!E:J,6,0),VLOOKUP(J118,ARM地址表!E:J,6,0)) | N118: 显示数值 | O118: -
A119: ==DEC2HEX(B119) | B119: ==IF(C119="Y",4096+VLOOKUP(J119,DSP地址表!E:F,2,0),VLOOKUP(J119,ARM地址表!E:F,2,0)) | C119: Y | D119: N | E119: ==IF(C119="Y",VLOOKUP(J119,DSP地址表!E:I,5,0),VLOOKUP(J119,ARM地址表!E:I,5,0)) | F119: ==IF(C119="Y",VLOOKUP(J119,DSP地址表!E:I,3,0),VLOOKUP(J119,ARM地址表!E:I,3,0)) | G119: ==IF(C119="Y",VLOOKUP(J119,DSP地址表!E:I,4,0),VLOOKUP(J119,ARM地址表!E:I,4,0)) | H119: 测量显示 | I119: 交采数据 | J119: 预留数据2_2 | K119: Y | L119: N | M119: ==IF(C119="Y",VLOOKUP(J119,DSP地址表!E:J,6,0),VLOOKUP(J119,ARM地址表!E:J,6,0)) | N119: 显示数值 | O119: -
A120: ==DEC2HEX(B120) | B120: ==IF(C120="Y",4096+VLOOKUP(J120,DSP地址表!E:F,2,0),VLOOKUP(J120,ARM地址表!E:F,2,0)) | C120: Y | D120: N | E120: ==IF(C120="Y",VLOOKUP(J120,DSP地址表!E:I,5,0),VLOOKUP(J120,ARM地址表!E:I,5,0)) | F120: ==IF(C120="Y",VLOOKUP(J120,DSP地址表!E:I,3,0),VLOOKUP(J120,ARM地址表!E:I,3,0)) | G120: ==IF(C120="Y",VLOOKUP(J120,DSP地址表!E:I,4,0),VLOOKUP(J120,ARM地址表!E:I,4,0)) | H120: 测量显示 | I120: 交采数据 | J120: 预留数据2_3 | K120: Y | L120: N | M120: ==IF(C120="Y",VLOOKUP(J120,DSP地址表!E:J,6,0),VLOOKUP(J120,ARM地址表!E:J,6,0)) | N120: 显示数值 | O120: -
A121: ==DEC2HEX(B121) | B121: ==IF(C121="Y",4096+VLOOKUP(J121,DSP地址表!E:F,2,0),VLOOKUP(J121,ARM地址表!E:F,2,0)) | C121: Y | D121: N | E121: ==IF(C121="Y",VLOOKUP(J121,DSP地址表!E:I,5,0),VLOOKUP(J121,ARM地址表!E:I,5,0)) | F121: ==IF(C121="Y",VLOOKUP(J121,DSP地址表!E:I,3,0),VLOOKUP(J121,ARM地址表!E:I,3,0)) | G121: ==IF(C121="Y",VLOOKUP(J121,DSP地址表!E:I,4,0),VLOOKUP(J121,ARM地址表!E:I,4,0)) | H121: 测量显示 | I121: 交采数据 | J121: 预留数据2_4 | K121: Y | L121: N | M121: ==IF(C121="Y",VLOOKUP(J121,DSP地址表!E:J,6,0),VLOOKUP(J121,ARM地址表!E:J,6,0)) | N121: 显示数值 | O121: -
A122: ==DEC2HEX(B122) | B122: ==IF(C122="Y",4096+VLOOKUP(J122,DSP地址表!E:F,2,0),VLOOKUP(J122,ARM地址表!E:F,2,0)) | C122: Y | D122: N | E122: ==IF(C122="Y",VLOOKUP(J122,DSP地址表!E:I,5,0),VLOOKUP(J122,ARM地址表!E:I,5,0)) | F122: ==IF(C122="Y",VLOOKUP(J122,DSP地址表!E:I,3,0),VLOOKUP(J122,ARM地址表!E:I,3,0)) | G122: ==IF(C122="Y",VLOOKUP(J122,DSP地址表!E:I,4,0),VLOOKUP(J122,ARM地址表!E:I,4,0)) | H122: 测量显示 | I122: 交采数据 | J122: 预留数据2_5 | K122: Y | L122: N | M122: ==IF(C122="Y",VLOOKUP(J122,DSP地址表!E:J,6,0),VLOOKUP(J122,ARM地址表!E:J,6,0)) | N122: 显示数值 | O122: -
A123: ==DEC2HEX(B123) | B123: ==IF(C123="Y",4096+VLOOKUP(J123,DSP地址表!E:F,2,0),VLOOKUP(J123,ARM地址表!E:F,2,0)) | C123: Y | D123: N | E123: ==IF(C123="Y",VLOOKUP(J123,DSP地址表!E:I,5,0),VLOOKUP(J123,ARM地址表!E:I,5,0)) | F123: ==IF(C123="Y",VLOOKUP(J123,DSP地址表!E:I,3,0),VLOOKUP(J123,ARM地址表!E:I,3,0)) | G123: ==IF(C123="Y",VLOOKUP(J123,DSP地址表!E:I,4,0),VLOOKUP(J123,ARM地址表!E:I,4,0)) | H123: 测量显示 | I123: 交采数据 | J123: 预留数据2_6 | K123: Y | L123: N | M123: ==IF(C123="Y",VLOOKUP(J123,DSP地址表!E:J,6,0),VLOOKUP(J123,ARM地址表!E:J,6,0)) | N123: 显示数值 | O123: -
J124: 预留
A125: ==DEC2HEX(B125) | B125: ==IF(C125="Y",4096+VLOOKUP(J125,DSP地址表!E:F,2,0),VLOOKUP(J125,ARM地址表!E:F,2,0)) | C125: Y | D125: N | E125: ==IF(C125="Y",VLOOKUP(J125,DSP地址表!E:I,5,0),VLOOKUP(J125,ARM地址表!E:I,5,0)) | F125: ==IF(C125="Y",VLOOKUP(J125,DSP地址表!E:I,3,0),VLOOKUP(J125,ARM地址表!E:I,3,0)) | G125: ==IF(C125="Y",VLOOKUP(J125,DSP地址表!E:I,4,0),VLOOKUP(J125,ARM地址表!E:I,4,0)) | H125: 测量显示 | I125: 功率数据 | J125: 装置侧有功功率A | K125: Y | L125: N | M125: ==IF(C125="Y",VLOOKUP(J125,DSP地址表!E:J,6,0),VLOOKUP(J125,ARM地址表!E:J,6,0)) | N125: 显示数值 | O125: -
A126: ==DEC2HEX(B126) | B126: ==IF(C126="Y",4096+VLOOKUP(J126,DSP地址表!E:F,2,0),VLOOKUP(J126,ARM地址表!E:F,2,0)) | C126: Y | D126: N | E126: ==IF(C126="Y",VLOOKUP(J126,DSP地址表!E:I,5,0),VLOOKUP(J126,ARM地址表!E:I,5,0)) | F126: ==IF(C126="Y",VLOOKUP(J126,DSP地址表!E:I,3,0),VLOOKUP(J126,ARM地址表!E:I,3,0)) | G126: ==IF(C126="Y",VLOOKUP(J126,DSP地址表!E:I,4,0),VLOOKUP(J126,ARM地址表!E:I,4,0)) | H126: 测量显示 | I126: 功率数据 | J126: 装置侧有功功率B | K126: Y | L126: N | M126: ==IF(C126="Y",VLOOKUP(J126,DSP地址表!E:J,6,0),VLOOKUP(J126,ARM地址表!E:J,6,0)) | N126: 显示数值 | O126: -
A127: ==DEC2HEX(B127) | B127: ==IF(C127="Y",4096+VLOOKUP(J127,DSP地址表!E:F,2,0),VLOOKUP(J127,ARM地址表!E:F,2,0)) | C127: Y | D127: N | E127: ==IF(C127="Y",VLOOKUP(J127,DSP地址表!E:I,5,0),VLOOKUP(J127,ARM地址表!E:I,5,0)) | F127: ==IF(C127="Y",VLOOKUP(J127,DSP地址表!E:I,3,0),VLOOKUP(J127,ARM地址表!E:I,3,0)) | G127: ==IF(C127="Y",VLOOKUP(J127,DSP地址表!E:I,4,0),VLOOKUP(J127,ARM地址表!E:I,4,0)) | H127: 测量显示 | I127: 功率数据 | J127: 装置侧有功功率C | K127: Y | L127: N | M127: ==IF(C127="Y",VLOOKUP(J127,DSP地址表!E:J,6,0),VLOOKUP(J127,ARM地址表!E:J,6,0)) | N127: 显示数值 | O127: -
A128: ==DEC2HEX(B128) | B128: ==IF(C128="Y",4096+VLOOKUP(J128,DSP地址表!E:F,2,0),VLOOKUP(J128,ARM地址表!E:F,2,0)) | C128: Y | D128: N | E128: ==IF(C128="Y",VLOOKUP(J128,DSP地址表!E:I,5,0),VLOOKUP(J128,ARM地址表!E:I,5,0)) | F128: ==IF(C128="Y",VLOOKUP(J128,DSP地址表!E:I,3,0),VLOOKUP(J128,ARM地址表!E:I,3,0)) | G128: ==IF(C128="Y",VLOOKUP(J128,DSP地址表!E:I,4,0),VLOOKUP(J128,ARM地址表!E:I,4,0)) | H128: 测量显示 | I128: 功率数据 | J128: 装置侧有功功率总 | K128: Y | L128: N | M128: ==IF(C128="Y",VLOOKUP(J128,DSP地址表!E:J,6,0),VLOOKUP(J128,ARM地址表!E:J,6,0)) | N128: 显示数值 | O128: -
...

Sheet 录波文件
A1: CFG
A2: 数据项 | B2: 字节数 | C2: 数据类型 | D2: 系数 | E2: 偏移 | F2: 小数点 | G2: 备注
A3: cfg文件版本标识 | B3: 2 | C3: UINT16 | D3: 0 | E3: 0 | F3: 0 | G3: 第一版0x33CC，该录波cfg文件包含到电压相序 第二版0xCC33，数据信息部分有效
A4: 累计录波次数 | B4: 2 | C4: UINT16 | D4: 0 | E4: 0 | F4: 0
A5: 故障触发位置 | B5: 2 | C5: UINT16 | D5: 0 | E5: 0 | F5: 0
A6: CPU1故障字1高16位 | B6: 2 | C6: UINT16 | D6: 0 | E6: 0 | F6: 0
A7: CPU1故障字1低16位 | B7: 2 | C7: UINT16 | D7: 0 | E7: 0 | F7: 0
A8: CPU1故障字2高16位 | B8: 2 | C8: UINT16 | D8: 0 | E8: 0 | F8: 0
A9: CPU1故障字2低16位 | B9: 2 | C9: UINT16 | D9: 0 | E9: 0 | F9: 0
A10: CPU2故障字1高16位 | B10: 2 | C10: UINT16 | D10: 0 | E10: 0 | F10: 0
A11: CPU2故障字1低16位 | B11: 2 | C11: UINT16 | D11: 0 | E11: 0 | F11: 0
A12: CPU2故障字2高16位 | B12: 2 | C12: UINT16 | D12: 0 | E12: 0 | F12: 0
A13: CPU2故障字2低16位 | B13: 2 | C13: UINT16 | D13: 0 | E13: 0 | F13: 0
A14: 录波触发时间 | B14: 6 | C14: UINT16 | D14: 0 | E14: 0 | F14: 0 | G14: 秒分时日月年
A15: 主CT位置 | B15: 2 | C15: UINT16 | D15: 0 | E15: 0 | F15: 0
A16: 主CT变比 | B16: 2 | C16: UINT16 | D16: 0 | E16: 0 | F16: 0
A17: 辅CT变比 | B17: 2 | C17: UINT16 | D17: 0 | E17: 0 | F17: 0
A18: 补偿模式 | B18: 2 | C18: UINT16 | D18: 0 | E18: 0 | F18: 0
A19: 电压相序 | B19: 2 | C19: UINT16 | D19: 0 | E19: 0 | F19: 0
A20: 预留 | B20: 60
A21: 数据信息中文解析方式 | B21: 2 | C21: UINT16 | D21: 0 | E21: 0 | F21: 0 | G21: 0-GBK;1-UTF-8
A22: 数据信息 | B22: n | C22: ASCII | G22: 名称1,数据类型（有符号1，无符号0）,小数点位数/n ... 名称n,数据类型（有符号1，无符号0）,小数点位数/n
A23: 预留
A25: DAT
A26: 采样序号（4字节） | B26: 采样时间（4字节） | C26: 数据（31*2字节）： | D26: DSP-ARM SPI通信
A27: 01 00 00 00 | B27: 32 00 00 00 | C27: …… | G27: 采样1
A28: 02 00 00 00 | B28: 64 00 00 00 | C28: …… | G28: 采样2
A29: …… | B29: …… | C29: …… | G29: ……
A30: 40 06 00 00 | B30: 80 38 01 00 | C30: …… | G30: 采样1600

Sheet DSP故障码
A1: 故障 | B1: 直流侧告警 | C1: 交流侧告警 | D1: 通讯告警 | E1: 交直流侧均告警 | F1: 不做处理 | G1: 预留（不做处理）
A2: 故障名称 | B2: 所属故障码 | C2: 故障码位域 | D2: 判断机构 | E2: 故障判定条件 | F2: 故障动作 | G2: 故障恢复条件 | H2: 判断模块 | I2: 是否触发录波 | J2: LED状态指示
A3: 版本号 | B3: 改动时间 | C3: 改动人 | D3: 内容
A7: A相电压缺相 | B7: faultCpu_1 | C7: 0 | D7: simulink逻辑 | E7: A电网电压有效值低于100v，且持续时间超过2s | F7: 停机，故障封波，继电器断开 | G7: （1）电网电压恢复到正常180以上。 （2）自动复位延时300s到达或者手动复位 | H7: 控制逻辑（2ms执行一次） | I7: 是 | J7: 交流侧告警
A8: B相电压缺相 | B8: faultCpu_1 | C8: 1 | D8: simulink逻辑 | E8: B电网电压有效值低于100v，且持续时间超过2s | F8: 停机，故障封波，继电器断开 | G8: （1）电网电压恢复到正常180以上。 （2）自动复位延时300s到达或者手动复位 | H8: 控制逻辑（2ms执行一次） | I8: 是 | J8: 交流侧告警
A9: C相电压缺相 | B9: faultCpu_1 | C9: 2 | D9: simulink逻辑 | E9: C电网电压有效值低于100v，且持续时间超过2s | F9: 停机，故障封波，继电器断开 | G9: （1）电网电压恢复到正常180以上。 （2）自动复位延时300s到达或者手动复位 | H9: 控制逻辑（2ms执行一次） | I9: 是 | J9: 交流侧告警
A10: 设备离网(断电) | B10: faultCpu_1 | C10: 3 | D10: simulink逻辑 | E10: A相、B相、C相均缺相 | F10: 停机，故障封波，继电器断开 | G10: （1）3相电网电压均恢复到正常180以上。 （2）自动复位延时300s到达或者手动复位 | H10: 控制逻辑（2ms执行一次） | I10: 是 | J10: 不做处理
A11: A相交流过压 | B11: faultCpu_1 | C11: 4 | D11: 后台任务 | E11: A电网电压有效值高于286v（可设置），且持续时间超过10ms | F11: 停机，故障封波，继电器断开 | G11: （1）电网电压恢复到正常242以下。 （2）自动复位延时300s到达或者手动复位 | H11: 控制逻辑（2ms执行一次） | I11: 是 | J11: 交流侧告警
A12: B相交流过压 | B12: faultCpu_1 | C12: 5 | D12: 后台任务 | E12: B电网电压有效值低于286v（可设置），且持续时间超过10ms | F12: 停机，故障封波，继电器断开 | G12: （1）电网电压恢复到正常242以下。 （2）自动复位延时300s到达或者手动复位 | H12: 控制逻辑（2ms执行一次） | I12: 是 | J12: 交流侧告警
A13: C相交流过压 | B13: faultCpu_1 | C13: 6 | D13: 后台任务 | E13: C电网电压有效值低于286v（可设置），且持续时间超过10ms | F13: 停机，故障封波，继电器断开 | G13: （1）电网电压恢复到正常242以下。 （2）自动复位延时300s到达或者手动复位 | H13: 控制逻辑（2ms执行一次） | I13: 是 | J13: 交流侧告警
A14: A相交流欠压 | B14: faultCpu_1 | C14: 7 | D14: 后台任务 | E14: A电网电压有效值低于154v（可设置），且持续时间超过10ms | F14: 停机，故障封波，继电器断开 | G14: （1）电网电压恢复到正常190以上。 （2）自动复位延时299s到达或者手动复位 | I14: 否 | J14: 交流侧告警
A15: B相交流欠压 | B15: faultCpu_1 | C15: 8 | D15: 后台任务 | E15: B电网电压有效值低于154v（可设置），且持续时间超过10ms | F15: 停机，故障封波，继电器断开 | G15: （1）电网电压恢复到正常190以上。 （2）自动复位延时300s到达或者手动复位 | H15: 控制逻辑（2ms执行一次） | I15: 是 | J15: 交流侧告警
A16: C相交流欠压 | B16: faultCpu_1 | C16: 9 | D16: 后台任务 | E16: C电网电压有效值低于154v（可设置），且持续时间超过10ms | F16: 停机，故障封波，继电器断开 | G16: （1）电网电压恢复到正常190以上。 （2）自动复位延时300s到达或者手动复位 | H16: 控制逻辑（2ms执行一次） | I16: 是 | J16: 交流侧告警
A17: A相滤波电容过压(有效值) | B17: faultCpu_1 | C17: 10 | D17: 后台任务 | E17: A电容电压有效值高于330v，且持续时间超过100ms | F17: 停机，故障封波，继电器断开 | G17: （1）电容电压恢复到正常250V以下。 （2）自动复位延时300s到达或者手动复位 | H17: 控制逻辑（2ms执行一次） | I17: 是 | J17: 故障
A18: B相滤波电容过压(有效值) | B18: faultCpu_1 | C18: 11 | D18: 后台任务 | E18: B电容电压有效值高于330v，且持续时间超过100ms | F18: 停机，故障封波，继电器断开 | G18: （1）电容电压恢复到正常250V以下。 （2）自动复位延时300s到达或者手动复位 | H18: 控制逻辑（2ms执行一次） | I18: 是 | J18: 故障
A19: C相滤波电容过压(有效值) | B19: faultCpu_1 | C19: 12 | D19: 后台任务 | E19: C电容电压有效值高于330v，且持续时间超过100ms | F19: 停机，故障封波，继电器断开 | G19: （1）电容电压恢复到正常250V以下。 （2）自动复位延时300s到达或者手动复位 | H19: 控制逻辑（2ms执行一次） | I19: 是 | J19: 故障
A20: 电网频率过频 | B20: faultCpu_1 | C20: 13 | D20: 后台任务 | E20: 电网频率超过50.5Hz，且持续时间超过200ms | F20: 停机，故障封波，继电器断开 | G20: （1）电网频率恢复到50.5Hz以下。 （2）自动复位延时300s到达或者手动复位 | H20: 控制逻辑（2ms执行一次） | I20: 是 | J20: 交流侧告警
A21: 电网频率欠频 | B21: faultCpu_1 | C21: 14 | D21: 后台任务 | E21: 电网频率低于47.5Hz，且持续时间超过200ms | F21: 停机，故障封波，继电器断开 | G21: （1）电容电压恢复到正常48.5Hz以上。 （2）自动复位延时300s到达或者手动复位 | H21: 控制逻辑（2ms执行一次） | I21: 是 | J21: 交流侧告警
A22: 预留1-15 | B22: faultCpu_1 | C22: 15 | I22: 否 | J22: 预留（不做处理）
A23: A相滤波电容过流 | B23: faultCpu_2 | C23: 0 | E23: A相滤波电容电流大于过流阈值10A，且持续时间超过100ms | F23: 停机，故障封波，继电器断开 | G23: 手动复位 | H23: 控制逻辑（2ms执行一次） | I23: 是 | J23: 故障
A24: B相滤波电容过流 | B24: faultCpu_2 | C24: 1 | E24: B相滤波电容电流大于过流阈值10A，且持续时间超过100ms | F24: 停机，故障封波，继电器断开 | G24: 手动复位 | H24: 控制逻辑（2ms执行一次） | I24: 是 | J24: 故障
A25: C相滤波电容过流 | B25: faultCpu_2 | C25: 2 | E25: C相滤波电容电流大于过流阈值10A，且持续时间超过100ms | F25: 停机，故障封波，继电器断开 | G25: 手动复位 | H25: 控制逻辑（2ms执行一次） | I25: 是 | J25: 故障
A26: A相逆变过流保护 | B26: faultCpu_2 | C26: 3 | E26: A相逆变电流大于逆变过流保护的有效值55A，且持续时间超过100ms | F26: 停机，故障封波，继电器断开 | G26: 手动复位 | H26: 控制逻辑（2ms执行一次） | I26: 是 | J26: 故障
A27: B相逆变过流保护 | B27: faultCpu_2 | C27: 4 | E27: B相逆变电流大于逆变过流保护的有效值55A，且持续时间超过100ms | F27: 停机，故障封波，继电器断开 | G27: 手动复位 | H27: 控制逻辑（2ms执行一次） | I27: 是 | J27: 故障
A28: C相逆变过流保护 | B28: faultCpu_2 | C28: 5 | E28: C相逆变电流大于逆变过流保护的有效值55A，且持续时间超过100ms | F28: 停机，故障封波，继电器断开 | G28: 手动复位 | H28: 控制逻辑（2ms执行一次） | I28: 是 | J28: 故障
A29: 孤岛保护 | B29: faultCpu_2 | C29: 6 | F29: 停机，故障封波，继电器断开 | J29: 交流侧告警
A30: 预留 | B30: faultCpu_2 | C30: 7 | J30: 预留（不做处理）
A31: 预留 | B31: faultCpu_2 | C31: 8 | J31: 预留（不做处理）
A32: 预留 | B32: faultCpu_2 | C32: 9 | J32: 预留（不做处理）
A33: 预留 | B33: faultCpu_2 | C33: 10 | H33: 控制逻辑（2ms执行一次） | I33: 否 | J33: 预留（不做处理）
A34: 预留 | B34: faultCpu_2 | C34: 11 | J34: 预留（不做处理）
A35: 预留 | B35: faultCpu_2 | C35: 12 | H35: 控制逻辑（2ms执行一次） | I35: 否 | J35: 预留（不做处理）
A36: 预留 | B36: faultCpu_2 | C36: 13 | H36: 控制逻辑（2ms执行一次） | I36: 否 | J36: 预留（不做处理）
A37: 预留 | B37: faultCpu_2 | C37: 14 | H37: 控制逻辑（2ms执行一次） | I37: 否 | J37: 预留（不做处理）
A38: 预留 | B38: faultCpu_2 | C38: 15 | H38: 控制逻辑（2ms执行一次） | I38: 否 | J38: 预留（不做处理）
A39: MPPT1输入过压 | B39: faultCpu_3 | C39: 0 | D39: simulink逻辑 | E39: MPPT输入电压值大于1050V,，且持续时间超过2ms | F39: 停机，故障封波，继电器断开 | G39: 手动复位 | H39: 控制逻辑（2ms执行一次） | I39: 是 | J39: 直流侧告警
A40: MPPT2输入过压 | B40: faultCpu_3 | C40: 1 | D40: simulink逻辑 | E40: MPPT输入电压值大于1050V,，且持续时间超过2ms | F40: 停机，故障封波，继电器断开 | G40: 手动复位 | H40: 控制逻辑（2ms执行一次） | I40: 是 | J40: 直流侧告警
A41: MPPT3输入过压 | B41: faultCpu_3 | C41: 2 | D41: simulink逻辑 | E41: MPPT输入电压值大于1050V,，且持续时间超过2ms | F41: 停机，故障封波，继电器断开 | G41: 手动复位 | H41: 控制逻辑（2ms执行一次） | I41: 是 | J41: 直流侧告警
A42: MPPT4输入过压 | B42: faultCpu_3 | C42: 3 | D42: simulink逻辑 | E42: MPPT输入电压值大于1050V,，且持续时间超过2ms | F42: 停机，故障封波，继电器断开 | G42: 手动复位 | H42: 控制逻辑（2ms执行一次） | I42: 是 | J42: 直流侧告警
A43: MPPT1短路 | B43: faultCpu_3 | C43: 4 | D43: simulink逻辑 | E43: 若端口电压低于100V、电流大于2A,且持续时间超过5s | F43: 停机，故障封波，继电器断开 | G43: 手动复位 | H43: 控制逻辑（2ms执行一次） | I43: 是 | J43: 故障
A44: MPPT2短路 | B44: faultCpu_3 | C44: 5 | D44: simulink逻辑 | E44: 若端口电压低于100V、电流大于2A,且持续时间超过5s | F44: 停机，故障封波，继电器断开 | G44: 手动复位 | H44: 控制逻辑（2ms执行一次） | I44: 是 | J44: 故障
A45: MPPT3短路 | B45: faultCpu_3 | C45: 6 | D45: simulink逻辑 | E45: 若端口电压低于100V、电流大于2A,且持续时间超过5s | F45: 停机，故障封波，继电器断开 | G45: 手动复位 | H45: 控制逻辑（2ms执行一次） | I45: 是 | J45: 故障
A46: MPPT4短路 | B46: faultCpu_3 | C46: 7 | D46: simulink逻辑 | E46: 若端口电压低于100V、电流大于2A,且持续时间超过5s | F46: 停机，故障封波，继电器断开 | G46: 手动复位 | H46: 控制逻辑（2ms执行一次） | I46: 是 | J46: 故障
A47: PV1反接 | B47: faultCpu_3 | C47: 8 | D47: 后台任务 | E47: PV输入电压小于5V&&总电流小于0.5A条件下：支路电流小于0（两路接反）且总电流小于分支电流+误差电流（上接反）；支路电流大于0（下接反）。（支路电流：外接传感器电流Ibranch,总电流：电感电流ITotalNew）,持续10ms | F47: 停机，故障封波，继电器断开 | G47: 手动复位 | H47: 控制逻辑（2ms执行一次） | I47: 是 | J47: 直流侧告警
A48: PV2反接 | B48: faultCpu_3 | C48: 9 | D48: 后台任务 | E48: PV输入电压小于5V&&总电流小于0.5A条件下：支路电流小于0（两路接反）且总电流小于分支电流+误差电流（上接反）；支路电流大于0（下接反）。（支路电流：外接传感器电流Ibranch,总电流：电感电流ITotalNew）,持续10ms | F48: 停机，故障封波，继电器断开 | G48: 手动复位 | H48: 控制逻辑（2ms执行一次） | I48: 是 | J48: 直流侧告警
A49: PV3反接 | B49: faultCpu_3 | C49: 10 | D49: 后台任务 | E49: PV输入电压小于5V&&总电流小于0.5A条件下：支路电流小于0（两路接反）且总电流小于分支电流+误差电流（上接反）；支路电流大于0（下接反）。（支路电流：外接传感器电流Ibranch,总电流：电感电流ITotalNew）,持续10ms | F49: 停机，故障封波，继电器断开 | G49: 手动复位 | H49: 控制逻辑（2ms执行一次） | I49: 是 | J49: 直流侧告警
A50: PV4反接 | B50: faultCpu_3 | C50: 11 | D50: 后台任务 | E50: PV输入电压小于5V&&总电流小于0.5A条件下：支路电流小于0（两路接反）且总电流小于分支电流+误差电流（上接反）；支路电流大于0（下接反）。（支路电流：外接传感器电流Ibranch,总电流：电感电流ITotalNew）,持续10ms | F50: 停机，故障封波，继电器断开 | G50: 手动复位 | H50: 控制逻辑（2ms执行一次） | I50: 是 | J50: 直流侧告警
... A54: PV4电流回灌 | B54: faultCpu_3 | C54: 15 | D54: 后台任务 | E54: 电流回灌故障,I支≠0，I总 = 0，V>0，失配与反接都会导致电流回灌（支路电流：外接传感器电流Ibranch,总电流：电感电流ITotalNew),持续10ms | F54: 停机，故障封波，继电器断开 | G54: 手动复位 | H54: 控制逻辑（2ms执行一次） | I54: 是 | J54: 直流侧告警
A55: 预留4-0 | B55: faultCpu_4 | C55: 0 | I55: 否 | J55: 预留（不做处理）
A56: 预留4-1 | B56: faultCpu_4 | C56: 1 | I56: 否 | J56: 预留（不做处理）
A57: 预留4-2 | B57: faultCpu_4 | C57: 2 | I57: 否 | J57: 预留（不做处理）
A58: 预留4-3 | B58: faultCpu_4 | C58: 3 | I58: 是 | J58: 预留（不做处理）
A59: 预留4-4 | B59: faultCpu_4 | C59: 4 | I59: 是 | J59: 预留（不做处理）
A60: 预留4-5 | B60: faultCpu_4 | C60: 5 | I60: 是 | J60: 预留（不做处理）
A61: 预留4-6 | B61: faultCpu_4 | C61: 6 | I61: 否 | J61: 预留（不做处理）
A62: 预留4-7 | B62: faultCpu_4 | C62: 7 | I62: 否 | J62: 预留（不做处理）
A63: 预留4-8 | B63: faultCpu_4 | C63: 8 | I63: 否 | J63: 预留（不做处理）
A64: 预留4-9 | B64: faultCpu_4 | C64: 9 | I64: 否 | J64: 预留（不做处理）
A65: 预留4-10 | B65: faultCpu_4 | C65: 10 | I65: 否 | J65: 预留（不做处理）
A66: 预留4-11 | B66: faultCpu_4 | C66: 11 | I66: 否 | J66: 预留（不做处理）
... A70: 预留4-15 | B70: faultCpu_4 | C70: 15 | I70: 否 | J70: 预留（不做处理）
A71: MPPT1过流(软件) | B71: faultCpu_5 | C71: 0 | D71: PPB | E71: boost电感电流阈值大于45A时，瞬时 | F71: 停机，故障封波，继电器断开 | G71: 手动恢复 | J71: 故障
A72: MPPT2过流(软件) | B72: faultCpu_5 | C72: 1 | D72: PPB | E72: boost电感电流阈值大于45A时，瞬时 | F72: 停机，故障封波，继电器断开 | G72: 手动恢复 | J72: 故障
A73: MPPT3过流(软件) | B73: faultCpu_5 | C73: 2 | D73: PPB | E73: boost电感电流阈值大于45A时，瞬时 | F73: 停机，故障封波，继电器断开 | G73: 手动恢复 | J73: 故障
A74: MPPT4过流(软件) | B74: faultCpu_5 | C74: 3 | D74: PPB | E74: boost电感电流阈值大于45A时，瞬时 | F74: 停机，故障封波，继电器断开 | G74: 手动恢复 | J74: 故障
A75: MPPT1过流(硬件) | B75: faultCpu_5 | C75: 4 | D75: TZ | E75: boost1硬件过流保护阈值50A，低电平有效 | F75: 停机，故障封波，继电器断开 | G75: 手动恢复 | J75: 故障
A76: MPPT2过流(硬件) | B76: faultCpu_5 | C76: 5 | D76: TZ | E76: boost2硬件过流保护阈值50A，低电平有效 | F76: 停机，故障封波，继电器断开 | G76: 手动恢复 | J76: 故障
A77: MPPT3过流(硬件) | B77: faultCpu_5 | C77: 6 | D77: TZ | E77: boost3硬件过流保护阈值50A，低电平有效 | F77: 停机，故障封波，继电器断开 | G77: 手动恢复 | J77: 故障
A78: MPPT4过流(硬件) | B78: faultCpu_5 | C78: 7 | D78: TZ | E78: boost4硬件过流保护阈值50A，低电平有效 | F78: 停机，故障封波，继电器断开 | G78: 手动恢复 | J78: 故障
A79: A相逆变过流(软件) | B79: faultCpu_5 | C79: 8 | D79: PPB | E79: A相电流瞬时高于80A，瞬时 | F79: 停机，故障封波，继电器断开 | G79: 手动恢复 | I79: 否 | J79: 故障
A80: B相逆变过流(软件) | B80: faultCpu_5 | C80: 9 | D80: PPB | E80: B相电流瞬时高于80A，瞬时 | F80: 停机，故障封波，继电器断开 | G80: 手动恢复 | I80: 否 | J80: 故障
A81: C相逆变过流(软件) | B81: faultCpu_5 | C81: 10 | D81: PPB | E81: C相电流瞬时高于80A，瞬时 | F81: 停机，故障封波，继电器断开 | G81: 手动恢复 | I81: 否 | J81: 故障
A82: 上母线过压(软件) | B82: faultCpu_5 | C82: 11 | D82: PPB | E82: 上母线电压高于525V，瞬时 | F82: 停机，故障封波，继电器断开 | G82: 手动恢复 | I82: 是 | J82: 故障
A83: 下母线过压(软件) | B83: faultCpu_5 | C83: 12 | D83: PPB | E83: 下母线电压高于525V，瞬时 | F83: 停机，故障封波，继电器断开 | G83: 手动恢复 | I83: 否 | J83: 故障
A84: A相滤波电容过压 | B84: faultCpu_5 | C84: 13 | D84: PPB | E84: 大于滤波电容过压瞬时阈值450V，瞬时 | F84: 停机，故障封波，继电器断开 | G84: 手动恢复 | I84: 否 | J84: 故障
A85: B相滤波电容过压 | B85: faultCpu_5 | C85: 14 | D85: PPB | E85: 大于滤波电容过压瞬时阈值450V，瞬时 | F85: 停机，故障封波，继电器断开 | G85: 手动恢复 | J85: 故障
A86: C相滤波电容过压 | B86: faultCpu_5 | C86: 15 | D86: PPB | E86: 大于滤波电容过压瞬时阈值450V，瞬时 | F86: 停机，故障封波，继电器断开 | G86: 手动恢复 | J86: 故障
A87: A相逆变过流(硬件) | B87: faultCpu_6 | C87: 0 | D87: TZ | E87: A相逆变硬件过流105A，低电平有效 | F87: 停机，故障封波，继电器断开 | G87: 手动恢复 | I87: 是 | J87: 故障
A88: B相逆变过流(硬件) | B88: faultCpu_6 | C88: 1 | D88: TZ | E88: B相逆变硬件过流105A，低电平有效 | F88: 停机，故障封波，继电器断开 | G88: 手动恢复 | I88: 否 | J88: 故障
A89: C相逆变过流(硬件) | B89: faultCpu_6 | C89: 2 | D89: TZ | E89: C相逆变硬件过流105A，低电平有效 | F89: 停机，故障封波，继电器断开 | G89: 手动恢复 | I89: 是 | J89: 故障
A90: 母线过压(硬件) | B90: faultCpu_6 | C90: 3 | D90: TZ | E90: 母线电压阈值大于600V，瞬时 | F90: 停机，故障封波，继电器断开 | G90: 手动恢复 | I90: 是 | J90: 故障
A91: 上母线欠压 | B91: faultCpu_6 | C91: 4 | D91: PWM中断 | E91: 小于上母线欠压阈值200V，瞬时 | F91: 停机，故障封波，继电器断开 | G91: 手动恢复 | I91: 是 | J91: 故障
A92: 下母线欠压 | B92: faultCpu_6 | C92: 5 | D92: PWM中断 | E92: 小于上母线欠压阈值200V，瞬时 | F92: 停机，故障封波，继电器断开 | G92: 手动恢复 | I92: 否 | J92: 故障
A93: DSP与ARM通信超时 | B93: Waring1 | C93: 0 | D93: ARM判断 | F93: 逆变器停止工作，告警 | H93: 控制逻辑（2ms执行一次） | I93: 否 | J93: 不做处理
A94: Flash存储异常 | B94: Waring1 | C94: 1 | E94: 故障消失后从停止状态重启恢复 | F94: 逆变器停止工作，告警 | H94: 控制逻辑（2ms执行一次） | I94: 否 | J94: 不做处理
A95: 节能停机 | B95: Waring1 | C95: 2 | D95: simulink逻辑 | E95: 功率阈值小于100W ，持续5min|| 阈值小于70W持续2min（整机光伏并网模式） | F95: 逆变器停止工作，告警 | G95: 禁止工作十分钟后恢复工作 | H95: 控制逻辑（2ms执行一次） | J95: 不做处理
A96: 开路电压过高 | B96: Waring1 | C96: 3 | D96: 故障管理模块 | E96: 开路电压大于1020V | F96: 逆变器告警 | I96: 否 | J96: 直流侧告警
A97: 预留9-4 | B97: Waring1 | C97: 4 | I97: 否 | J97: 预留（不做处理）
A98: 预留9-5 | B98: Waring1 | C98: 5 | I98: 否 | J98: 预留（不做处理）
A99: 预留9-6 | B99: Waring1 | C99: 6 | I99: 否 | J99: 预留（不做处理）
A100: 预留9-7 | B100: Waring1 | C100: 7 | I100: 否 | J100: 预留（不做处理）
A101: 预留9-8 | B101: Waring1 | C101: 8 | I101: 否 | J101: 预留（不做处理）
A102: 预留9-9 | B102: Waring1 | C102: 9 | I102: 否 | J102: 预留（不做处理）
A103: 预留9-10 | B103: Waring1 | C103: 10 | I103: 否 | J103: 预留（不做处理）
A104: 预留9-11 | B104: Waring1 | C104: 11 | I104: 否 | J104: 预留（不做处理）
A105: 预留9-12 | B105: Waring1 | C105: 12 | I105: 否 | J105: 预留（不做处理）
A106: 预留9-13 | B106: Waring1 | C106: 13 | I106: 否 | J106: 预留（不做处理）
A107: 预留9-14 | B107: Waring1 | C107: 14 | I107: 否 | J107: 预留（不做处理）
A108: 预留9-15 | B108: Waring1 | C108: 15 | J108: 预留（不做处理）
A109: 预留10-0 | B109: Waring2 | C109: 0 | I109: 否 | J109: 预留（不做处理）
...

Sheet ARM故障码
A1: 版本号 | B1: 改动时间 | C1: 改动人 | D1: 内容
A2: V01 | B2: 45467
A3: V02 | B3: 45496 | C3: 侯孝振 | D3: 更新所有故障码名称
A4: V03 | B4: 45526 | C4: 刘观辉 | D4: 更新arm_fault_code1故障码名称
A8: 故障名称 | B8: 地址表对应数据名 | C8: 所属故障码 | D8: 故障码位域 | E8: 判断机构 | F8: 故障判定条件 | G8: 故障动作 | H8: 故障恢复条件 | I8: 判断模块 | J8: LED状态指示
A9: DSP-UART通信故障 | B9: ARM故障1 | C9: arm_fault_code1 | D9: 0 | G9: 停机 | J9: 故障
A10: DSP-SPI通信故障 | C10: arm_fault_code1 | D10: 1 | G10: 停机 | J10: 故障
A11: 绝缘检测故障 | C11: arm_fault_code1 | D11: 2 | F11: 绝缘阻抗小于阈值 | G11: 停机 | J11: 故障
A12: 功率自检超时故障 | C12: arm_fault_code1 | D12: 3 | F12: 自检时间超过阈值 | G12: 停机 | J12: 故障
A13: 腔体1过温故障 | C13: arm_fault_code1 | D13: 4 | F13: 温度超过设定阈值一定时间 | G13: 停机 | J13: 故障
A14: 腔体2过温故障 | C14: arm_fault_code1 | D14: 5 | F14: 温度超过设定阈值一定时间 | G14: 停机 | J14: 故障
A15: 散热片过温故障 | C15: arm_fault_code1 | D15: 6 | F15: 温度超过设定阈值一定时间 | G15: 停机 | J15: 故障
A16: 漏电流缓变故障 | C16: arm_fault_code1 | D16: 7 | G16: 停机 | J16: 故障
A17: 漏电流1级突变故障 | C17: arm_fault_code1 | D17: 8 | G17: 停机 | J17: 故障
A18: 漏电流2级突变故障 | C18: arm_fault_code1 | D18: 9
A19: 漏电流3级突变故障 | C19: arm_fault_code1 | D19: 10
A20: 预留1-11 | C20: arm_fault_code1 | D20: 11
A21: 预留1-12 | C21: arm_fault_code1 | D21: 12
A22: 预留1-13 | C22: arm_fault_code1 | D22: 13
A23: 预留1-14 | C23: arm_fault_code1 | D23: 14
A24: 预留1-15 | C24: arm_fault_code1 | D24: 15
A25: 预留2-0 | B25: ARM故障2 | C25: arm_fault_code2 | D25: 0
A26: 预留2-1 | C26: arm_fault_code2 | D26: 1
A27: 预留2-2 | C27: arm_fault_code2 | D27: 2
A28: 预留2-3 | C28: arm_fault_code2 | D28: 3
A29: 预留2-4 | C29: arm_fault_code2 | D29: 4
A30: 预留2-5 | C30: arm_fault_code2 | D30: 5
A31: 预留2-6 | C31: arm_fault_code2 | D31: 6
A32: 预留2-7 | C32: arm_fault_code2 | D32: 7
A33: 预留2-8 | C33: arm_fault_code2 | D33: 8
A34: 预留2-9 | C34: arm_fault_code2 | D34: 9
A35: 预留2-10 | C35: arm_fault_code2 | D35: 10
A36: 预留2-11 | C36: arm_fault_code2 | D36: 11
A37: 预留2-12 | C37: arm_fault_code2 | D37: 12
... A40: 预留2-15 | C40: arm_fault_code2 | D40: 15
A41: 预留3-0 | B41: ARM故障3 | C41: arm_fault_code3 | D41: 0
A42: 预留3-1 | C42: arm_fault_code3 | D42: 1
A43: 预留3-2 | C43: arm_fault_code3 | D43: 2
A44: 预留3-3 | C44: arm_fault_code3 | D44: 3
A45: 预留3-4 | C45: arm_fault_code3 | D45: 4
A46: 预留3-5 | C46: arm_fault_code3 | D46: 5
A47: 预留3-6 | C47: arm_fault_code3 | D47: 6
A48: 预留3-7 | C48: arm_fault_code3 | D48: 7
A49: 预留3-8 | C49: arm_fault_code3 | D49: 8
A50: 预留3-9 | C50: arm_fault_code3 | D50: 9
A51: 预留3-10 | C51: arm_fault_code3 | D51: 10
A52: 预留3-11 | C52: arm_fault_code3 | D52: 11
A53: 预留3-12 | C53: arm_fault_code3 | D53: 12
... A56: 预留3-15 | C56: arm_fault_code3 | D56: 15
A57: 4G通信告警 | B57: ARM告警字1 | C57: arm_alarm_code1 | D57: 0 | G57: 更新告警字，设备可运行 | J57: 不做处理
A58: 载波通信告警 | C58: arm_alarm_code1 | D58: 1 | G58: 更新告警字，设备可运行 | J58: 不做处理
A59: DSP通信协议版本不一致 | C59: arm_alarm_code1 | D59: 2 | G59: 更新告警字，设备可运行 | J59: 不做处理
A60: 腔体风扇告警 | C60: arm_alarm_code1 | D60: 3 | F60: 设置占空比，反馈转速为0 | G60: 更新告警字，设备可运行 | J60: 不做处理
A61: 外部风扇1告警 | C61: arm_alarm_code1 | D61: 4 | F61: 设置占空比，反馈转速为0 | G61: 更新告警字，设备可运行 | J61: 不做处理
A62: 外部风扇2告警 | C62: arm_alarm_code1 | D62: 5 | F62: 设置占空比，反馈转速为0 | G62: 更新告警字，设备可运行 | J62: 不做处理
A63: 腔体1温度异常告警 | C63: arm_alarm_code1 | D63: 6 | G63: 更新告警字，设备可运行
A64: 腔体2温度异常告警 | C64: arm_alarm_code1 | D64: 7 | G64: 更新告警字，设备可运行
A65: 散热片温度异常告警 | C65: arm_alarm_code1 | D65: 8 | G65: 更新告警字，设备可运行
A66: 腔体风扇2告警 | C66: arm_alarm_code1 | D66: 9
A67: 外部风扇3告警 | C67: arm_alarm_code1 | D67: 10
A68: 预留1-11 | C68: arm_alarm_code1 | D68: 11
A69: 预留1-12 | C69: arm_alarm_code1 | D69: 12
A70: 预留1-13 | C70: arm_alarm_code1 | D70: 13
A71: 预留1-14 | C71: arm_alarm_code1 | D71: 14
A72: 预留1-15 | C72: arm_alarm_code1 | D72: 15
A73: 预留2-0 | B73: ARM告警字2 | C73: arm_alarm_code2 | D73: 0
A74: 预留2-1 | C74: arm_alarm_code3 | D74: 1
A75: 预留2-2 | C75: arm_alarm_code4 | D75: 2
A76: 预留2-3 | C76: arm_alarm_code5 | D76: 3
A77: 预留2-4 | C77: arm_alarm_code6 | D77: 4
A78: 预留2-5 | C78: arm_alarm_code7 | D78: 5
A79: 预留2-6 | C79: arm_alarm_code8 | D79: 6
A80: 预留2-7 | C80: arm_alarm_code9 | D80: 7
A81: 预留2-8 | C81: arm_alarm_code10 | D81: 8
A82: 预留2-9 | C82: arm_alarm_code11 | D82: 9
A83: 预留2-10 | C83: arm_alarm_code12 | D83: 10
A84: 预留2-11 | C84: arm_alarm_code13 | D84: 11
A85: 预留2-12 | C85: arm_alarm_code14 | D85: 12
... A88: 预留2-15 | C88: arm_alarm_code17 | D88: 15

Sheet 事件
A1: 地址 | B1: 数据名 | C1: 数据类型 | D1: 解析方式 | E1: 解析规则
A2: 1-2 | B2: 历史累计发生次数 | C2: UINT32 | D2: 显示数值
A3: 3-5 | B3: 时间 | C3: BIN | D3: 日期时间
A4: 7 | B4: ARM故障1 | C4: BIN | D4: 按位解析 | E4: 8-漏电流突变故障 9-预留1-9 10-预留1-10 11-预留1-11 12-预留1-12 13-预留1-13 14-预留1-14 15-预留1-15 0-DSP-UART通信故障 1-DSP-SPI通信故障 2-绝缘检测故障 3-功率自检超时故障 4-腔体1过温故障 5-腔体2过温故障 6-散热片过温故障 7-漏电流缓变故障
A5: 8 | B5: ARM故障2 | C5: BIN | D5: 按位解析 | E5: 8,预留2-8 9,预留2-9 10,预留2-10 11,预留2-11 12,预留2-12 13,预留2-13 14,预留2-14 15,预留2-15 0,预留2-0 1,预留2-1 2,预留2-2 3,预留2-3 4,预留2-4 5,预留2-5 6,预留2-6 7,预留2-7
A6: 9 | B6: ARM故障3 | C6: BIN | D6: 按位解析 | E6: 8,预留3-8 9,预留3-9 10,预留3-10 11,预留3-11 12,预留3-12 13,预留3-13 14,预留3-14 15,预留3-15 0,预留3-0 1,预留3-1 2,预留3-2 3,预留3-3 4,预留3-4 5,预留3-5 6,预留3-6 7,预留3-7
A7: 10 | B7: ARM告警1 | C7: BIN | D7: 按位解析 | E7: 8-散热片温度异常告警 9-腔体风扇2告警 10-外部风扇3告警 11-预留1-11 12-预留1-12 13-预留1-13 14-预留1-14 15-预留1-15 0-4G通信告警 1-载波通信告警 2-DSP通信协议版本不一致 3-腔体风扇告警 4-外部风扇1告警 5-外部风扇2告警 6-腔体1温度异常告警 7-腔体2温度异常告警
A8: 11 | B8: ARM告警2 | C8: BIN | D8: 按位解析 | E8: 8,预留2-8 9,预留2-9 10,预留2-10 11,预留2-11 12,预留2-12 13,预留2-13 14,预留2-14 15,预留2-15 0,预留2-0 1,预留2-1 2,预留2-2 3,预留2-3 4,预留2-4 5,预留2-5 6,预留2-6 7,预留2-7
A9: 17 | B9: DSP,CPU1故障1 | C9: BIN | D9: 按位解析 | E9: 8-B相交流欠压 9-C相交流欠压 10-A相滤波电容过压(有效值) 11-B相滤波电容过压(有效值) 12-C相滤波电容过压(有效值) 13-电网频率过频 14-电网频率欠频 15-预留1-15 0-A相电压缺相 1-B相电压缺相 2-C相电压缺相 3-设备离网(断电) 4-A相交流过压 5-B相交流过压 6-C相交流过压 7-A相交流欠压
A10: 18 | B10: DSP,CPU1故障2 | C10: BIN | D10: 按位解析 | E10: 8-预留2-8 9-预留2-9 10-预留2-10 11-预留2-11 12-预留2-12 13-预留2-13 14-预留2-14 15-预留2-15 0-A相滤波电容过流 1-B相滤波电容过流 2-C相滤波电容过流 3-A相逆变过流保护 4-B相逆变过流保护 5-C相逆变过流保护 6-孤岛保护 7-预留2-7
A11: 19 | B11: DSP,CPU1故障3 | C11: BIN | D11: 按位解析 | E11: 8-PV1反接 9-PV2反接 10-PV3反接 11-PV4反接 12-PV1电流回灌 13-PV2电流回灌 14-PV3电流回灌 15-PV4电流回灌 0-MPPT1输入过压 1-MPPT2输入过压 2-MPPT3输入过压 3-MPPT4输入过压 4-MPPT1短路 5-MPPT2短路 6-MPPT3短路 7-MPPT4短路
A12: 20 | B12: DSP,CPU1故障4 | C12: BIN | D12: 按位解析 | E12: 8,预留4-8 9,预留4-9 10,预留4-10 11,预留4-11 12,预留4-12 13,预留4-13 14,预留4-14 15,预留4-15 0,预留4-0 1,预留4-1 2,预留4-2 3,预留4-3 4,预留4-4 5,预留4-5 6,预留4-6 7,预留4-7
A13: 21 | B13: DSP,CPU2故障1 | C13: BIN | D13: 按位解析 | E13: 8-A相逆变过流(软件) 9-B相逆变过流(软件) 10-C相逆变过流(软件) 11-上母线过压(软件) 12-下母线过压(软件) 13-A相滤波电容过压 14-B相滤波电容过压 15-C相滤波电容过压 0-MPPT1过流(软件) 1-MPPT2过流(软件) 2-MPPT3过流(软件) 3-MPPT4过流(软件) 4-MPPT1过流(硬件) 5-MPPT2过流(硬件) 6-MPPT3过流(硬件) 7-MPPT4过流(硬件)
A14: 22 | B14: DSP,CPU2故障2 | C14: BIN | D14: 按位解析 | E14: 8-预留6-8 9-预留6-9 10-预留6-10 11-预留6-11 12-预留6-12 13-预留6-13 14-预留6-14 15-预留6-15 0-A相逆变过流(硬件) 1-B相逆变过流(硬件) 2-C相逆变过流(硬件) 3-母线过压(硬件) 4-上母线欠压 5-下母线欠压 6-预留6-6 7-预留6-7
A15: 23 | B15: DSP,CPU2故障3 | C15: BIN | D15: 按位解析 | E15: 8,预留7-8 9,预留7-9 10,预留7-10 11,预留7-11 12,预留7-12 13,预留7-13 14,预留7-14 15,预留7-15 0,预留7-0 1,预留7-1 2,预留7-2 3,预留7-3 4,预留7-4 5,预留7-5 6,预留7-6 7,预留7-7
... A20: 28 | B20: DSP自检事件2 | C20: BIN | D20: 按位解析 | E20: 8,预留12-8 9,预留12-9 10,预留12-10 11,预留12-11 12,预留12-12 13,预留12-13 14,预留12-14 15,预留12-15 0,预留12-0 1,预留12-1 2,预留12-2 3,预留12-3 4,预留12-4 5,预留12-5 6,预留12-6 7,预留12-7

Sheet 96点
A1: 地址 | B1: 数据名 | C1: 数据类型 | D1: 小数位 | E1: 解析方式 | F1: 解析规则 | G1: 单位
A2: 1-2 | B2: 历史累计发生次数 | C2: UINT32 | D2: 0 | E2: 显示数值 | G2: -
A3: 3-6 | B3: 时间 | C3: BIN | D3: 0 | E3: 日期时间 | G3: -
A4: 7-8 | B4: 累计发电量 | C4: UINT32 | D4: 3 | E4: 显示10进制 | G4: KW·h
A5: 9-10 | B5: 累计用电量 | C5: UINT32 | D5: 3 | E5: 显示10进制 | G5: KW·h
A6: 11 | B6: A相电网电压 | C6: UINT16 | D6: 2 | E6: 显示10进制 | G6: V
A7: 12 | B7: B相电网电压 | C7: UINT16 | D7: 2 | E7: 显示10进制 | G7: V
A8: 13 | B8: C相电网电压 | C8: UINT16 | D8: 2 | E8: 显示10进制 | G8: V
A9: 14 | B9: A相网侧有功功率 | C9: INT16 | D9: 1 | E9: 显示10进制 | G9: KW
A10: 15 | B10: B相网侧有功功率 | C10: INT16 | D10: 1 | E10: 显示10进制 | G10: KW
A11: 16 | B11: C相网侧有功功率 | C11: INT16 | D11: 1 | E11: 显示10进制 | G11: KW
A12: 17 | B12: 网侧有功功率总 | C12: INT16 | D12: 1 | E12: 显示10进制 | G12: KW
A13: 18 | B13: A相网侧无功功率 | C13: INT16 | D13: 1 | E13: 显示10进制 | G13: kvar
A14: 19 | B14: B相网侧无功功率 | C14: INT16 | D14: 1 | E14: 显示10进制 | G14: kvar
A15: 20 | B15: C相网侧无功功率 | C15: INT16 | D15: 1 | E15: 显示10进制 | G15: kvar
A16: 21 | B16: 网侧无功功率总 | C16: INT16 | D16: 1 | E16: 显示10进制 | G16: kvar
A17: 22 | B17: A相网侧视在功率 | C17: UINT16 | D17: 1 | E17: 显示10进制 | G17: kVA
A18: 23 | B18: B相网侧视在功率 | C18: UINT16 | D18: 1 | E18: 显示10进制 | G18: kVA
A19: 24 | B19: C相网侧视在功率 | C19: UINT16 | D19: 1 | E19: 显示10进制 | G19: kVA
A20: 25 | B20: 网侧视在功率总 | C20: UINT16 | D20: 1 | E20: 显示10进制 | G20: kVA
A21: 26 | B21: A相网侧功率因数 | C21: INT16 | D21: 4 | E21: 显示10进制 | G21: -
A22: 27 | B22: B相网侧功率因数 | C22: INT16 | D22: 4 | E22: 显示10进制 | G22: -
A23: 28 | B23: C相网侧功率因数 | C23: INT16 | D23: 4 | E23: 显示10进制 | G23: -
... A32: 37 | B32: 陕西645协议运行状态字 | C32: UINT16 | D32: 0 | E32: 显示10进制 | G32: -

Sheet 通信地址表
A1: 地址域 | B1: Modbus功能码 | C1: 是否多地址 | D1: 寄存器地址 | E1: 一类标题 | F1: 二类标题 | G1: 数据名 | H1: 读 | I1: 写 | J1: 数据类型 | K1: 小数位 | L1: 单位 | M1: 解析方式 | N1: 解析规则 | O1: 是否记录 | P1: 超级用户权限 | Q1: 3761FN | R1: 协议版本:33
A2: 00 | B2: 03 | C2: N | D2: 206 | E2: 主页 | F2: 设备类型 | G2: 设备类型 | H2: Y | I2: N | J2: UINT16 | K2: 0 | M2: 枚举解析 | N2: 0-FVR 1-MVR 2-SVG30 3-AUC30 4-SVG10C 5-智能电容器 6-SVG50/100 7-光伏逆变器2.1 8-PCS105 | O2: N | P2: N
A3: 00 | B3: 03 | C3: N | D3: 208 | E3: 主页 | F3: 设备状态 | G3: 设备状态 | H3: Y | I3: N | J3: UINT16 | K3: 0 | M3: 枚举解析 | N3: 0-离线 1-停机 2-自检 3-准备 4-运行 5-故障 6-关机 | O3: N | P3: N
A4: 00 | B4: 03 | C4: N | D4: 100 | E4: 主页 | F4: 工作模式 | G4: 工作模式 | H4: Y | I4: Y | J4: UINT16 | K4: 0 | M4: 枚举解析 | N4: 0-并网模式 1-恒流模式 | O4: N | P4: N
A5: 00 | B5: 03 | C5: N | D5: 13 | E5: 主页 | F5: 设备地址 | G5: 行政区域码 | H5: Y | I5: Y | J5: BCD | K5: 0 | M5: 显示数值 | O5: N | P5: N
A6: 00 | B6: 03 | C6: N | D6: 14 | E6: 主页 | F6: 设备地址 | G6: 终端地址 | H6: Y | I6: Y | J6: BCD | K6: 0 | M6: 显示数值 | O6: N | P6: N
A7: 00 | B7: 06 | C7: N | D7: 50 | E7: 主页 | F7: 操作 | G7: 设备开机 | H7: N | I7: Y | J7: UINT16 | K7: 0 | M7: 按钮开关 | O7: N | P7: N
A8: 00 | B8: 06 | C8: N | D8: 51 | E8: 主页 | F8: 操作 | G8: 设备关机 | H8: N | I8: Y | J8: UINT16 | K8: 0 | M8: 按钮开关 | O8: N | P8: N
A9: 00 | B9: 06 | C9: N | D9: 52 | E9: 主页 | F9: 操作 | G9: 故障复位 | H9: N | I9: Y | J9: UINT16 | K9: 0 | M9: 按钮开关 | O9: N | P9: N
A10: 00 | B10: 03 | C10: N | D10: 206 | E10: 设备状态 | F10: 通用信息 | G10: 设备类型 | H10: Y | I10: N | J10: UINT16 | K10: 0 | M10: 枚举解析 | N10: 0-FVR 1-MVR 2-SVG30 3-AUC30 4-SVG10C 5-智能电容器 6-SVG50/100 7-光伏逆变器2.1 8-PCS105 | O10: N | P10: N
A11: 00 | B11: 03 | C11: N | D11: 13 | E11: 设备状态 | F11: 通用信息 | G11: 行政区域码 | H11: Y | I11: Y | J11: BCD | K11: 0 | M11: 显示数值 | O11: N | P11: N
A12: 00 | B12: 03 | C12: N | D12: 14 | E12: 设备状态 | F12: 通用信息 | G12: 终端地址 | H12: Y | I12: Y | J12: BCD | K12: 0 | M12: 显示数值 | O12: N | P12: N
A13: 00 | B13: 03 | C13: N | D13: 15 | E13: 设备状态 | F13: 通用信息 | G13: 对外串口波特率 | H13: Y | I13: Y | J13: UINT16 | K13: 0 | M13: 枚举解析 | N13: 0-115200 1-38400 2-19200 3-9600 4-4800 5-2400 | O13: N | P13: N
A14: 00 | B14: 03 | C14: N | D14: 16 | E14: 设备状态 | F14: 通用信息 | G14: 载波协议类型 | H14: Y | I14: Y | J14: UINT16 | K14: 0 | M14: 枚举解析 | N14: 0-645协议 1-698协议 | O14: N | P14: N
A15: 00 | B15: 03 | C15: N | D15: 17 | E15: 设备状态 | F15: 通用信息 | G15: 645协议版本 | H15: Y | I15: Y | J15: UINT16 | K15: 0 | M15: 枚举解析 | N15: 0-鼎信私有协议 1-陕西协议 | O15: N | P15: N
A16: 00 | B16: 03 | C16: Y | D16: 18-19 | E16: 设备状态 | F16: 通用信息 | G16: 0级密码 | H16: Y | I16: Y | J16: BCD | K16: 0 | M16: 显示数值 | O16: N | P16: N
A17: 00 | B17: 03 | C17: Y | D17: 20-21 | E17: 设备状态 | F17: 通用信息 | G17: 1级密码 | H17: Y | I17: Y | J17: BCD | K17: 0 | M17: 显示数值 | O17: N | P17: N
A18: 00 | B18: 03 | C18: Y | D18: 22-23 | E18: 设备状态 | F18: 通用信息 | G18: 2级密码 | H18: Y | I18: Y | J18: BCD | K18: 0 | M18: 显示数值 | O18: N | P18: N
A19: 00 | B19: 03 | C19: Y | D19: 24-26 | E19: 设备状态 | F19: 通用信息 | G19: 户号 | H19: Y | I19: Y | J19: BCD | K19: 0 | M19: 显示数值 | O19: N | P19: N
A20: 00 | B20: 03 | C20: Y | D20: 27-29 | E20: 设备状态 | F20: 通用信息 | G20: 虚拟电厂编号 | H20: Y | I20: Y | J20: BCD | K20: 0 | M20: 显示数值 | O20: N | P20: N
A21: 00 | B21: 03 | C21: N | D21: 30 | E21: 设备状态 | F21: 通用信息 | G21: 漏电流直流偏置AD值 | H21: Y | I21: Y | J21: UINT16 | K21: 0 | M21: 显示数值 | O21: N | P21: N
A22: 00 | B22: 03 | C22: N | D22: 31 | E22: 设备状态 | F22: 通用信息 | G22: 漏电流校准系数 | H22: Y | I22: Y | J22: UINT16 | K22: 0 | M22: 显示数值 | O22: N | P22: N
A23: 00 | B23: 03 | C23: N | D23: 44 | E23: 设备状态 | F23: 通用信息 | G23: 漏电流内部参考值 | H23: Y | I23: Y | J23: UINT16 | K23: 0 | L23: mA | M23: 显示数值 | O23: N | P23: N
A24: 00 | B24: 03 | C24: Y | D24: 32-37 | E24: 设备状态 | F24: 通用信息 | G24: 国网地址 | H24: Y | I24: Y | J24: BCD | K24: 0 | M24: 显示数值 | O24: N | P24: N
A25: 00 | B25: 03 | C25: Y | D25: 38-43 | E25: 设备状态 | F25: 通用信息 | G25: 表号（ESAM用） | H25: Y | I25: Y | J25: BCD | K25: 0 | M25: 显示数值 | O25: N | P25: N
A26: 00 | B26: 03 | C26: N | D26: 208 | E26: 设备状态 | F26: 通用信息 | G26: 设备状态 | H26: Y | I26: N | J26: UINT16 | K26: 0 | M26: 枚举解析 | N26: 0-离线 1-停机 2-自检 3-准备 4-运行 5-故障 6-关机 | O26: N | P26: N
A27: 00 | B27: 03 | C27: N | D27: 209 | E27: 设备状态 | F27: 通用信息 | G27: ARM地址表协议版本号 | H27: Y | I27: N | J27: UINT16 | K27: 0 | M27: 显示数值 | O27: N | P27: N
A28: 00 | B28: 03 | C28: N | D28: 210 | E28: 设备状态 | F28: 通用信息 | G28: CAN并机状态 | H28: Y | I28: N | J28: UINT16 | K28: 0 | M28: 显示数值 | O28: N | P28: N
A29: 00 | B29: 03 | C29: N | D29: 211 | E29: 设备状态 | F29: 通用信息 | G29: CAN并机检测数量 | H29: Y | I29: N | J29: UINT16 | K29: 0 | M29: 显示数值 | O29: N | P29: N
A30: 00 | B30: 03 | C30: N | D30: 4687 | E30: 设备状态 | F30: 通用信息 | G30: 电压相序显示 | H30: Y | I30: N | J30: UINT16 | K30: 0 | M30: 枚举解析 | N30: 0-正相序 1-逆相序 2-无相序 | O30: N | P30: N
A31: 00 | B31: 03 | C31: N | D31: 4597 | E31: 设备状态 | F31: 通用信息 | G31: 装置额定有功功率（设备容量） | H31: Y | I31: N | J31: UINT16 | K31: 0 | L31: kW | M31: 显示数值 | O31: N | P31: N
A32: 00 | B32: 03 | C32: N | D32: 4598 | E32: 设备状态 | F32: 通用信息 | G32: 装置额定无功功率 | H32: Y | I32: N | J32: UINT16 | K32: 0 | L32: kvar | M32: 显示数值 | O32: N | P32: N
A33: 00 | B33: 03 | C33: N | D33: 4607 | E33: 设备状态 | F33: 通用信息 | G33: DSP使用地址表协议版本号 | H33: Y | I33: N | J33: UINT16 | K33: 0 | M33: 显示数值 | O33: N | P33: N
A34: 00 | B34: 03 | C34: N | D34: 4610 | E34: 设备状态 | F34: 通用信息 | G34: 相数 | H34: Y | I34: N | J34: UINT16 | K34: 0 | M34: 枚举解析 | N34: 0-单相 1-三相 | O34: N | P34: N
A35: 00 | B35: 03 | C35: N | D35: 4688 | E35: 设备状态 | F35: 状态标签 | G35: MPPT1状态 | H35: Y | I35: N | J35: UINT16 | K35: 0 | M35: 枚举解析 | N35: 0-待机 1-曲线扫描 2-BST功率追踪 3-旁路 4-稳压 5-恒流 | O35: N | P35: N
A36: 00 | B36: 03 | C36: N | D36: 4689 | E36: 设备状态 | F36: 状态标签 | G36: MPPT2状态 | H36: Y | I36: N | J36: UINT16 | K36: 0 | M36: 枚举解析 | N36: 0-待机 1-曲线扫描 2-BST功率追踪 3-旁路 4-稳压 5-恒流 | O36: N | P36: N
A37: 00 | B37: 03 | C37: N | D37: 4690 | E37: 设备状态 | F37: 状态标签 | G37: 显示运行模式 | H37: Y | I37: N | J37: UINT16 | K37: 0 | M37: 枚举解析 | N37: 0-模式预留 | O37: N | P37: N
A38: 00 | B38: 03 | C38: N | D38: 4691 | E38: 设备状态 | F38: 状态标签 | G38: 故障状态标志 | H38: Y | I38: N | J38: UINT16 | K38: 0 | M38: 枚举解析 | N38: 0-非严重故障 1-严重故障 | O38: N | P38: N
A39: 00 | B39: 03 | C39: N | D39: 4692 | E39: 设备状态 | F39: 状态标签 | G39: 逻辑状态标签 | H39: Y | I39: N | J39: UINT16 | K39: 0 | M39: 显示数值 | O39: N | P39: N
A40: 00 | B40: 03 | C40: N | D40: 4693 | E40: 设备状态 | F40: 状态标签 | G40: 节能状态标签 | H40: Y | I40: N | J40: UINT16 | K40: 0 | M40: 显示数值 | O40: N | P40: N
A41: 00 | B41: 03 | C41: N | D41: 4694 | E41: 设备状态 | F41: 状态标签 | G41: 锁相状态标签 | H41: Y | I41: N | J41: UINT16 | K41: 0 | M41: 显示数值 | O41: N | P41: N
A42: 00 | B42: 03 | C42: N | D42: 4695 | E42: 设备状态 | F42: 状态标签 | G42: 辅助状态标签 | H42: Y | I42: N | J42: UINT16 | K42: 0 | M42: 显示数值 | O42: N | P42: N
A43: 00 | B43: 03 | C43: N | D43: 4696 | E43: 设备状态 | F43: 状态标签 | G43: 过温半载运行标签 | H43: Y | I43: N | J43: UINT16 | K43: 0 | M43: 显示数值 | O43: N | P43: N
A44: 00 | B44: 03 | C44: N | D44: 4697 | E44: 设备状态 | F44: 状态标签 | G44: DSP直流灯状态指示 | H44: Y | I44: N | J44: UINT16 | K44: 0 | M44: 枚举解析 | N44: 0-灭（未上电） 1- 绿色慢闪（上电） 2-绿色常亮（并网运行） 3-红色快闪（环境告警） 4-红色常亮（故障） | O44: N | P44: N
A45: 00 | B45: 03 | C45: N | D45: 4698 | E45: 设备状态 | F45: 状态标签 | G45: DSP交流灯状态指示 | H45: Y | I45: N | J45: UINT16 | K45: 0 | M45: 枚举解析 | N45: 0-灭（未上电） 1- 绿色慢闪（上电） 2-绿色常亮（并网运行） 3-红色快闪（环境告警） 4-红色常亮（故障） | O45: N | P45: N
A46: 00 | B46: 03 | C46: N | D46: 4699 | E46: 设备状态 | F46: 状态标签 | G46: 设备调制状态 | H46: Y | I46: N | J46: UINT16 | K46: 0 | M46: 显示数值 | O46: N | P46: N
A47: 00 | B47: 03 | C47: N | D47: 4700 | E47: 设备状态 | F47: 状态标签 | G47: MPPT3状态 | H47: Y | I47: N | J47: UINT16 | K47: 0 | M47: 枚举解析 | N47: 0-待机 1-曲线扫描 2-BST功率追踪 3-旁路 4-稳压 5-恒流 | O47: N | P47: N
A48: 00 | B48: 03 | C48: N | D48: 4701 | E48: 设备状态 | F48: 状态标签 | G48: MPPT4状态 | H48: Y | I48: N | J48: UINT16 | K48: 0 | M48: 枚举解析 | N48: 0-待机 1-曲线扫描 2-BST功率追踪 3-旁路 4-稳压 5-恒流 | O48: N | P48: N
A49: 00 | B49: 03 | C49: N | D49: 4702 | E49: 设备状态 | F49: 状态标签 | G49: 过温限功率状态 | H49: Y | I49: N | J49: UINT16 | K49: 0 | M49: 枚举解析 | N49: 0：未降额 1：降额 | O49: N | P49: N
A50: 00 | B50: 03 | C50: N | D50: 700 | E50: 设备状态 | F50: 状态标签 | G50: ARM逻辑状态 | H50: Y | I50: N | J50: UINT16 | K50: 0 | M50: 显示数值 | O50: N | P50: N
A51: 00 | B51: 03 | C51: N | D51: 701 | E51: 设备状态 | F51: 状态标签 | G51: ARM运行状态 | H51: Y | I51: N | J51: UINT16 | K51: 0 | M51: 枚举解析 | N51: 0-离线 1-停机 2-自检 3-准备 4-运行 5-故障 6-关机 | O51: N | P51: N
A52: 00 | B52: 03 | C52: N | D52: 702 | E52: 设备状态 | F52: 状态标签 | G52: DSP运行状态 | H52: Y | I52: N | J52: UINT16 | K52: 0 | M52: 枚举解析 | N52: 0-离线 1-停机 2-自检 3-准备 4-运行 5-故障 6-关机 7-运行(过温降额) 8-运行(冷却系统异常降额) | O52: N | P52: N
A53: 00 | B53: 03 | C53: N | D53: 703 | E53: 设备状态 | F53: 状态标签 | G53: 预留数据1_2 | H53: Y | I53: N | J53: UINT16 | K53: 0 | M53: 显示数值 | O53: N | P53: N
A54: 00 | B54: 03 | C54: N | D54: 704 | E54: 设备状态 | F54: 状态标签 | G54: 预留数据1_3 | H54: Y | I54: N | J54: UINT16 | K54: 0 | M54: 显示数值 | O54: N | P54: N
A55: 00 | B55: 06 | C55: N | D55: 50 | E55: 设备状态 | F55: 通用操作 | G55: 设备开机 | H55: N | I55: Y | J55: UINT16 | K55: 0 | M55: 按钮开关 | O55: N | P55: N
A56: 00 | B56: 06 | C56: N | D56: 51 | E56: 设备状态 | F56: 通用操作 | G56: 设备关机 | H56: N | I56: Y | J56: UINT16 | K56: 0 | M56: 按钮开关 | O56: N | P56: N
A57: 00 | B57: 06 | C57: N | D57: 52 | E57: 设备状态 | F57: 通用操作 | G57: 故障复位 | H57: N | I57: Y | J57: UINT16 | K57: 0 | M57: 按钮开关 | O57: N | P57: N
A58: 00 | B58: 06 | C58: N | D58: 53 | E58: 设备状态 | F58: 通用操作 | G58: 解锁特殊操作 | H58: N | I58: Y | J58: UINT16 | K58: 0 | M58: 按钮开关 | O58: N | P58: N
A59: 00 | B59: 06 | C59: N | D59: 54 | E59: 设备状态 | F59: 通用操作 | G59: 设备重启 | H59: N | I59: Y | J59: UINT16 | K59: 0 | M59: 按钮开关 | O59: N | P59: N
A60: 00 | B60: 06 | C60: N | D60: 55 | E60: 设备状态 | F60: 通用操作 | G60: 功率单元自检(调试) | H60: N | I60: Y | J60: UINT16 | K60: 0 | M60: 按钮开关 | O60: N | P60: N
A61: 00 | B61: 06 | C61: N | D61: 56 | E61: 设备状态 | F61: 通用操作 | G61: 功率单元重启 | H61: N | I61: Y | J61: UINT16 | K61: 0 | M61: 按钮开关 | O61: N | P61: N
A62: 00 | B62: 06 | C62: N | D62: 57 | E62: 设备状态 | F62: 通用操作 | G62: 功率单元强制复位 | H62: N | I62: Y | J62: UINT16 | K62: 0 | M62: 按钮开关 | O62: N | P62: N
A63: 00 | B63: 06 | C63: N | D63: 58 | E63: 设备状态 | F63: 通用操作 | G63: 参数还原 | H63: N | I63: Y | J63: UINT16 | K63: 0 | M63: 按钮开关 | O63: N | P63: N
A64: 00 | B64: 06 | C64: N | D64: 59 | E64: 设备状态 | F64: 通用操作 | G64: 复位4G | H64: N | I64: Y | J64: UINT16 | K64: 0 | M64: 按钮开关 | O64: N | P64: N
... A83: 00 | B83: 06 | C83: N | D83: 78 | E83: 设备状态 | F83: 通用操作 | G83: 恢复出厂设置 | H83: N | I83: Y | J83: UINT16 | K83: 0 | M83: 按钮开关 | O83: N | P83: N
A84: 00 | B84: 03 | C84: N | D84: 4716 | E84: 测量显示 | F84: 交采数据 | G84: 电网频率 | H84: Y | I84: N | J84: UINT16 | K84: 3 | L84: Hz | M84: 显示数值 | O84: N | P84: N
A85: 00 | B85: 03 | C85: N | D85: 4717 | E85: 测量显示 | F85: 交采数据 | G85: 总母线电压avg | H85: Y | I85: N | J85: INT16 | K85: 1 | L85: V | M85: 显示数值 | O85: N | P85: N
A86: 00 | B86: 03 | C86: N | D86: 4718 | E86: 测量显示 | F86: 交采数据 | G86: 上母线电压avg | H86: Y | I86: N | J86: INT16 | K86: 1 | L86: V | M86: 显示数值 | O86: N | P86: N
A87: 00 | B87: 03 | C87: N | D87: 4719 | E87: 测量显示 | F87: 交采数据 | G87: 下母线电压_avg | H87: Y | I87: N | J87: INT16 | K87: 1 | L87: V | M87: 显示数值 | O87: N | P87: N
A88: 00 | B88: 03 | C88: N | D88: 4720 | E88: 测量显示 | F88: 交采数据 | G88: 电网电压A_RMS | H88: Y | I88: N | J88: UINT16 | K88: 2 | L88: V | M88: 显示数值 | O88: N | P88: N
A89: 00 | B89: 03 | C89: N | D89: 4721 | E89: 测量显示 | F89: 交采数据 | G89: 电网电压B_RMS | H89: Y | I89: N | J89: UINT16 | K89: 2 | L89: V | M89: 显示数值 | O89: N | P89: N
A90: 00 | B90: 03 | C90: N | D90: 4722 | E90: 测量显示 | F90: 交采数据 | G90: 电网电压C_RMS | H90: Y | I90: N | J90: UINT16 | K90: 2 | L90: V | M90: 显示数值 | O90: N | P90: N
A91: 00 | B91: 03 | C91: N | D91: 4723 | E91: 测量显示 | F91: 交采数据 | G91: 逆变阻尼电压A_RMS | H91: Y | I91: N | J91: UINT16 | K91: 2 | L91: V | M91: 显示数值 | O91: N | P91: N
A92: 00 | B92: 03 | C92: N | D92: 4724 | E92: 测量显示 | F92: 交采数据 | G92: 逆变阻尼电压B_RMS | H92: Y | I92: N | J92: UINT16 | K92: 2 | L92: V | M92: 显示数值 | O92: N | P92: N
A93: 00 | B93: 03 | C93: N | D93: 4725 | E93: 测量显示 | F93: 交采数据 | G93: 逆变阻尼电压C_RMS | H93: Y | I93: N | J93: UINT16 | K93: 2 | L93: V | M93: 显示数值 | O93: N | P93: N
A94: 00 | B94: 03 | C94: N | D94: 4726 | E94: 测量显示 | F94: 交采数据 | G94: 逆变电流A_RMS | H94: Y | I94: N | J94: UINT16 | K94: 2 | L94: A | M94: 显示数值 | O94: N | P94: N
A95: 00 | B95: 03 | C95: N | D95: 4727 | E95: 测量显示 | F95: 交采数据 | G95: 逆变电流B_RMS | H95: Y | I95: N | J95: UINT16 | K95: 2 | L95: A | M95: 显示数值 | O95: N | P95: N
... A99: 00 | B99: 03 | C99: N | D99: 4731 | E99: 测量显示 | F99: 交采数据 | G99: LCL电容电流C_RMS | H99: Y | I99: N | J99: UINT16 | K99: 1 | L99: A | M99: 显示数值 | O99: N | P99: N
A100: 00 | B100: 03 | C100: N | D100: 4732 | E100: 测量显示 | F100: 交采数据 | G100: 预留数据2_7 | H100: Y | I100: N | J100: UINT16 | K100: 1 | M100: 显示数值 | O100: N | P100: N
A101: 00 | B101: 03 | C101: N | D101: 4733 | E101: 测量显示 | F101: 交采数据 | G101: 预留数据2_8 | H101: Y | I101: N | J101: UINT16 | K101: 1 | M101: 显示数值 | O101: N | P101: N
A102: 00 | B102: 03 | C102: N | D102: 4734 | E102: 测量显示 | F102: 交采数据 | G102: 预留数据2_9 | H102: Y | I102: N | J102: UINT16 | K102: 1 | M102: 显示数值 | O102: N | P102: N
A103: 00 | B103: 03 | C103: N | D103: 4735 | E103: 测量显示 | F103: 交采数据 | G103: BOOST输入电压1路 | H103: Y | I103: N | J103: UINT16 | K103: 1 | L103: V | M103: 显示数值 | O103: N | P103: N
A104: 00 | B104: 03 | C104: N | D104: 4736 | E104: 测量显示 | F104: 交采数据 | G104: BOOST输入电压2路 | H104: Y | I104: N | J104: UINT16 | K104: 1 | L104: V | M104: 显示数值 | O104: N | P104: N
A105: 00 | B105: 03 | C105: N | D105: 4737 | E105: 测量显示 | F105: 交采数据 | G105: BOOST输入电压3路 | H105: Y | I105: N | J105: UINT16 | K105: 1 | L105: V | M105: 显示数值 | O105: N | P105: N
A106: 00 | B106: 03 | C106: N | D106: 4738 | E106: 测量显示 | F106: 交采数据 | G106: BOOST输入电压4路 | H106: Y | I106: N | J106: UINT16 | K106: 1 | L106: V | M106: 显示数值 | O106: N | P106: N
A107: 00 | B107: 03 | C107: N | D107: 4739 | E107: 测量显示 | F107: 交采数据 | G107: 1路BOOST组串电流1 | H107: Y | I107: N | J107: INT16 | K107: 2 | L107: A | M107: 显示数值 | O107: N | P107: N
A108: 00 | B108: 03 | C108: N | D108: 4740 | E108: 测量显示 | F108: 交采数据 | G108: 2路BOOST组串电流1 | H108: Y | I108: N | J108: INT16 | K108: 2 | L108: A | M108: 显示数值 | O108: N | P108: N
A109: 00 | B109: 03 | C109: N | D109: 4741 | E109: 测量显示 | F109: 交采数据 | G109: 3路BOOST组串电流1 | H109: Y | I109: N | J109: INT16 | K109: 2 | L109: A | M109: 显示数值 | O109: N | P109: N
A110: 00 | B110: 03 | C110: N | D110: 4742 | E110: 测量显示 | F110: 交采数据 | G110: 4路BOOST组串电流1 | H110: Y | I110: N | J110: INT16 | K110: 2 | L110: A | M110: 显示数值 | O110: N | P110: N
A111: 00 | B111: 03 | C111: N | D111: 4743 | E111: 测量显示 | F111: 交采数据 | G111: BOOST电感电流1路 | H111: Y | I111: N | J111: INT16 | K111: 2 | L111: A | M111: 显示数值 | O111: N | P111: N
A112: 00 | B112: 03 | C112: N | D112: 4744 | E112: 测量显示 | F112: 交采数据 | G112: BOOST电感电流2路 | H112: Y | I112: N | J112: INT16 | K112: 2 | L112: A | M112: 显示数值 | O112: N | P112: N
A113: 00 | B113: 03 | C113: N | D113: 4745 | E113: 测量显示 | F113: 交采数据 | G113: BOOST电感电流3路 | H113: Y | I113: N | J113: INT16 | K113: 2 | L113: A | M113: 显示数值 | O113: N | P113: N
A114: 00 | B114: 03 | C114: N | D114: 4746 | E114: 测量显示 | F114: 交采数据 | G114: BOOST电感电流4路 | H114: Y | I114: N | J114: INT16 | K114: 2 | L114: A | M114: 显示数值 | O114: N | P114: N
... A121: 00 | B121: 03 | C121: N | D121: 4753 | E121: 测量显示 | F121: 交采数据 | G121: 4路BOOST组串电流2 | H121: Y | I121: N | J121: INT16 | K121: 2 | L121: A | M121: 显示数值 | O121: N | P121: N
A122: 00 | B122: 03 | C122: N | D122: 4772 | E122: 测量显示 | F122: 交采数据 | G122: 预留数据2_1 | H122: Y | I122: N | J122: UINT16 | K122: 0 | M122: 显示数值 | O122: N | P122: N
A123: 00 | B123: 03 | C123: N | D123: 4773 | E123: 测量显示 | F123: 交采数据 | G123: 预留数据2_2 | H123: Y | I123: N | J123: UINT16 | K123: 0 | M123: 显示数值 | O123: N | P123: N
A124: 00 | B124: 03 | C124: N | D124: 4774 | E124: 测量显示 | F124: 交采数据 | G124: 预留数据2_3 | H124: Y | I124: N | J124: UINT16 | K124: 0 | M124: 显示数值 | O124: N | P124: N
A125: 00 | B125: 03 | C125: N | D125: 4775 | E125: 测量显示 | F125: 交采数据 | G125: 预留数据2_4 | H125: Y | I125: N | J125: UINT16 | K125: 0 | M125: 显示数值 | O125: N | P125: N
A126: 00 | B126: 03 | C126: N | D126: 4776 | E126: 测量显示 | F126: 交采数据 | G126: 预留数据2_5 | H126: Y | I126: N | J126: UINT16 | K126: 0 | M126: 显示数值 | O126: N | P126: N
A127: 00 | B127: 03 | C127: N | D127: 4777 | E127: 测量显示 | F127: 交采数据 | G127: 预留数据2_6 | H127: Y | I127: N | J127: UINT16 | K127: 0 | M127: 显示数值 | O127: N | P127: N
...
